{"text_format":"1","workbook":"xlsx","n_sheets":19,"sheets":["Map Tobacco Tax Return","Map TT-1A","Map TT-1B","Map TT-1C","MapTT-2A","MapTT-2B","MapTT-2C","MapTT-3","MapTT-4","MapTT-5","Acerno_Cache_XXXXX","Map Tobacco Tax Return_2","Tobacco Tax Return","TT-1 Imports & Non-tax Memo ","TT-2 Tax Memo Purchases","TT-3 Exports","TT-4  Tax Memo Sales","TT-5 Tax ($) Adjustments","Instruction Guide"],"not_rendered":{"charts":0,"images":17,"macros":1,"external_links":0,"defined_names":14,"comments":0,"pivot_tables":0},"unopened":[],"bounds":{"document_bytes":16777216,"sheet_cells":100000,"rows_first":2000,"rows_last":500,"rows_between":2000,"halvings":0,"cell_chars":16384,"cell_head_chars":4096},"cells_cut":0,"cells_raw":0,"read":"whole","date_system":"1900"}

{"sheet":"Map Tobacco Tax Return","index":0,"n_rows":14,"n_cols":12,"rows_kept":14,"cut":false,"hidden":true,"merged":[]}
["Opening Untaxed Inventory",{"$f":"IF('Tobacco Tax Return'!E11<>\"\",'Tobacco Tax Return'!E11,0)","v":0},{"$f":"IF('Tobacco Tax Return'!F11 <> \"\", 'Tobacco Tax Return'!F11,0)","v":0},{"$f":"IF('Tobacco Tax Return'!G11 <> \"\", 'Tobacco Tax Return'!G11,0)","v":0},0,{"$f":"IF('Tobacco Tax Return'!J11<>\"\",'Tobacco Tax Return'!J11,0)","v":0},{"$f":"IF('Tobacco Tax Return'!L11<>\"\",'Tobacco Tax Return'!L11,0)","v":0},0,{"$f":"IF('Tobacco Tax Return'!N11 <> \"\", 'Tobacco Tax Return'!N11,0)","v":0},{"$f":"IF('Tobacco Tax Return'!O11 <> \"\", 'Tobacco Tax Return'!O11,0)","v":0},{"$f":"IF('Tobacco Tax Return'!P11 <> \"\", 'Tobacco Tax Return'!P11,0)","v":0},{"$f":"IF('Tobacco Tax Return'!Q11 <> \"\", 'Tobacco Tax Return'!Q11,0)","v":0}]
["Manufactured",{"$f":"IF('Tobacco Tax Return'!E12<>\"\",'Tobacco Tax Return'!E12,0)","v":0},{"$f":"IF('Tobacco Tax Return'!F12 <> \"\", 'Tobacco Tax Return'!F12,0)","v":0},{"$f":"IF('Tobacco Tax Return'!G12 <> \"\", 'Tobacco Tax Return'!G12,0)","v":0},{"$f":"IF('Tobacco Tax Return'!H12<>\"\",'Tobacco Tax Return'!H12,0)","v":0},{"$f":"IF('Tobacco Tax Return'!J12<>\"\",'Tobacco Tax Return'!J12,0)","v":0},{"$f":"IF('Tobacco Tax Return'!L12<>\"\",'Tobacco Tax Return'!L12,0)","v":0},{"$f":"IF('Tobacco Tax Return'!M12 <> \"\", 'Tobacco Tax Return'!M12,0)","v":0},{"$f":"IF('Tobacco Tax Return'!N12 <> \"\", 'Tobacco Tax Return'!N12,0)","v":0},{"$f":"IF('Tobacco Tax Return'!O12 <> \"\", 'Tobacco Tax Return'!O12,0)","v":0},{"$f":"IF('Tobacco Tax Return'!P12 <> \"\", 'Tobacco Tax Return'!P12,0)","v":0},{"$f":"IF('Tobacco Tax Return'!Q12 <> \"\", 'Tobacco Tax Return'!Q12,0)","v":0}]
["Imports or Non-Tax Memo Purchases",{"$f":"IF('Tobacco Tax Return'!E13<>\"\",'Tobacco Tax Return'!E13,0)","v":0},{"$f":"IF('Tobacco Tax Return'!F13 <> \"\", 'Tobacco Tax Return'!F13,0)","v":0},{"$f":"IF('Tobacco Tax Return'!G13 <> \"\", 'Tobacco Tax Return'!G13,0)","v":0},{"$f":"IF('Tobacco Tax Return'!H13<>\"\",'Tobacco Tax Return'!H13,0)","v":0},{"$f":"IF('Tobacco Tax Return'!J13<>\"\",'Tobacco Tax Return'!J13,0)","v":0},{"$f":"IF('Tobacco Tax Return'!L13<>\"\",'Tobacco Tax Return'!L13,0)","v":0},{"$f":"IF('Tobacco Tax Return'!M13 <> \"\", 'Tobacco Tax Return'!M13,0)","v":0},{"$f":"IF('Tobacco Tax Return'!N13 <> \"\", 'Tobacco Tax Return'!N13,0)","v":0},{"$f":"IF('Tobacco Tax Return'!O13 <> \"\", 'Tobacco Tax Return'!O13,0)","v":0},{"$f":"IF('Tobacco Tax Return'!P13 <> \"\", 'Tobacco Tax Return'!P13,0)","v":0},{"$f":"IF('Tobacco Tax Return'!Q13 <> \"\", 'Tobacco Tax Return'!Q13,0)","v":0}]
["Tax Memo Purchases",{"$f":"IF('Tobacco Tax Return'!E14<>\"\",'Tobacco Tax Return'!E14,0)","v":0},{"$f":"IF('Tobacco Tax Return'!F14 <> \"\", 'Tobacco Tax Return'!F14,0)","v":0},{"$f":"IF('Tobacco Tax Return'!G14 <> \"\", 'Tobacco Tax Return'!G14,0)","v":0},{"$f":"IF('Tobacco Tax Return'!H14<>\"\",'Tobacco Tax Return'!H14,0)","v":0},{"$f":"IF('Tobacco Tax Return'!J14<>\"\",'Tobacco Tax Return'!J14,0)","v":0},{"$f":"IF('Tobacco Tax Return'!L14<>\"\",'Tobacco Tax Return'!L14,0)","v":0},{"$f":"IF('Tobacco Tax Return'!M14 <> \"\", 'Tobacco Tax Return'!M14,0)","v":0},{"$f":"IF('Tobacco Tax Return'!N14 <> \"\", 'Tobacco Tax Return'!N14,0)","v":0},{"$f":"IF('Tobacco Tax Return'!O14 <> \"\", 'Tobacco Tax Return'!O14,0)","v":0},{"$f":"IF('Tobacco Tax Return'!P14 <> \"\", 'Tobacco Tax Return'!P14,0)","v":0},{"$f":"IF('Tobacco Tax Return'!Q14 <> \"\", 'Tobacco Tax Return'!Q14,0)","v":0}]
["Closing Untaxed Inventory",{"$f":"IF('Tobacco Tax Return'!E15<>\"\",'Tobacco Tax Return'!E15,0)","v":0},{"$f":"IF('Tobacco Tax Return'!F15 <> \"\", 'Tobacco Tax Return'!F15,0)","v":0},{"$f":"IF('Tobacco Tax Return'!G15 <> \"\", 'Tobacco Tax Return'!G15,0)","v":0},0,{"$f":"IF('Tobacco Tax Return'!J15<>\"\",'Tobacco Tax Return'!J15,0)","v":0},{"$f":"IF('Tobacco Tax Return'!L15<>\"\",'Tobacco Tax Return'!L15,0)","v":0},0,{"$f":"IF('Tobacco Tax Return'!N15 <> \"\", 'Tobacco Tax Return'!N15,0)","v":0},{"$f":"IF('Tobacco Tax Return'!O15 <> \"\", 'Tobacco Tax Return'!O15,0)","v":0},{"$f":"IF('Tobacco Tax Return'!P15 <> \"\", 'Tobacco Tax Return'!P15,0)","v":0},{"$f":"IF('Tobacco Tax Return'!Q15 <> \"\", 'Tobacco Tax Return'!Q15,0)","v":0}]
["Total Accountable Volumes",{"$f":"IF('Tobacco Tax Return'!E16<>\"\",'Tobacco Tax Return'!E16,0)","v":0},{"$f":"IF('Tobacco Tax Return'!F16 <> \"\", 'Tobacco Tax Return'!F16,0)","v":0},{"$f":"IF('Tobacco Tax Return'!G16 <> \"\", 'Tobacco Tax Return'!G16,0)","v":0},{"$f":"IF('Tobacco Tax Return'!H16<>\"\",'Tobacco Tax Return'!H16,0)","v":0},{"$f":"IF('Tobacco Tax Return'!J16<>\"\",'Tobacco Tax Return'!J16,0)","v":0},{"$f":"IF('Tobacco Tax Return'!L16<>\"\",'Tobacco Tax Return'!L16,0)","v":0},{"$f":"IF('Tobacco Tax Return'!M16 <> \"\", 'Tobacco Tax Return'!M16,0)","v":0},{"$f":"IF('Tobacco Tax Return'!N16 <> \"\", 'Tobacco Tax Return'!N16,0)","v":0},{"$f":"IF('Tobacco Tax Return'!O16 <> \"\", 'Tobacco Tax Return'!O16,0)","v":0},{"$f":"IF('Tobacco Tax Return'!P16 <> \"\", 'Tobacco Tax Return'!P16,0)","v":0},{"$f":"IF('Tobacco Tax Return'!Q16 <> \"\", 'Tobacco Tax Return'!Q16,0)","v":0}]
["Exports",{"$f":"IF('Tobacco Tax Return'!E17<>\"\",'Tobacco Tax Return'!E17,0)","v":0},{"$f":"IF('Tobacco Tax Return'!F17 <> \"\", 'Tobacco Tax Return'!F17,0)","v":0},{"$f":"IF('Tobacco Tax Return'!G17 <> \"\", 'Tobacco Tax Return'!G17,0)","v":0},{"$f":"IF('Tobacco Tax Return'!H17<>\"\",'Tobacco Tax Return'!H17,0)","v":0},{"$f":"IF('Tobacco Tax Return'!J17<>\"\",'Tobacco Tax Return'!J17,0)","v":0},{"$f":"IF('Tobacco Tax Return'!L17<>\"\",'Tobacco Tax Return'!L17,0)","v":0},{"$f":"IF('Tobacco Tax Return'!M17 <> \"\", 'Tobacco Tax Return'!M17,0)","v":0},{"$f":"IF('Tobacco Tax Return'!N17 <> \"\", 'Tobacco Tax Return'!N17,0)","v":0},{"$f":"IF('Tobacco Tax Return'!O17 <> \"\", 'Tobacco Tax Return'!O17,0)","v":0},{"$f":"IF('Tobacco Tax Return'!P17 <> \"\", 'Tobacco Tax Return'!P17,0)","v":0},{"$f":"IF('Tobacco Tax Return'!Q17 <> \"\", 'Tobacco Tax Return'!Q17,0)","v":0}]
["Tax Memo Sales to Other Collectors",{"$f":"IF('Tobacco Tax Return'!E18<>\"\",'Tobacco Tax Return'!E18,0)","v":0},{"$f":"IF('Tobacco Tax Return'!F18 <> \"\", 'Tobacco Tax Return'!F18,0)","v":0},{"$f":"IF('Tobacco Tax Return'!G18 <> \"\", 'Tobacco Tax Return'!G18,0)","v":0},{"$f":"IF('Tobacco Tax Return'!H18<>\"\",'Tobacco Tax Return'!H18,0)","v":0},{"$f":"IF('Tobacco Tax Return'!J18<>\"\",'Tobacco Tax Return'!J18,0)","v":0},{"$f":"IF('Tobacco Tax Return'!L18<>\"\",'Tobacco Tax Return'!L18,0)","v":0},{"$f":"IF('Tobacco Tax Return'!M18 <> \"\", 'Tobacco Tax Return'!M18,0)","v":0},{"$f":"IF('Tobacco Tax Return'!N18 <> \"\", 'Tobacco Tax Return'!N18,0)","v":0},{"$f":"IF('Tobacco Tax Return'!O18 <> \"\", 'Tobacco Tax Return'!O18,0)","v":0},{"$f":"IF('Tobacco Tax Return'!P18 <> \"\", 'Tobacco Tax Return'!P18,0)","v":0},{"$f":"IF('Tobacco Tax Return'!Q18 <> \"\", 'Tobacco Tax Return'!Q18,0)","v":0}]
["Volume Adjustments",{"$f":"IF('Tobacco Tax Return'!E19<>\"\",'Tobacco Tax Return'!E19,0)","v":0},{"$f":"IF('Tobacco Tax Return'!F19 <> \"\", 'Tobacco Tax Return'!F19,0)","v":0},{"$f":"IF('Tobacco Tax Return'!G19 <> \"\", 'Tobacco Tax Return'!G19,0)","v":0},{"$f":"IF('Tobacco Tax Return'!H19<>\"\",'Tobacco Tax Return'!H19,0)","v":0},{"$f":"IF('Tobacco Tax Return'!J19<>\"\",'Tobacco Tax Return'!J19,0)","v":0},{"$f":"IF('Tobacco Tax Return'!L19<>\"\",'Tobacco Tax Return'!L19,0)","v":0},{"$f":"IF('Tobacco Tax Return'!M19 <> \"\", 'Tobacco Tax Return'!M19,0)","v":0},{"$f":"IF('Tobacco Tax Return'!N19 <> \"\", 'Tobacco Tax Return'!N19,0)","v":0},{"$f":"IF('Tobacco Tax Return'!O19 <> \"\", 'Tobacco Tax Return'!O19,0)","v":0},{"$f":"IF('Tobacco Tax Return'!P19 <> \"\", 'Tobacco Tax Return'!P19,0)","v":0},{"$f":"IF('Tobacco Tax Return'!Q19 <> \"\", 'Tobacco Tax Return'!Q19,0)","v":0}]
["Total Taxable Volumes",{"$f":"IF('Tobacco Tax Return'!E20<>\"\",'Tobacco Tax Return'!E20,0)","v":0},{"$f":"IF('Tobacco Tax Return'!F20 <> \"\", 'Tobacco Tax Return'!F20,0)","v":0},{"$f":"IF('Tobacco Tax Return'!G20 <> \"\", 'Tobacco Tax Return'!G20,0)","v":0},{"$f":"IF('Tobacco Tax Return'!H20<>\"\",'Tobacco Tax Return'!H20,0)","v":0},{"$f":"IF('Tobacco Tax Return'!J20<>\"\",'Tobacco Tax Return'!J20,0)","v":0},{"$f":"IF('Tobacco Tax Return'!L20<>\"\",'Tobacco Tax Return'!L20,0)","v":0},{"$f":"IF('Tobacco Tax Return'!M20 <> \"\", 'Tobacco Tax Return'!M20,0)","v":0},{"$f":"IF('Tobacco Tax Return'!N20 <> \"\", 'Tobacco Tax Return'!N20,0)","v":0},{"$f":"IF('Tobacco Tax Return'!O20 <> \"\", 'Tobacco Tax Return'!O20,0)","v":0},{"$f":"IF('Tobacco Tax Return'!P20 <> \"\", 'Tobacco Tax Return'!P20,0)","v":0},{"$f":"IF('Tobacco Tax Return'!Q20 <> \"\", 'Tobacco Tax Return'!Q20,0)","v":0}]
["Tax Rate",{"$f":"IF('Tobacco Tax Return'!E21<>\"\",'Tobacco Tax Return'!E21,0)","v":0.28999999999999998},{"$f":"IF('Tobacco Tax Return'!F21 <> \"\", 'Tobacco Tax Return'!F21,0)","v":0.28999999999999998},{"$f":"IF('Tobacco Tax Return'!G21 <> \"\", 'Tobacco Tax Return'!G21,0)","v":0.35},{"$f":"IF('Tobacco Tax Return'!H21<>\"\",'Tobacco Tax Return'!H21,0)","v":0.28999999999999998},{"$f":"IF('Tobacco Tax Return'!J21<>\"\",'Tobacco Tax Return'!J21,0)","v":0.28999999999999998},{"$f":"IF('Tobacco Tax Return'!L21<>\"\",'Tobacco Tax Return'!L21,0)","v":0.35},0,{"$f":"IF('Tobacco Tax Return'!N21 <> \"\", 'Tobacco Tax Return'!N21,0)","v":0.218},{"$f":"IF('Tobacco Tax Return'!O21 <> \"\", 'Tobacco Tax Return'!O21,0)","v":0.35},{"$f":"IF('Tobacco Tax Return'!P21 <> \"\", 'Tobacco Tax Return'!P21,0)","v":0.35},{"$f":"IF('Tobacco Tax Return'!Q21 <> \"\", 'Tobacco Tax Return'!Q21,0)","v":0}]
["Total Tax Before Adjustments",{"$f":"IF('Tobacco Tax Return'!E22<>\"\",'Tobacco Tax Return'!E22,0)","v":0},{"$f":"IF('Tobacco Tax Return'!F22 <> \"\", 'Tobacco Tax Return'!F22,0)","v":0},{"$f":"IF('Tobacco Tax Return'!G22 <> \"\", 'Tobacco Tax Return'!G22,0)","v":0},{"$f":"IF('Tobacco Tax Return'!H22<>\"\",'Tobacco Tax Return'!H22,0)","v":0},{"$f":"IF('Tobacco Tax Return'!J22<>\"\",'Tobacco Tax Return'!J22,0)","v":0},{"$f":"IF('Tobacco Tax Return'!L22<>\"\",'Tobacco Tax Return'!L22,0)","v":0},{"$f":"IF('Tobacco Tax Return'!M22 <> \"\", 'Tobacco Tax Return'!M22,0)","v":0},{"$f":"IF('Tobacco Tax Return'!N22 <> \"\", 'Tobacco Tax Return'!N22,0)","v":0},{"$f":"IF('Tobacco Tax Return'!O22 <> \"\", 'Tobacco Tax Return'!O22,0)","v":0},{"$f":"IF('Tobacco Tax Return'!P22 <> \"\", 'Tobacco Tax Return'!P22,0)","v":0},{"$f":"IF('Tobacco Tax Return'!Q22 <> \"\", 'Tobacco Tax Return'!Q22,0)","v":0}]
["Tax Adjustments",{"$f":"IF('Tobacco Tax Return'!E23<>\"\",'Tobacco Tax Return'!E23,0)","v":0},{"$f":"IF('Tobacco Tax Return'!F23 <> \"\", 'Tobacco Tax Return'!F23,0)","v":0},{"$f":"IF('Tobacco Tax Return'!G23 <> \"\", 'Tobacco Tax Return'!G23,0)","v":0},{"$f":"IF('Tobacco Tax Return'!H23<>\"\",'Tobacco Tax Return'!H23,0)","v":0},{"$f":"IF('Tobacco Tax Return'!J23<>\"\",'Tobacco Tax Return'!J23,0)","v":0},{"$f":"IF('Tobacco Tax Return'!L23<>\"\",'Tobacco Tax Return'!L23,0)","v":0},{"$f":"IF('Tobacco Tax Return'!M23 <> \"\", 'Tobacco Tax Return'!M23,0)","v":0},{"$f":"IF('Tobacco Tax Return'!N23 <> \"\", 'Tobacco Tax Return'!N23,0)","v":0},{"$f":"IF('Tobacco Tax Return'!O23 <> \"\", 'Tobacco Tax Return'!O23,0)","v":0},{"$f":"IF('Tobacco Tax Return'!P23 <> \"\", 'Tobacco Tax Return'!P23,0)","v":0},{"$f":"IF('Tobacco Tax Return'!Q23 <> \"\", 'Tobacco Tax Return'!Q23,0)","v":0}]
["Total Tax Payable",{"$f":"IF('Tobacco Tax Return'!E24<>\"\",'Tobacco Tax Return'!E24,0)","v":0},{"$f":"IF('Tobacco Tax Return'!F24 <> \"\", 'Tobacco Tax Return'!F24,0)","v":0},{"$f":"IF('Tobacco Tax Return'!G24 <> \"\", 'Tobacco Tax Return'!G24,0)","v":0},{"$f":"IF('Tobacco Tax Return'!H24<>\"\",'Tobacco Tax Return'!H24,0)","v":0},{"$f":"IF('Tobacco Tax Return'!J24<>\"\",'Tobacco Tax Return'!J24,0)","v":0},{"$f":"IF('Tobacco Tax Return'!L24<>\"\",'Tobacco Tax Return'!L24,0)","v":0},{"$f":"IF('Tobacco Tax Return'!M24 <> \"\", 'Tobacco Tax Return'!M24,0)","v":0},{"$f":"IF('Tobacco Tax Return'!N24 <> \"\", 'Tobacco Tax Return'!N24,0)","v":0},{"$f":"IF('Tobacco Tax Return'!O24 <> \"\", 'Tobacco Tax Return'!O24,0)","v":0},{"$f":"IF('Tobacco Tax Return'!P24 <> \"\", 'Tobacco Tax Return'!P24,0)","v":0},{"$f":"IF('Tobacco Tax Return'!Q24 <> \"\", 'Tobacco Tax Return'!Q24,0)","v":0}]

{"sheet":"Map TT-1A","index":1,"n_rows":50,"n_cols":17,"rows_kept":50,"cut":false,"hidden":true,"merged":[]}
[{"$f":"IF('TT-1 Imports & Non-tax Memo '!A11 <> 0, 'TT-1 Imports & Non-tax Memo '!A11, \"\")","v":""},{"$f":"IF('TT-1 Imports & Non-tax Memo '!D11 <> 0, 'TT-1 Imports & Non-tax Memo '!D11, \"\")","v":""},{"$f":"IF('TT-1 Imports & Non-tax Memo '!E11 <> 0, 'TT-1 Imports & Non-tax Memo '!E11, \"\")","v":""},{"$f":"IF('TT-1 Imports & Non-tax Memo '!F11 <> \"\", 'TT-1 Imports & Non-tax Memo '!F11,0)","v":0},{"$f":"IF('TT-1 Imports & Non-tax Memo '!G11 <> \"\", 'TT-1 Imports & Non-tax Memo '!G11,0)","v":0},{"$f":"IF('TT-1 Imports & Non-tax Memo '!H11 <> \"\", 'TT-1 Imports & Non-tax Memo '!H11,0)","v":0},{"$f":"IF('TT-1 Imports & Non-tax Memo '!I11 <> \"\", 'TT-1 Imports & Non-tax Memo '!I11,0)","v":0},{"$f":"IF('TT-1 Imports & Non-tax Memo '!J11 <> \"\", 'TT-1 Imports & Non-tax Memo '!J11,0)","v":0},{"$f":"IF('TT-1 Imports & Non-tax Memo '!K11 <> \"\", 'TT-1 Imports & Non-tax Memo '!K11,0)","v":0},{"$f":"IF('TT-1 Imports & Non-tax Memo '!L11 <> \"\", 'TT-1 Imports & Non-tax Memo '!L11,0)","v":0},{"$f":"IF('TT-1 Imports & Non-tax Memo '!M11 <> \"\", 'TT-1 Imports & Non-tax Memo '!M11,0)","v":0},{"$f":"IF('TT-1 Imports & Non-tax Memo '!N11 <> \"\", 'TT-1 Imports & Non-tax Memo '!N11,0)","v":0},{"$f":"IF('TT-1 Imports & Non-tax Memo '!O11 <> \"\", 'TT-1 Imports & Non-tax Memo '!O11,0)","v":0},{"$f":"IF('TT-1 Imports & Non-tax Memo '!P11 <> \"\", 'TT-1 Imports & Non-tax Memo '!P11,0)","v":0},{"$f":"IF('TT-1 Imports & Non-tax Memo '!Q11 <> \"\", 'TT-1 Imports & Non-tax Memo '!Q11,0)","v":0},{"$f":"IF('TT-1 Imports & Non-tax Memo '!R11 <> \"\", 'TT-1 Imports & Non-tax Memo '!R11,0)","v":0},{"$f":"IF('TT-1 Imports & Non-tax Memo '!S11 <> \"\", 'TT-1 Imports & Non-tax Memo '!S11,0)","v":0}]
[{"$f":"IF('TT-1 Imports & Non-tax Memo '!A12 <> 0, 'TT-1 Imports & Non-tax Memo '!A12, \"\")","v":""},{"$f":"IF('TT-1 Imports & Non-tax Memo '!D12 <> 0, 'TT-1 Imports & Non-tax Memo '!D12, \"\")","v":""},{"$f":"IF('TT-1 Imports & Non-tax Memo '!E12 <> 0, 'TT-1 Imports & Non-tax Memo '!E12, \"\")","v":""},{"$f":"IF('TT-1 Imports & Non-tax Memo '!F12 <> \"\", 'TT-1 Imports & Non-tax Memo '!F12,0)","v":0},{"$f":"IF('TT-1 Imports & Non-tax Memo '!G12 <> \"\", 'TT-1 Imports & Non-tax Memo '!G12,0)","v":0},{"$f":"IF('TT-1 Imports & Non-tax Memo '!H12 <> \"\", 'TT-1 Imports & Non-tax Memo '!H12,0)","v":0},{"$f":"IF('TT-1 Imports & Non-tax Memo '!I12 <> \"\", 'TT-1 Imports & Non-tax Memo '!I12,0)","v":0},{"$f":"IF('TT-1 Imports & Non-tax Memo '!J12 <> \"\", 'TT-1 Imports & Non-tax Memo '!J12,0)","v":0},{"$f":"IF('TT-1 Imports & Non-tax Memo '!K12 <> \"\", 'TT-1 Imports & Non-tax Memo '!K12,0)","v":0},{"$f":"IF('TT-1 Imports & Non-tax Memo '!L12 <> \"\", 'TT-1 Imports & Non-tax Memo '!L12,0)","v":0},{"$f":"IF('TT-1 Imports & Non-tax Memo '!M12 <> \"\", 'TT-1 Imports & Non-tax Memo '!M12,0)","v":0},{"$f":"IF('TT-1 Imports & Non-tax Memo '!N12 <> \"\", 'TT-1 Imports & Non-tax Memo '!N12,0)","v":0},{"$f":"IF('TT-1 Imports & Non-tax Memo '!O12 <> \"\", 'TT-1 Imports & Non-tax Memo '!O12,0)","v":0},{"$f":"IF('TT-1 Imports & Non-tax Memo '!P12 <> \"\", 'TT-1 Imports & Non-tax Memo '!P12,0)","v":0},{"$f":"IF('TT-1 Imports & Non-tax Memo '!Q12 <> \"\", 'TT-1 Imports & Non-tax Memo '!Q12,0)","v":0},{"$f":"IF('TT-1 Imports & Non-tax Memo '!R12 <> \"\", 'TT-1 Imports & Non-tax Memo '!R12,0)","v":0},{"$f":"IF('TT-1 Imports & Non-tax Memo '!S12 <> \"\", 'TT-1 Imports & Non-tax Memo '!S12,0)","v":0}]
[{"$f":"IF('TT-1 Imports & Non-tax Memo '!A13 <> 0, 'TT-1 Imports & Non-tax Memo '!A13, \"\")","v":""},{"$f":"IF('TT-1 Imports & Non-tax Memo '!D13 <> 0, 'TT-1 Imports & Non-tax Memo '!D13, \"\")","v":""},{"$f":"IF('TT-1 Imports & Non-tax Memo '!E13 <> 0, 'TT-1 Imports & Non-tax Memo '!E13, \"\")","v":""},{"$f":"IF('TT-1 Imports & Non-tax Memo '!F13 <> \"\", 'TT-1 Imports & Non-tax Memo '!F13,0)","v":0},{"$f":"IF('TT-1 Imports & Non-tax Memo '!G13 <> \"\", 'TT-1 Imports & Non-tax Memo '!G13,0)","v":0},{"$f":"IF('TT-1 Imports & Non-tax Memo '!H13 <> \"\", 'TT-1 Imports & Non-tax Memo '!H13,0)","v":0},{"$f":"IF('TT-1 Imports & Non-tax Memo '!I13 <> \"\", 'TT-1 Imports & Non-tax Memo '!I13,0)","v":0},{"$f":"IF('TT-1 Imports & Non-tax Memo '!J13 <> \"\", 'TT-1 Imports & Non-tax Memo '!J13,0)","v":0},{"$f":"IF('TT-1 Imports & Non-tax Memo '!K13 <> \"\", 'TT-1 Imports & Non-tax Memo '!K13,0)","v":0},{"$f":"IF('TT-1 Imports & Non-tax Memo '!L13 <> \"\", 'TT-1 Imports & Non-tax Memo '!L13,0)","v":0},{"$f":"IF('TT-1 Imports & Non-tax Memo '!M13 <> \"\", 'TT-1 Imports & Non-tax Memo '!M13,0)","v":0},{"$f":"IF('TT-1 Imports & Non-tax Memo '!N13 <> \"\", 'TT-1 Imports & Non-tax Memo '!N13,0)","v":0},{"$f":"IF('TT-1 Imports & Non-tax Memo '!O13 <> \"\", 'TT-1 Imports & Non-tax Memo '!O13,0)","v":0},{"$f":"IF('TT-1 Imports & Non-tax Memo '!P13 <> \"\", 'TT-1 Imports & Non-tax Memo '!P13,0)","v":0},{"$f":"IF('TT-1 Imports & Non-tax Memo '!Q13 <> \"\", 'TT-1 Imports & Non-tax Memo '!Q13,0)","v":0},{"$f":"IF('TT-1 Imports & Non-tax Memo '!R13 <> \"\", 'TT-1 Imports & Non-tax Memo '!R13,0)","v":0},{"$f":"IF('TT-1 Imports & Non-tax Memo '!S13 <> \"\", 'TT-1 Imports & Non-tax Memo '!S13,0)","v":0}]
[{"$f":"IF('TT-1 Imports & Non-tax Memo '!A14 <> 0, 'TT-1 Imports & Non-tax Memo '!A14, \"\")","v":""},{"$f":"IF('TT-1 Imports & Non-tax Memo '!D14 <> 0, 'TT-1 Imports & Non-tax Memo '!D14, \"\")","v":""},{"$f":"IF('TT-1 Imports & Non-tax Memo '!E14 <> 0, 'TT-1 Imports & Non-tax Memo '!E14, \"\")","v":""},{"$f":"IF('TT-1 Imports & Non-tax Memo '!F14 <> \"\", 'TT-1 Imports & Non-tax Memo '!F14,0)","v":0},{"$f":"IF('TT-1 Imports & Non-tax Memo '!G14 <> \"\", 'TT-1 Imports & Non-tax Memo '!G14,0)","v":0},{"$f":"IF('TT-1 Imports & Non-tax Memo '!H14 <> \"\", 'TT-1 Imports & Non-tax Memo '!H14,0)","v":0},{"$f":"IF('TT-1 Imports & Non-tax Memo '!I14 <> \"\", 'TT-1 Imports & Non-tax Memo '!I14,0)","v":0},{"$f":"IF('TT-1 Imports & Non-tax Memo '!J14 <> \"\", 'TT-1 Imports & Non-tax Memo '!J14,0)","v":0},{"$f":"IF('TT-1 Imports & Non-tax Memo '!K14 <> \"\", 'TT-1 Imports & Non-tax Memo '!K14,0)","v":0},{"$f":"IF('TT-1 Imports & Non-tax Memo '!L14 <> \"\", 'TT-1 Imports & Non-tax Memo '!L14,0)","v":0},{"$f":"IF('TT-1 Imports & Non-tax Memo '!M14 <> \"\", 'TT-1 Imports & Non-tax Memo '!M14,0)","v":0},{"$f":"IF('TT-1 Imports & Non-tax Memo '!N14 <> \"\", 'TT-1 Imports & Non-tax Memo '!N14,0)","v":0},{"$f":"IF('TT-1 Imports & Non-tax Memo '!O14 <> \"\", 'TT-1 Imports & Non-tax Memo '!O14,0)","v":0},{"$f":"IF('TT-1 Imports & Non-tax Memo '!P14 <> \"\", 'TT-1 Imports & Non-tax Memo '!P14,0)","v":0},{"$f":"IF('TT-1 Imports & Non-tax Memo '!Q14 <> \"\", 'TT-1 Imports & Non-tax Memo '!Q14,0)","v":0},{"$f":"IF('TT-1 Imports & Non-tax Memo '!R14 <> \"\", 'TT-1 Imports & Non-tax Memo '!R14,0)","v":0},{"$f":"IF('TT-1 Imports & Non-tax Memo '!S14 <> \"\", 'TT-1 Imports & Non-tax Memo '!S14,0)","v":0}]
[{"$f":"IF('TT-1 Imports & Non-tax Memo '!A15 <> 0, 'TT-1 Imports & Non-tax Memo '!A15, \"\")","v":""},{"$f":"IF('TT-1 Imports & Non-tax Memo '!D15 <> 0, 'TT-1 Imports & Non-tax Memo '!D15, \"\")","v":""},{"$f":"IF('TT-1 Imports & Non-tax Memo '!E15 <> 0, 'TT-1 Imports & Non-tax Memo '!E15, \"\")","v":""},{"$f":"IF('TT-1 Imports & Non-tax Memo '!F15 <> \"\", 'TT-1 Imports & Non-tax Memo '!F15,0)","v":0},{"$f":"IF('TT-1 Imports & Non-tax Memo '!G15 <> \"\", 'TT-1 Imports & Non-tax Memo '!G15,0)","v":0},{"$f":"IF('TT-1 Imports & Non-tax Memo '!H15 <> \"\", 'TT-1 Imports & Non-tax Memo '!H15,0)","v":0},{"$f":"IF('TT-1 Imports & Non-tax Memo '!I15 <> \"\", 'TT-1 Imports & Non-tax Memo '!I15,0)","v":0},{"$f":"IF('TT-1 Imports & Non-tax Memo '!J15 <> \"\", 'TT-1 Imports & Non-tax Memo '!J15,0)","v":0},{"$f":"IF('TT-1 Imports & Non-tax Memo '!K15 <> \"\", 'TT-1 Imports & Non-tax Memo '!K15,0)","v":0},{"$f":"IF('TT-1 Imports & Non-tax Memo '!L15 <> \"\", 'TT-1 Imports & Non-tax Memo '!L15,0)","v":0},{"$f":"IF('TT-1 Imports & Non-tax Memo '!M15 <> \"\", 'TT-1 Imports & Non-tax Memo '!M15,0)","v":0},{"$f":"IF('TT-1 Imports & Non-tax Memo '!N15 <> \"\", 'TT-1 Imports & Non-tax Memo '!N15,0)","v":0},{"$f":"IF('TT-1 Imports & Non-tax Memo '!O15 <> \"\", 'TT-1 Imports & Non-tax Memo '!O15,0)","v":0},{"$f":"IF('TT-1 Imports & Non-tax Memo '!P15 <> \"\", 'TT-1 Imports & Non-tax Memo '!P15,0)","v":0},{"$f":"IF('TT-1 Imports & Non-tax Memo '!Q15 <> \"\", 'TT-1 Imports & Non-tax Memo '!Q15,0)","v":0},{"$f":"IF('TT-1 Imports & Non-tax Memo '!R15 <> \"\", 'TT-1 Imports & Non-tax Memo '!R15,0)","v":0},{"$f":"IF('TT-1 Imports & Non-tax Memo '!S15 <> \"\", 'TT-1 Imports & Non-tax Memo '!S15,0)","v":0}]
[{"$f":"IF('TT-1 Imports & Non-tax Memo '!A16 <> 0, 'TT-1 Imports & Non-tax Memo '!A16, \"\")","v":""},{"$f":"IF('TT-1 Imports & Non-tax Memo '!D16 <> 0, 'TT-1 Imports & Non-tax Memo '!D16, \"\")","v":""},{"$f":"IF('TT-1 Imports & Non-tax Memo '!E16 <> 0, 'TT-1 Imports & Non-tax Memo '!E16, \"\")","v":""},{"$f":"IF('TT-1 Imports & Non-tax Memo '!F16 <> \"\", 'TT-1 Imports & Non-tax Memo '!F16,0)","v":0},{"$f":"IF('TT-1 Imports & Non-tax Memo '!G16 <> \"\", 'TT-1 Imports & Non-tax Memo '!G16,0)","v":0},{"$f":"IF('TT-1 Imports & Non-tax Memo '!H16 <> \"\", 'TT-1 Imports & Non-tax Memo '!H16,0)","v":0},{"$f":"IF('TT-1 Imports & Non-tax Memo '!I16 <> \"\", 'TT-1 Imports & Non-tax Memo '!I16,0)","v":0},{"$f":"IF('TT-1 Imports & Non-tax Memo '!J16 <> \"\", 'TT-1 Imports & Non-tax Memo '!J16,0)","v":0},{"$f":"IF('TT-1 Imports & Non-tax Memo '!K16 <> \"\", 'TT-1 Imports & Non-tax Memo '!K16,0)","v":0},{"$f":"IF('TT-1 Imports & Non-tax Memo '!L16 <> \"\", 'TT-1 Imports & Non-tax Memo '!L16,0)","v":0},{"$f":"IF('TT-1 Imports & Non-tax Memo '!M16 <> \"\", 'TT-1 Imports & Non-tax Memo '!M16,0)","v":0},{"$f":"IF('TT-1 Imports & Non-tax Memo '!N16 <> \"\", 'TT-1 Imports & Non-tax Memo '!N16,0)","v":0},{"$f":"IF('TT-1 Imports & Non-tax Memo '!O16 <> \"\", 'TT-1 Imports & Non-tax Memo '!O16,0)","v":0},{"$f":"IF('TT-1 Imports & Non-tax Memo '!P16 <> \"\", 'TT-1 Imports & Non-tax Memo '!P16,0)","v":0},{"$f":"IF('TT-1 Imports & Non-tax Memo '!Q16 <> \"\", 'TT-1 Imports & Non-tax Memo '!Q16,0)","v":0},{"$f":"IF('TT-1 Imports & Non-tax Memo '!R16 <> \"\", 'TT-1 Imports & Non-tax Memo '!R16,0)","v":0},{"$f":"IF('TT-1 Imports & Non-tax Memo '!S16 <> \"\", 'TT-1 Imports & Non-tax Memo '!S16,0)","v":0}]
[{"$f":"IF('TT-1 Imports & Non-tax Memo '!A17 <> 0, 'TT-1 Imports & Non-tax Memo '!A17, \"\")","v":""},{"$f":"IF('TT-1 Imports & Non-tax Memo '!D17 <> 0, 'TT-1 Imports & Non-tax Memo '!D17, \"\")","v":""},{"$f":"IF('TT-1 Imports & Non-tax Memo '!E17 <> 0, 'TT-1 Imports & Non-tax Memo '!E17, \"\")","v":""},{"$f":"IF('TT-1 Imports & Non-tax Memo '!F17 <> \"\", 'TT-1 Imports & Non-tax Memo '!F17,0)","v":0},{"$f":"IF('TT-1 Imports & Non-tax Memo '!G17 <> \"\", 'TT-1 Imports & Non-tax Memo '!G17,0)","v":0},{"$f":"IF('TT-1 Imports & Non-tax Memo '!H17 <> \"\", 'TT-1 Imports & Non-tax Memo '!H17,0)","v":0},{"$f":"IF('TT-1 Imports & Non-tax Memo '!I17 <> \"\", 'TT-1 Imports & Non-tax Memo '!I17,0)","v":0},{"$f":"IF('TT-1 Imports & Non-tax Memo '!J17 <> \"\", 'TT-1 Imports & Non-tax Memo '!J17,0)","v":0},{"$f":"IF('TT-1 Imports & Non-tax Memo '!K17 <> \"\", 'TT-1 Imports & Non-tax Memo '!K17,0)","v":0},{"$f":"IF('TT-1 Imports & Non-tax Memo '!L17 <> \"\", 'TT-1 Imports & Non-tax Memo '!L17,0)","v":0},{"$f":"IF('TT-1 Imports & Non-tax Memo '!M17 <> \"\", 'TT-1 Imports & Non-tax Memo '!M17,0)","v":0},{"$f":"IF('TT-1 Imports & Non-tax Memo '!N17 <> \"\", 'TT-1 Imports & Non-tax Memo '!N17,0)","v":0},{"$f":"IF('TT-1 Imports & Non-tax Memo '!O17 <> \"\", 'TT-1 Imports & Non-tax Memo '!O17,0)","v":0},{"$f":"IF('TT-1 Imports & Non-tax Memo '!P17 <> \"\", 'TT-1 Imports & Non-tax Memo '!P17,0)","v":0},{"$f":"IF('TT-1 Imports & Non-tax Memo '!Q17 <> \"\", 'TT-1 Imports & Non-tax Memo '!Q17,0)","v":0},{"$f":"IF('TT-1 Imports & Non-tax Memo '!R17 <> \"\", 'TT-1 Imports & Non-tax Memo '!R17,0)","v":0},{"$f":"IF('TT-1 Imports & Non-tax Memo '!S17 <> \"\", 'TT-1 Imports & Non-tax Memo '!S17,0)","v":0}]
[{"$f":"IF('TT-1 Imports & Non-tax Memo '!A18 <> 0, 'TT-1 Imports & Non-tax Memo '!A18, \"\")","v":""},{"$f":"IF('TT-1 Imports & Non-tax Memo '!D18 <> 0, 'TT-1 Imports & Non-tax Memo '!D18, \"\")","v":""},{"$f":"IF('TT-1 Imports & Non-tax Memo '!E18 <> 0, 'TT-1 Imports & Non-tax Memo '!E18, \"\")","v":""},{"$f":"IF('TT-1 Imports & Non-tax Memo '!F18 <> \"\", 'TT-1 Imports & Non-tax Memo '!F18,0)","v":0},{"$f":"IF('TT-1 Imports & Non-tax Memo '!G18 <> \"\", 'TT-1 Imports & Non-tax Memo '!G18,0)","v":0},{"$f":"IF('TT-1 Imports & Non-tax Memo '!H18 <> \"\", 'TT-1 Imports & Non-tax Memo '!H18,0)","v":0},{"$f":"IF('TT-1 Imports & Non-tax Memo '!I18 <> \"\", 'TT-1 Imports & Non-tax Memo '!I18,0)","v":0},{"$f":"IF('TT-1 Imports & Non-tax Memo '!J18 <> \"\", 'TT-1 Imports & Non-tax Memo '!J18,0)","v":0},{"$f":"IF('TT-1 Imports & Non-tax Memo '!K18 <> \"\", 'TT-1 Imports & Non-tax Memo '!K18,0)","v":0},{"$f":"IF('TT-1 Imports & Non-tax Memo '!L18 <> \"\", 'TT-1 Imports & Non-tax Memo '!L18,0)","v":0},{"$f":"IF('TT-1 Imports & Non-tax Memo '!M18 <> \"\", 'TT-1 Imports & Non-tax Memo '!M18,0)","v":0},{"$f":"IF('TT-1 Imports & Non-tax Memo '!N18 <> \"\", 'TT-1 Imports & Non-tax Memo '!N18,0)","v":0},{"$f":"IF('TT-1 Imports & Non-tax Memo '!O18 <> \"\", 'TT-1 Imports & Non-tax Memo '!O18,0)","v":0},{"$f":"IF('TT-1 Imports & Non-tax Memo '!P18 <> \"\", 'TT-1 Imports & Non-tax Memo '!P18,0)","v":0},{"$f":"IF('TT-1 Imports & Non-tax Memo '!Q18 <> \"\", 'TT-1 Imports & Non-tax Memo '!Q18,0)","v":0},{"$f":"IF('TT-1 Imports & Non-tax Memo '!R18 <> \"\", 'TT-1 Imports & Non-tax Memo '!R18,0)","v":0},{"$f":"IF('TT-1 Imports & Non-tax Memo '!S18 <> \"\", 'TT-1 Imports & Non-tax Memo '!S18,0)","v":0}]
[{"$f":"IF('TT-1 Imports & Non-tax Memo '!A19 <> 0, 'TT-1 Imports & Non-tax Memo '!A19, \"\")","v":""},{"$f":"IF('TT-1 Imports & Non-tax Memo '!D19 <> 0, 'TT-1 Imports & Non-tax Memo '!D19, \"\")","v":""},{"$f":"IF('TT-1 Imports & Non-tax Memo '!E19 <> 0, 'TT-1 Imports & Non-tax Memo '!E19, \"\")","v":""},{"$f":"IF('TT-1 Imports & Non-tax Memo '!F19 <> \"\", 'TT-1 Imports & Non-tax Memo '!F19,0)","v":0},{"$f":"IF('TT-1 Imports & Non-tax Memo '!G19 <> \"\", 'TT-1 Imports & Non-tax Memo '!G19,0)","v":0},{"$f":"IF('TT-1 Imports & Non-tax Memo '!H19 <> \"\", 'TT-1 Imports & Non-tax Memo '!H19,0)","v":0},{"$f":"IF('TT-1 Imports & Non-tax Memo '!I19 <> \"\", 'TT-1 Imports & Non-tax Memo '!I19,0)","v":0},{"$f":"IF('TT-1 Imports & Non-tax Memo '!J19 <> \"\", 'TT-1 Imports & Non-tax Memo '!J19,0)","v":0},{"$f":"IF('TT-1 Imports & Non-tax Memo '!K19 <> \"\", 'TT-1 Imports & Non-tax Memo '!K19,0)","v":0},{"$f":"IF('TT-1 Imports & Non-tax Memo '!L19 <> \"\", 'TT-1 Imports & Non-tax Memo '!L19,0)","v":0},{"$f":"IF('TT-1 Imports & Non-tax Memo '!M19 <> \"\", 'TT-1 Imports & Non-tax Memo '!M19,0)","v":0},{"$f":"IF('TT-1 Imports & Non-tax Memo '!N19 <> \"\", 'TT-1 Imports & Non-tax Memo '!N19,0)","v":0},{"$f":"IF('TT-1 Imports & Non-tax Memo '!O19 <> \"\", 'TT-1 Imports & Non-tax Memo '!O19,0)","v":0},{"$f":"IF('TT-1 Imports & Non-tax Memo '!P19 <> \"\", 'TT-1 Imports & Non-tax Memo '!P19,0)","v":0},{"$f":"IF('TT-1 Imports & Non-tax Memo '!Q19 <> \"\", 'TT-1 Imports & Non-tax Memo '!Q19,0)","v":0},{"$f":"IF('TT-1 Imports & Non-tax Memo '!R19 <> \"\", 'TT-1 Imports & Non-tax Memo '!R19,0)","v":0},{"$f":"IF('TT-1 Imports & Non-tax Memo '!S19 <> \"\", 'TT-1 Imports & Non-tax Memo '!S19,0)","v":0}]
[{"$f":"IF('TT-1 Imports & Non-tax Memo '!A20 <> 0, 'TT-1 Imports & Non-tax Memo '!A20, \"\")","v":""},{"$f":"IF('TT-1 Imports & Non-tax Memo '!D20 <> 0, 'TT-1 Imports & Non-tax Memo '!D20, \"\")","v":""},{"$f":"IF('TT-1 Imports & Non-tax Memo '!E20 <> 0, 'TT-1 Imports & Non-tax Memo '!E20, \"\")","v":""},{"$f":"IF('TT-1 Imports & Non-tax Memo '!F20 <> \"\", 'TT-1 Imports & Non-tax Memo '!F20,0)","v":0},{"$f":"IF('TT-1 Imports & Non-tax Memo '!G20 <> \"\", 'TT-1 Imports & Non-tax Memo '!G20,0)","v":0},{"$f":"IF('TT-1 Imports & Non-tax Memo '!H20 <> \"\", 'TT-1 Imports & Non-tax Memo '!H20,0)","v":0},{"$f":"IF('TT-1 Imports & Non-tax Memo '!I20 <> \"\", 'TT-1 Imports & Non-tax Memo '!I20,0)","v":0},{"$f":"IF('TT-1 Imports & Non-tax Memo '!J20 <> \"\", 'TT-1 Imports & Non-tax Memo '!J20,0)","v":0},{"$f":"IF('TT-1 Imports & Non-tax Memo '!K20 <> \"\", 'TT-1 Imports & Non-tax Memo '!K20,0)","v":0},{"$f":"IF('TT-1 Imports & Non-tax Memo '!L20 <> \"\", 'TT-1 Imports & Non-tax Memo '!L20,0)","v":0},{"$f":"IF('TT-1 Imports & Non-tax Memo '!M20 <> \"\", 'TT-1 Imports & Non-tax Memo '!M20,0)","v":0},{"$f":"IF('TT-1 Imports & Non-tax Memo '!N20 <> \"\", 'TT-1 Imports & Non-tax Memo '!N20,0)","v":0},{"$f":"IF('TT-1 Imports & Non-tax Memo '!O20 <> \"\", 'TT-1 Imports & Non-tax Memo '!O20,0)","v":0},{"$f":"IF('TT-1 Imports & Non-tax Memo '!P20 <> \"\", 'TT-1 Imports & Non-tax Memo '!P20,0)","v":0},{"$f":"IF('TT-1 Imports & Non-tax Memo '!Q20 <> \"\", 'TT-1 Imports & Non-tax Memo '!Q20,0)","v":0},{"$f":"IF('TT-1 Imports & Non-tax Memo '!R20 <> \"\", 'TT-1 Imports & Non-tax Memo '!R20,0)","v":0},{"$f":"IF('TT-1 Imports & Non-tax Memo '!S20 <> \"\", 'TT-1 Imports & Non-tax Memo '!S20,0)","v":0}]
[{"$f":"IF('TT-1 Imports & Non-tax Memo '!A21 <> 0, 'TT-1 Imports & Non-tax Memo '!A21, \"\")","v":""},{"$f":"IF('TT-1 Imports & Non-tax Memo '!D21 <> 0, 'TT-1 Imports & Non-tax Memo '!D21, \"\")","v":""},{"$f":"IF('TT-1 Imports & Non-tax Memo '!E21 <> 0, 'TT-1 Imports & Non-tax Memo '!E21, \"\")","v":""},{"$f":"IF('TT-1 Imports & Non-tax Memo '!F21 <> \"\", 'TT-1 Imports & Non-tax Memo '!F21,0)","v":0},{"$f":"IF('TT-1 Imports & Non-tax Memo '!G21 <> \"\", 'TT-1 Imports & Non-tax Memo '!G21,0)","v":0},{"$f":"IF('TT-1 Imports & Non-tax Memo '!H21 <> \"\", 'TT-1 Imports & Non-tax Memo '!H21,0)","v":0},{"$f":"IF('TT-1 Imports & Non-tax Memo '!I21 <> \"\", 'TT-1 Imports & Non-tax Memo '!I21,0)","v":0},{"$f":"IF('TT-1 Imports & Non-tax Memo '!J21 <> \"\", 'TT-1 Imports & Non-tax Memo '!J21,0)","v":0},{"$f":"IF('TT-1 Imports & Non-tax Memo '!K21 <> \"\", 'TT-1 Imports & Non-tax Memo '!K21,0)","v":0},{"$f":"IF('TT-1 Imports & Non-tax Memo '!L21 <> \"\", 'TT-1 Imports & Non-tax Memo '!L21,0)","v":0},{"$f":"IF('TT-1 Imports & Non-tax Memo '!M21 <> \"\", 'TT-1 Imports & Non-tax Memo '!M21,0)","v":0},{"$f":"IF('TT-1 Imports & Non-tax Memo '!N21 <> \"\", 'TT-1 Imports & Non-tax Memo '!N21,0)","v":0},{"$f":"IF('TT-1 Imports & Non-tax Memo '!O21 <> \"\", 'TT-1 Imports & Non-tax Memo '!O21,0)","v":0},{"$f":"IF('TT-1 Imports & Non-tax Memo '!P21 <> \"\", 'TT-1 Imports & Non-tax Memo '!P21,0)","v":0},{"$f":"IF('TT-1 Imports & Non-tax Memo '!Q21 <> \"\", 'TT-1 Imports & Non-tax Memo '!Q21,0)","v":0},{"$f":"IF('TT-1 Imports & Non-tax Memo '!R21 <> \"\", 'TT-1 Imports & Non-tax Memo '!R21,0)","v":0},{"$f":"IF('TT-1 Imports & Non-tax Memo '!S21 <> \"\", 'TT-1 Imports & Non-tax Memo '!S21,0)","v":0}]
[{"$f":"IF('TT-1 Imports & Non-tax Memo '!A22 <> 0, 'TT-1 Imports & Non-tax Memo '!A22, \"\")","v":""},{"$f":"IF('TT-1 Imports & Non-tax Memo '!D22 <> 0, 'TT-1 Imports & Non-tax Memo '!D22, \"\")","v":""},{"$f":"IF('TT-1 Imports & Non-tax Memo '!E22 <> 0, 'TT-1 Imports & Non-tax Memo '!E22, \"\")","v":""},{"$f":"IF('TT-1 Imports & Non-tax Memo '!F22 <> \"\", 'TT-1 Imports & Non-tax Memo '!F22,0)","v":0},{"$f":"IF('TT-1 Imports & Non-tax Memo '!G22 <> \"\", 'TT-1 Imports & Non-tax Memo '!G22,0)","v":0},{"$f":"IF('TT-1 Imports & Non-tax Memo '!H22 <> \"\", 'TT-1 Imports & Non-tax Memo '!H22,0)","v":0},{"$f":"IF('TT-1 Imports & Non-tax Memo '!I22 <> \"\", 'TT-1 Imports & Non-tax Memo '!I22,0)","v":0},{"$f":"IF('TT-1 Imports & Non-tax Memo '!J22 <> \"\", 'TT-1 Imports & Non-tax Memo '!J22,0)","v":0},{"$f":"IF('TT-1 Imports & Non-tax Memo '!K22 <> \"\", 'TT-1 Imports & Non-tax Memo '!K22,0)","v":0},{"$f":"IF('TT-1 Imports & Non-tax Memo '!L22 <> \"\", 'TT-1 Imports & Non-tax Memo '!L22,0)","v":0},{"$f":"IF('TT-1 Imports & Non-tax Memo '!M22 <> \"\", 'TT-1 Imports & Non-tax Memo '!M22,0)","v":0},{"$f":"IF('TT-1 Imports & Non-tax Memo '!N22 <> \"\", 'TT-1 Imports & Non-tax Memo '!N22,0)","v":0},{"$f":"IF('TT-1 Imports & Non-tax Memo '!O22 <> \"\", 'TT-1 Imports & Non-tax Memo '!O22,0)","v":0},{"$f":"IF('TT-1 Imports & Non-tax Memo '!P22 <> \"\", 'TT-1 Imports & Non-tax Memo '!P22,0)","v":0},{"$f":"IF('TT-1 Imports & Non-tax Memo '!Q22 <> \"\", 'TT-1 Imports & Non-tax Memo '!Q22,0)","v":0},{"$f":"IF('TT-1 Imports & Non-tax Memo '!R22 <> \"\", 'TT-1 Imports & Non-tax Memo '!R22,0)","v":0},{"$f":"IF('TT-1 Imports & Non-tax Memo '!S22 <> \"\", 'TT-1 Imports & Non-tax Memo '!S22,0)","v":0}]
[{"$f":"IF('TT-1 Imports & Non-tax Memo '!A23 <> 0, 'TT-1 Imports & Non-tax Memo '!A23, \"\")","v":""},{"$f":"IF('TT-1 Imports & Non-tax Memo '!D23 <> 0, 'TT-1 Imports & Non-tax Memo '!D23, \"\")","v":""},{"$f":"IF('TT-1 Imports & Non-tax Memo '!E23 <> 0, 'TT-1 Imports & Non-tax Memo '!E23, \"\")","v":""},{"$f":"IF('TT-1 Imports & Non-tax Memo '!F23 <> \"\", 'TT-1 Imports & Non-tax Memo '!F23,0)","v":0},{"$f":"IF('TT-1 Imports & Non-tax Memo '!G23 <> \"\", 'TT-1 Imports & Non-tax Memo '!G23,0)","v":0},{"$f":"IF('TT-1 Imports & Non-tax Memo '!H23 <> \"\", 'TT-1 Imports & Non-tax Memo '!H23,0)","v":0},{"$f":"IF('TT-1 Imports & Non-tax Memo '!I23 <> \"\", 'TT-1 Imports & Non-tax Memo '!I23,0)","v":0},{"$f":"IF('TT-1 Imports & Non-tax Memo '!J23 <> \"\", 'TT-1 Imports & Non-tax Memo '!J23,0)","v":0},{"$f":"IF('TT-1 Imports & Non-tax Memo '!K23 <> \"\", 'TT-1 Imports & Non-tax Memo '!K23,0)","v":0},{"$f":"IF('TT-1 Imports & Non-tax Memo '!L23 <> \"\", 'TT-1 Imports & Non-tax Memo '!L23,0)","v":0},{"$f":"IF('TT-1 Imports & Non-tax Memo '!M23 <> \"\", 'TT-1 Imports & Non-tax Memo '!M23,0)","v":0},{"$f":"IF('TT-1 Imports & Non-tax Memo '!N23 <> \"\", 'TT-1 Imports & Non-tax Memo '!N23,0)","v":0},{"$f":"IF('TT-1 Imports & Non-tax Memo '!O23 <> \"\", 'TT-1 Imports & Non-tax Memo '!O23,0)","v":0},{"$f":"IF('TT-1 Imports & Non-tax Memo '!P23 <> \"\", 'TT-1 Imports & Non-tax Memo '!P23,0)","v":0},{"$f":"IF('TT-1 Imports & Non-tax Memo '!Q23 <> \"\", 'TT-1 Imports & Non-tax Memo '!Q23,0)","v":0},{"$f":"IF('TT-1 Imports & Non-tax Memo '!R23 <> \"\", 'TT-1 Imports & Non-tax Memo '!R23,0)","v":0},{"$f":"IF('TT-1 Imports & Non-tax Memo '!S23 <> \"\", 'TT-1 Imports & Non-tax Memo '!S23,0)","v":0}]
[{"$f":"IF('TT-1 Imports & Non-tax Memo '!A24 <> 0, 'TT-1 Imports & Non-tax Memo '!A24, \"\")","v":""},{"$f":"IF('TT-1 Imports & Non-tax Memo '!D24 <> 0, 'TT-1 Imports & Non-tax Memo '!D24, \"\")","v":""},{"$f":"IF('TT-1 Imports & Non-tax Memo '!E24 <> 0, 'TT-1 Imports & Non-tax Memo '!E24, \"\")","v":""},{"$f":"IF('TT-1 Imports & Non-tax Memo '!F24 <> \"\", 'TT-1 Imports & Non-tax Memo '!F24,0)","v":0},{"$f":"IF('TT-1 Imports & Non-tax Memo '!G24 <> \"\", 'TT-1 Imports & Non-tax Memo '!G24,0)","v":0},{"$f":"IF('TT-1 Imports & Non-tax Memo '!H24 <> \"\", 'TT-1 Imports & Non-tax Memo '!H24,0)","v":0},{"$f":"IF('TT-1 Imports & Non-tax Memo '!I24 <> \"\", 'TT-1 Imports & Non-tax Memo '!I24,0)","v":0},{"$f":"IF('TT-1 Imports & Non-tax Memo '!J24 <> \"\", 'TT-1 Imports & Non-tax Memo '!J24,0)","v":0},{"$f":"IF('TT-1 Imports & Non-tax Memo '!K24 <> \"\", 'TT-1 Imports & Non-tax Memo '!K24,0)","v":0},{"$f":"IF('TT-1 Imports & Non-tax Memo '!L24 <> \"\", 'TT-1 Imports & Non-tax Memo '!L24,0)","v":0},{"$f":"IF('TT-1 Imports & Non-tax Memo '!M24 <> \"\", 'TT-1 Imports & Non-tax Memo '!M24,0)","v":0},{"$f":"IF('TT-1 Imports & Non-tax Memo '!N24 <> \"\", 'TT-1 Imports & Non-tax Memo '!N24,0)","v":0},{"$f":"IF('TT-1 Imports & Non-tax Memo '!O24 <> \"\", 'TT-1 Imports & Non-tax Memo '!O24,0)","v":0},{"$f":"IF('TT-1 Imports & Non-tax Memo '!P24 <> \"\", 'TT-1 Imports & Non-tax Memo '!P24,0)","v":0},{"$f":"IF('TT-1 Imports & Non-tax Memo '!Q24 <> \"\", 'TT-1 Imports & Non-tax Memo '!Q24,0)","v":0},{"$f":"IF('TT-1 Imports & Non-tax Memo '!R24 <> \"\", 'TT-1 Imports & Non-tax Memo '!R24,0)","v":0},{"$f":"IF('TT-1 Imports & Non-tax Memo '!S24 <> \"\", 'TT-1 Imports & Non-tax Memo '!S24,0)","v":0}]
[{"$f":"IF('TT-1 Imports & Non-tax Memo '!A25 <> 0, 'TT-1 Imports & Non-tax Memo '!A25, \"\")","v":""},{"$f":"IF('TT-1 Imports & Non-tax Memo '!D25 <> 0, 'TT-1 Imports & Non-tax Memo '!D25, \"\")","v":""},{"$f":"IF('TT-1 Imports & Non-tax Memo '!E25 <> 0, 'TT-1 Imports & Non-tax Memo '!E25, \"\")","v":""},{"$f":"IF('TT-1 Imports & Non-tax Memo '!F25 <> \"\", 'TT-1 Imports & Non-tax Memo '!F25,0)","v":0},{"$f":"IF('TT-1 Imports & Non-tax Memo '!G25 <> \"\", 'TT-1 Imports & Non-tax Memo '!G25,0)","v":0},{"$f":"IF('TT-1 Imports & Non-tax Memo '!H25 <> \"\", 'TT-1 Imports & Non-tax Memo '!H25,0)","v":0},{"$f":"IF('TT-1 Imports & Non-tax Memo '!I25 <> \"\", 'TT-1 Imports & Non-tax Memo '!I25,0)","v":0},{"$f":"IF('TT-1 Imports & Non-tax Memo '!J25 <> \"\", 'TT-1 Imports & Non-tax Memo '!J25,0)","v":0},{"$f":"IF('TT-1 Imports & Non-tax Memo '!K25 <> \"\", 'TT-1 Imports & Non-tax Memo '!K25,0)","v":0},{"$f":"IF('TT-1 Imports & Non-tax Memo '!L25 <> \"\", 'TT-1 Imports & Non-tax Memo '!L25,0)","v":0},{"$f":"IF('TT-1 Imports & Non-tax Memo '!M25 <> \"\", 'TT-1 Imports & Non-tax Memo '!M25,0)","v":0},{"$f":"IF('TT-1 Imports & Non-tax Memo '!N25 <> \"\", 'TT-1 Imports & Non-tax Memo '!N25,0)","v":0},{"$f":"IF('TT-1 Imports & Non-tax Memo '!O25 <> \"\", 'TT-1 Imports & Non-tax Memo '!O25,0)","v":0},{"$f":"IF('TT-1 Imports & Non-tax Memo '!P25 <> \"\", 'TT-1 Imports & Non-tax Memo '!P25,0)","v":0},{"$f":"IF('TT-1 Imports & Non-tax Memo '!Q25 <> \"\", 'TT-1 Imports & Non-tax Memo '!Q25,0)","v":0},{"$f":"IF('TT-1 Imports & Non-tax Memo '!R25 <> \"\", 'TT-1 Imports & Non-tax Memo '!R25,0)","v":0},{"$f":"IF('TT-1 Imports & Non-tax Memo '!S25 <> \"\", 'TT-1 Imports & Non-tax Memo '!S25,0)","v":0}]
[{"$f":"IF('TT-1 Imports & Non-tax Memo '!A26 <> 0, 'TT-1 Imports & Non-tax Memo '!A26, \"\")","v":""},{"$f":"IF('TT-1 Imports & Non-tax Memo '!D26 <> 0, 'TT-1 Imports & Non-tax Memo '!D26, \"\")","v":""},{"$f":"IF('TT-1 Imports & Non-tax Memo '!E26 <> 0, 'TT-1 Imports & Non-tax Memo '!E26, \"\")","v":""},{"$f":"IF('TT-1 Imports & Non-tax Memo '!F26 <> \"\", 'TT-1 Imports & Non-tax Memo '!F26,0)","v":0},{"$f":"IF('TT-1 Imports & Non-tax Memo '!G26 <> \"\", 'TT-1 Imports & Non-tax Memo '!G26,0)","v":0},{"$f":"IF('TT-1 Imports & Non-tax Memo '!H26 <> \"\", 'TT-1 Imports & Non-tax Memo '!H26,0)","v":0},{"$f":"IF('TT-1 Imports & Non-tax Memo '!I26 <> \"\", 'TT-1 Imports & Non-tax Memo '!I26,0)","v":0},{"$f":"IF('TT-1 Imports & Non-tax Memo '!J26 <> \"\", 'TT-1 Imports & Non-tax Memo '!J26,0)","v":0},{"$f":"IF('TT-1 Imports & Non-tax Memo '!K26 <> \"\", 'TT-1 Imports & Non-tax Memo '!K26,0)","v":0},{"$f":"IF('TT-1 Imports & Non-tax Memo '!L26 <> \"\", 'TT-1 Imports & Non-tax Memo '!L26,0)","v":0},{"$f":"IF('TT-1 Imports & Non-tax Memo '!M26 <> \"\", 'TT-1 Imports & Non-tax Memo '!M26,0)","v":0},{"$f":"IF('TT-1 Imports & Non-tax Memo '!N26 <> \"\", 'TT-1 Imports & Non-tax Memo '!N26,0)","v":0},{"$f":"IF('TT-1 Imports & Non-tax Memo '!O26 <> \"\", 'TT-1 Imports & Non-tax Memo '!O26,0)","v":0},{"$f":"IF('TT-1 Imports & Non-tax Memo '!P26 <> \"\", 'TT-1 Imports & Non-tax Memo '!P26,0)","v":0},{"$f":"IF('TT-1 Imports & Non-tax Memo '!Q26 <> \"\", 'TT-1 Imports & Non-tax Memo '!Q26,0)","v":0},{"$f":"IF('TT-1 Imports & Non-tax Memo '!R26 <> \"\", 'TT-1 Imports & Non-tax Memo '!R26,0)","v":0},{"$f":"IF('TT-1 Imports & Non-tax Memo '!S26 <> \"\", 'TT-1 Imports & Non-tax Memo '!S26,0)","v":0}]
[{"$f":"IF('TT-1 Imports & Non-tax Memo '!A27 <> 0, 'TT-1 Imports & Non-tax Memo '!A27, \"\")","v":""},{"$f":"IF('TT-1 Imports & Non-tax Memo '!D27 <> 0, 'TT-1 Imports & Non-tax Memo '!D27, \"\")","v":""},{"$f":"IF('TT-1 Imports & Non-tax Memo '!E27 <> 0, 'TT-1 Imports & Non-tax Memo '!E27, \"\")","v":""},{"$f":"IF('TT-1 Imports & Non-tax Memo '!F27 <> \"\", 'TT-1 Imports & Non-tax Memo '!F27,0)","v":0},{"$f":"IF('TT-1 Imports & Non-tax Memo '!G27 <> \"\", 'TT-1 Imports & Non-tax Memo '!G27,0)","v":0},{"$f":"IF('TT-1 Imports & Non-tax Memo '!H27 <> \"\", 'TT-1 Imports & Non-tax Memo '!H27,0)","v":0},{"$f":"IF('TT-1 Imports & Non-tax Memo '!I27 <> \"\", 'TT-1 Imports & Non-tax Memo '!I27,0)","v":0},{"$f":"IF('TT-1 Imports & Non-tax Memo '!J27 <> \"\", 'TT-1 Imports & Non-tax Memo '!J27,0)","v":0},{"$f":"IF('TT-1 Imports & Non-tax Memo '!K27 <> \"\", 'TT-1 Imports & Non-tax Memo '!K27,0)","v":0},{"$f":"IF('TT-1 Imports & Non-tax Memo '!L27 <> \"\", 'TT-1 Imports & Non-tax Memo '!L27,0)","v":0},{"$f":"IF('TT-1 Imports & Non-tax Memo '!M27 <> \"\", 'TT-1 Imports & Non-tax Memo '!M27,0)","v":0},{"$f":"IF('TT-1 Imports & Non-tax Memo '!N27 <> \"\", 'TT-1 Imports & Non-tax Memo '!N27,0)","v":0},{"$f":"IF('TT-1 Imports & Non-tax Memo '!O27 <> \"\", 'TT-1 Imports & Non-tax Memo '!O27,0)","v":0},{"$f":"IF('TT-1 Imports & Non-tax Memo '!P27 <> \"\", 'TT-1 Imports & Non-tax Memo '!P27,0)","v":0},{"$f":"IF('TT-1 Imports & Non-tax Memo '!Q27 <> \"\", 'TT-1 Imports & Non-tax Memo '!Q27,0)","v":0},{"$f":"IF('TT-1 Imports & Non-tax Memo '!R27 <> \"\", 'TT-1 Imports & Non-tax Memo '!R27,0)","v":0},{"$f":"IF('TT-1 Imports & Non-tax Memo '!S27 <> \"\", 'TT-1 Imports & Non-tax Memo '!S27,0)","v":0}]
[{"$f":"IF('TT-1 Imports & Non-tax Memo '!A28 <> 0, 'TT-1 Imports & Non-tax Memo '!A28, \"\")","v":""},{"$f":"IF('TT-1 Imports & Non-tax Memo '!D28 <> 0, 'TT-1 Imports & Non-tax Memo '!D28, \"\")","v":""},{"$f":"IF('TT-1 Imports & Non-tax Memo '!E28 <> 0, 'TT-1 Imports & Non-tax Memo '!E28, \"\")","v":""},{"$f":"IF('TT-1 Imports & Non-tax Memo '!F28 <> \"\", 'TT-1 Imports & Non-tax Memo '!F28,0)","v":0},{"$f":"IF('TT-1 Imports & Non-tax Memo '!G28 <> \"\", 'TT-1 Imports & Non-tax Memo '!G28,0)","v":0},{"$f":"IF('TT-1 Imports & Non-tax Memo '!H28 <> \"\", 'TT-1 Imports & Non-tax Memo '!H28,0)","v":0},{"$f":"IF('TT-1 Imports & Non-tax Memo '!I28 <> \"\", 'TT-1 Imports & Non-tax Memo '!I28,0)","v":0},{"$f":"IF('TT-1 Imports & Non-tax Memo '!J28 <> \"\", 'TT-1 Imports & Non-tax Memo '!J28,0)","v":0},{"$f":"IF('TT-1 Imports & Non-tax Memo '!K28 <> \"\", 'TT-1 Imports & Non-tax Memo '!K28,0)","v":0},{"$f":"IF('TT-1 Imports & Non-tax Memo '!L28 <> \"\", 'TT-1 Imports & Non-tax Memo '!L28,0)","v":0},{"$f":"IF('TT-1 Imports & Non-tax Memo '!M28 <> \"\", 'TT-1 Imports & Non-tax Memo '!M28,0)","v":0},{"$f":"IF('TT-1 Imports & Non-tax Memo '!N28 <> \"\", 'TT-1 Imports & Non-tax Memo '!N28,0)","v":0},{"$f":"IF('TT-1 Imports & Non-tax Memo '!O28 <> \"\", 'TT-1 Imports & Non-tax Memo '!O28,0)","v":0},{"$f":"IF('TT-1 Imports & Non-tax Memo '!P28 <> \"\", 'TT-1 Imports & Non-tax Memo '!P28,0)","v":0},{"$f":"IF('TT-1 Imports & Non-tax Memo '!Q28 <> \"\", 'TT-1 Imports & Non-tax Memo '!Q28,0)","v":0},{"$f":"IF('TT-1 Imports & Non-tax Memo '!R28 <> \"\", 'TT-1 Imports & Non-tax Memo '!R28,0)","v":0},{"$f":"IF('TT-1 Imports & Non-tax Memo '!S28 <> \"\", 'TT-1 Imports & Non-tax Memo '!S28,0)","v":0}]
[{"$f":"IF('TT-1 Imports & Non-tax Memo '!A29 <> 0, 'TT-1 Imports & Non-tax Memo '!A29, \"\")","v":""},{"$f":"IF('TT-1 Imports & Non-tax Memo '!D29 <> 0, 'TT-1 Imports & Non-tax Memo '!D29, \"\")","v":""},{"$f":"IF('TT-1 Imports & Non-tax Memo '!E29 <> 0, 'TT-1 Imports & Non-tax Memo '!E29, \"\")","v":""},{"$f":"IF('TT-1 Imports & Non-tax Memo '!F29 <> \"\", 'TT-1 Imports & Non-tax Memo '!F29,0)","v":0},{"$f":"IF('TT-1 Imports & Non-tax Memo '!G29 <> \"\", 'TT-1 Imports & Non-tax Memo '!G29,0)","v":0},{"$f":"IF('TT-1 Imports & Non-tax Memo '!H29 <> \"\", 'TT-1 Imports & Non-tax Memo '!H29,0)","v":0},{"$f":"IF('TT-1 Imports & Non-tax Memo '!I29 <> \"\", 'TT-1 Imports & Non-tax Memo '!I29,0)","v":0},{"$f":"IF('TT-1 Imports & Non-tax Memo '!J29 <> \"\", 'TT-1 Imports & Non-tax Memo '!J29,0)","v":0},{"$f":"IF('TT-1 Imports & Non-tax Memo '!K29 <> \"\", 'TT-1 Imports & Non-tax Memo '!K29,0)","v":0},{"$f":"IF('TT-1 Imports & Non-tax Memo '!L29 <> \"\", 'TT-1 Imports & Non-tax Memo '!L29,0)","v":0},{"$f":"IF('TT-1 Imports & Non-tax Memo '!M29 <> \"\", 'TT-1 Imports & Non-tax Memo '!M29,0)","v":0},{"$f":"IF('TT-1 Imports & Non-tax Memo '!N29 <> \"\", 'TT-1 Imports & Non-tax Memo '!N29,0)","v":0},{"$f":"IF('TT-1 Imports & Non-tax Memo '!O29 <> \"\", 'TT-1 Imports & Non-tax Memo '!O29,0)","v":0},{"$f":"IF('TT-1 Imports & Non-tax Memo '!P29 <> \"\", 'TT-1 Imports & Non-tax Memo '!P29,0)","v":0},{"$f":"IF('TT-1 Imports & Non-tax Memo '!Q29 <> \"\", 'TT-1 Imports & Non-tax Memo '!Q29,0)","v":0},{"$f":"IF('TT-1 Imports & Non-tax Memo '!R29 <> \"\", 'TT-1 Imports & Non-tax Memo '!R29,0)","v":0},{"$f":"IF('TT-1 Imports & Non-tax Memo '!S29 <> \"\", 'TT-1 Imports & Non-tax Memo '!S29,0)","v":0}]
[{"$f":"IF('TT-1 Imports & Non-tax Memo '!A30 <> 0, 'TT-1 Imports & Non-tax Memo '!A30, \"\")","v":""},{"$f":"IF('TT-1 Imports & Non-tax Memo '!D30 <> 0, 'TT-1 Imports & Non-tax Memo '!D30, \"\")","v":""},{"$f":"IF('TT-1 Imports & Non-tax Memo '!E30 <> 0, 'TT-1 Imports & Non-tax Memo '!E30, \"\")","v":""},{"$f":"IF('TT-1 Imports & Non-tax Memo '!F30 <> \"\", 'TT-1 Imports & Non-tax Memo '!F30,0)","v":0},{"$f":"IF('TT-1 Imports & Non-tax Memo '!G30 <> \"\", 'TT-1 Imports & Non-tax Memo '!G30,0)","v":0},{"$f":"IF('TT-1 Imports & Non-tax Memo '!H30 <> \"\", 'TT-1 Imports & Non-tax Memo '!H30,0)","v":0},{"$f":"IF('TT-1 Imports & Non-tax Memo '!I30 <> \"\", 'TT-1 Imports & Non-tax Memo '!I30,0)","v":0},{"$f":"IF('TT-1 Imports & Non-tax Memo '!J30 <> \"\", 'TT-1 Imports & Non-tax Memo '!J30,0)","v":0},{"$f":"IF('TT-1 Imports & Non-tax Memo '!K30 <> \"\", 'TT-1 Imports & Non-tax Memo '!K30,0)","v":0},{"$f":"IF('TT-1 Imports & Non-tax Memo '!L30 <> \"\", 'TT-1 Imports & Non-tax Memo '!L30,0)","v":0},{"$f":"IF('TT-1 Imports & Non-tax Memo '!M30 <> \"\", 'TT-1 Imports & Non-tax Memo '!M30,0)","v":0},{"$f":"IF('TT-1 Imports & Non-tax Memo '!N30 <> \"\", 'TT-1 Imports & Non-tax Memo '!N30,0)","v":0},{"$f":"IF('TT-1 Imports & Non-tax Memo '!O30 <> \"\", 'TT-1 Imports & Non-tax Memo '!O30,0)","v":0},{"$f":"IF('TT-1 Imports & Non-tax Memo '!P30 <> \"\", 'TT-1 Imports & Non-tax Memo '!P30,0)","v":0},{"$f":"IF('TT-1 Imports & Non-tax Memo '!Q30 <> \"\", 'TT-1 Imports & Non-tax Memo '!Q30,0)","v":0},{"$f":"IF('TT-1 Imports & Non-tax Memo '!R30 <> \"\", 'TT-1 Imports & Non-tax Memo '!R30,0)","v":0},{"$f":"IF('TT-1 Imports & Non-tax Memo '!S30 <> \"\", 'TT-1 Imports & Non-tax Memo '!S30,0)","v":0}]
[{"$f":"IF('TT-1 Imports & Non-tax Memo '!A31 <> 0, 'TT-1 Imports & Non-tax Memo '!A31, \"\")","v":""},{"$f":"IF('TT-1 Imports & Non-tax Memo '!D31 <> 0, 'TT-1 Imports & Non-tax Memo '!D31, \"\")","v":""},{"$f":"IF('TT-1 Imports & Non-tax Memo '!E31 <> 0, 'TT-1 Imports & Non-tax Memo '!E31, \"\")","v":""},{"$f":"IF('TT-1 Imports & Non-tax Memo '!F31 <> \"\", 'TT-1 Imports & Non-tax Memo '!F31,0)","v":0},{"$f":"IF('TT-1 Imports & Non-tax Memo '!G31 <> \"\", 'TT-1 Imports & Non-tax Memo '!G31,0)","v":0},{"$f":"IF('TT-1 Imports & Non-tax Memo '!H31 <> \"\", 'TT-1 Imports & Non-tax Memo '!H31,0)","v":0},{"$f":"IF('TT-1 Imports & Non-tax Memo '!I31 <> \"\", 'TT-1 Imports & Non-tax Memo '!I31,0)","v":0},{"$f":"IF('TT-1 Imports & Non-tax Memo '!J31 <> \"\", 'TT-1 Imports & Non-tax Memo '!J31,0)","v":0},{"$f":"IF('TT-1 Imports & Non-tax Memo '!K31 <> \"\", 'TT-1 Imports & Non-tax Memo '!K31,0)","v":0},{"$f":"IF('TT-1 Imports & Non-tax Memo '!L31 <> \"\", 'TT-1 Imports & Non-tax Memo '!L31,0)","v":0},{"$f":"IF('TT-1 Imports & Non-tax Memo '!M31 <> \"\", 'TT-1 Imports & Non-tax Memo '!M31,0)","v":0},{"$f":"IF('TT-1 Imports & Non-tax Memo '!N31 <> \"\", 'TT-1 Imports & Non-tax Memo '!N31,0)","v":0},{"$f":"IF('TT-1 Imports & Non-tax Memo '!O31 <> \"\", 'TT-1 Imports & Non-tax Memo '!O31,0)","v":0},{"$f":"IF('TT-1 Imports & Non-tax Memo '!P31 <> \"\", 'TT-1 Imports & Non-tax Memo '!P31,0)","v":0},{"$f":"IF('TT-1 Imports & Non-tax Memo '!Q31 <> \"\", 'TT-1 Imports & Non-tax Memo '!Q31,0)","v":0},{"$f":"IF('TT-1 Imports & Non-tax Memo '!R31 <> \"\", 'TT-1 Imports & Non-tax Memo '!R31,0)","v":0},{"$f":"IF('TT-1 Imports & Non-tax Memo '!S31 <> \"\", 'TT-1 Imports & Non-tax Memo '!S31,0)","v":0}]
[{"$f":"IF('TT-1 Imports & Non-tax Memo '!A32 <> 0, 'TT-1 Imports & Non-tax Memo '!A32, \"\")","v":""},{"$f":"IF('TT-1 Imports & Non-tax Memo '!D32 <> 0, 'TT-1 Imports & Non-tax Memo '!D32, \"\")","v":""},{"$f":"IF('TT-1 Imports & Non-tax Memo '!E32 <> 0, 'TT-1 Imports & Non-tax Memo '!E32, \"\")","v":""},{"$f":"IF('TT-1 Imports & Non-tax Memo '!F32 <> \"\", 'TT-1 Imports & Non-tax Memo '!F32,0)","v":0},{"$f":"IF('TT-1 Imports & Non-tax Memo '!G32 <> \"\", 'TT-1 Imports & Non-tax Memo '!G32,0)","v":0},{"$f":"IF('TT-1 Imports & Non-tax Memo '!H32 <> \"\", 'TT-1 Imports & Non-tax Memo '!H32,0)","v":0},{"$f":"IF('TT-1 Imports & Non-tax Memo '!I32 <> \"\", 'TT-1 Imports & Non-tax Memo '!I32,0)","v":0},{"$f":"IF('TT-1 Imports & Non-tax Memo '!J32 <> \"\", 'TT-1 Imports & Non-tax Memo '!J32,0)","v":0},{"$f":"IF('TT-1 Imports & Non-tax Memo '!K32 <> \"\", 'TT-1 Imports & Non-tax Memo '!K32,0)","v":0},{"$f":"IF('TT-1 Imports & Non-tax Memo '!L32 <> \"\", 'TT-1 Imports & Non-tax Memo '!L32,0)","v":0},{"$f":"IF('TT-1 Imports & Non-tax Memo '!M32 <> \"\", 'TT-1 Imports & Non-tax Memo '!M32,0)","v":0},{"$f":"IF('TT-1 Imports & Non-tax Memo '!N32 <> \"\", 'TT-1 Imports & Non-tax Memo '!N32,0)","v":0},{"$f":"IF('TT-1 Imports & Non-tax Memo '!O32 <> \"\", 'TT-1 Imports & Non-tax Memo '!O32,0)","v":0},{"$f":"IF('TT-1 Imports & Non-tax Memo '!P32 <> \"\", 'TT-1 Imports & Non-tax Memo '!P32,0)","v":0},{"$f":"IF('TT-1 Imports & Non-tax Memo '!Q32 <> \"\", 'TT-1 Imports & Non-tax Memo '!Q32,0)","v":0},{"$f":"IF('TT-1 Imports & Non-tax Memo '!R32 <> \"\", 'TT-1 Imports & Non-tax Memo '!R32,0)","v":0},{"$f":"IF('TT-1 Imports & Non-tax Memo '!S32 <> \"\", 'TT-1 Imports & Non-tax Memo '!S32,0)","v":0}]
[{"$f":"IF('TT-1 Imports & Non-tax Memo '!A33 <> 0, 'TT-1 Imports & Non-tax Memo '!A33, \"\")","v":""},{"$f":"IF('TT-1 Imports & Non-tax Memo '!D33 <> 0, 'TT-1 Imports & Non-tax Memo '!D33, \"\")","v":""},{"$f":"IF('TT-1 Imports & Non-tax Memo '!E33 <> 0, 'TT-1 Imports & Non-tax Memo '!E33, \"\")","v":""},{"$f":"IF('TT-1 Imports & Non-tax Memo '!F33 <> \"\", 'TT-1 Imports & Non-tax Memo '!F33,0)","v":0},{"$f":"IF('TT-1 Imports & Non-tax Memo '!G33 <> \"\", 'TT-1 Imports & Non-tax Memo '!G33,0)","v":0},{"$f":"IF('TT-1 Imports & Non-tax Memo '!H33 <> \"\", 'TT-1 Imports & Non-tax Memo '!H33,0)","v":0},{"$f":"IF('TT-1 Imports & Non-tax Memo '!I33 <> \"\", 'TT-1 Imports & Non-tax Memo '!I33,0)","v":0},{"$f":"IF('TT-1 Imports & Non-tax Memo '!J33 <> \"\", 'TT-1 Imports & Non-tax Memo '!J33,0)","v":0},{"$f":"IF('TT-1 Imports & Non-tax Memo '!K33 <> \"\", 'TT-1 Imports & Non-tax Memo '!K33,0)","v":0},{"$f":"IF('TT-1 Imports & Non-tax Memo '!L33 <> \"\", 'TT-1 Imports & Non-tax Memo '!L33,0)","v":0},{"$f":"IF('TT-1 Imports & Non-tax Memo '!M33 <> \"\", 'TT-1 Imports & Non-tax Memo '!M33,0)","v":0},{"$f":"IF('TT-1 Imports & Non-tax Memo '!N33 <> \"\", 'TT-1 Imports & Non-tax Memo '!N33,0)","v":0},{"$f":"IF('TT-1 Imports & Non-tax Memo '!O33 <> \"\", 'TT-1 Imports & Non-tax Memo '!O33,0)","v":0},{"$f":"IF('TT-1 Imports & Non-tax Memo '!P33 <> \"\", 'TT-1 Imports & Non-tax Memo '!P33,0)","v":0},{"$f":"IF('TT-1 Imports & Non-tax Memo '!Q33 <> \"\", 'TT-1 Imports & Non-tax Memo '!Q33,0)","v":0},{"$f":"IF('TT-1 Imports & Non-tax Memo '!R33 <> \"\", 'TT-1 Imports & Non-tax Memo '!R33,0)","v":0},{"$f":"IF('TT-1 Imports & Non-tax Memo '!S33 <> \"\", 'TT-1 Imports & Non-tax Memo '!S33,0)","v":0}]
[{"$f":"IF('TT-1 Imports & Non-tax Memo '!A34 <> 0, 'TT-1 Imports & Non-tax Memo '!A34, \"\")","v":""},{"$f":"IF('TT-1 Imports & Non-tax Memo '!D34 <> 0, 'TT-1 Imports & Non-tax Memo '!D34, \"\")","v":""},{"$f":"IF('TT-1 Imports & Non-tax Memo '!E34 <> 0, 'TT-1 Imports & Non-tax Memo '!E34, \"\")","v":""},{"$f":"IF('TT-1 Imports & Non-tax Memo '!F34 <> \"\", 'TT-1 Imports & Non-tax Memo '!F34,0)","v":0},{"$f":"IF('TT-1 Imports & Non-tax Memo '!G34 <> \"\", 'TT-1 Imports & Non-tax Memo '!G34,0)","v":0},{"$f":"IF('TT-1 Imports & Non-tax Memo '!H34 <> \"\", 'TT-1 Imports & Non-tax Memo '!H34,0)","v":0},{"$f":"IF('TT-1 Imports & Non-tax Memo '!I34 <> \"\", 'TT-1 Imports & Non-tax Memo '!I34,0)","v":0},{"$f":"IF('TT-1 Imports & Non-tax Memo '!J34 <> \"\", 'TT-1 Imports & Non-tax Memo '!J34,0)","v":0},{"$f":"IF('TT-1 Imports & Non-tax Memo '!K34 <> \"\", 'TT-1 Imports & Non-tax Memo '!K34,0)","v":0},{"$f":"IF('TT-1 Imports & Non-tax Memo '!L34 <> \"\", 'TT-1 Imports & Non-tax Memo '!L34,0)","v":0},{"$f":"IF('TT-1 Imports & Non-tax Memo '!M34 <> \"\", 'TT-1 Imports & Non-tax Memo '!M34,0)","v":0},{"$f":"IF('TT-1 Imports & Non-tax Memo '!N34 <> \"\", 'TT-1 Imports & Non-tax Memo '!N34,0)","v":0},{"$f":"IF('TT-1 Imports & Non-tax Memo '!O34 <> \"\", 'TT-1 Imports & Non-tax Memo '!O34,0)","v":0},{"$f":"IF('TT-1 Imports & Non-tax Memo '!P34 <> \"\", 'TT-1 Imports & Non-tax Memo '!P34,0)","v":0},{"$f":"IF('TT-1 Imports & Non-tax Memo '!Q34 <> \"\", 'TT-1 Imports & Non-tax Memo '!Q34,0)","v":0},{"$f":"IF('TT-1 Imports & Non-tax Memo '!R34 <> \"\", 'TT-1 Imports & Non-tax Memo '!R34,0)","v":0},{"$f":"IF('TT-1 Imports & Non-tax Memo '!S34 <> \"\", 'TT-1 Imports & Non-tax Memo '!S34,0)","v":0}]
[{"$f":"IF('TT-1 Imports & Non-tax Memo '!A35 <> 0, 'TT-1 Imports & Non-tax Memo '!A35, \"\")","v":""},{"$f":"IF('TT-1 Imports & Non-tax Memo '!D35 <> 0, 'TT-1 Imports & Non-tax Memo '!D35, \"\")","v":""},{"$f":"IF('TT-1 Imports & Non-tax Memo '!E35 <> 0, 'TT-1 Imports & Non-tax Memo '!E35, \"\")","v":""},{"$f":"IF('TT-1 Imports & Non-tax Memo '!F35 <> \"\", 'TT-1 Imports & Non-tax Memo '!F35,0)","v":0},{"$f":"IF('TT-1 Imports & Non-tax Memo '!G35 <> \"\", 'TT-1 Imports & Non-tax Memo '!G35,0)","v":0},{"$f":"IF('TT-1 Imports & Non-tax Memo '!H35 <> \"\", 'TT-1 Imports & Non-tax Memo '!H35,0)","v":0},{"$f":"IF('TT-1 Imports & Non-tax Memo '!I35 <> \"\", 'TT-1 Imports & Non-tax Memo '!I35,0)","v":0},{"$f":"IF('TT-1 Imports & Non-tax Memo '!J35 <> \"\", 'TT-1 Imports & Non-tax Memo '!J35,0)","v":0},{"$f":"IF('TT-1 Imports & Non-tax Memo '!K35 <> \"\", 'TT-1 Imports & Non-tax Memo '!K35,0)","v":0},{"$f":"IF('TT-1 Imports & Non-tax Memo '!L35 <> \"\", 'TT-1 Imports & Non-tax Memo '!L35,0)","v":0},{"$f":"IF('TT-1 Imports & Non-tax Memo '!M35 <> \"\", 'TT-1 Imports & Non-tax Memo '!M35,0)","v":0},{"$f":"IF('TT-1 Imports & Non-tax Memo '!N35 <> \"\", 'TT-1 Imports & Non-tax Memo '!N35,0)","v":0},{"$f":"IF('TT-1 Imports & Non-tax Memo '!O35 <> \"\", 'TT-1 Imports & Non-tax Memo '!O35,0)","v":0},{"$f":"IF('TT-1 Imports & Non-tax Memo '!P35 <> \"\", 'TT-1 Imports & Non-tax Memo '!P35,0)","v":0},{"$f":"IF('TT-1 Imports & Non-tax Memo '!Q35 <> \"\", 'TT-1 Imports & Non-tax Memo '!Q35,0)","v":0},{"$f":"IF('TT-1 Imports & Non-tax Memo '!R35 <> \"\", 'TT-1 Imports & Non-tax Memo '!R35,0)","v":0},{"$f":"IF('TT-1 Imports & Non-tax Memo '!S35 <> \"\", 'TT-1 Imports & Non-tax Memo '!S35,0)","v":0}]
[{"$f":"IF('TT-1 Imports & Non-tax Memo '!A36 <> 0, 'TT-1 Imports & Non-tax Memo '!A36, \"\")","v":""},{"$f":"IF('TT-1 Imports & Non-tax Memo '!D36 <> 0, 'TT-1 Imports & Non-tax Memo '!D36, \"\")","v":""},{"$f":"IF('TT-1 Imports & Non-tax Memo '!E36 <> 0, 'TT-1 Imports & Non-tax Memo '!E36, \"\")","v":""},{"$f":"IF('TT-1 Imports & Non-tax Memo '!F36 <> \"\", 'TT-1 Imports & Non-tax Memo '!F36,0)","v":0},{"$f":"IF('TT-1 Imports & Non-tax Memo '!G36 <> \"\", 'TT-1 Imports & Non-tax Memo '!G36,0)","v":0},{"$f":"IF('TT-1 Imports & Non-tax Memo '!H36 <> \"\", 'TT-1 Imports & Non-tax Memo '!H36,0)","v":0},{"$f":"IF('TT-1 Imports & Non-tax Memo '!I36 <> \"\", 'TT-1 Imports & Non-tax Memo '!I36,0)","v":0},{"$f":"IF('TT-1 Imports & Non-tax Memo '!J36 <> \"\", 'TT-1 Imports & Non-tax Memo '!J36,0)","v":0},{"$f":"IF('TT-1 Imports & Non-tax Memo '!K36 <> \"\", 'TT-1 Imports & Non-tax Memo '!K36,0)","v":0},{"$f":"IF('TT-1 Imports & Non-tax Memo '!L36 <> \"\", 'TT-1 Imports & Non-tax Memo '!L36,0)","v":0},{"$f":"IF('TT-1 Imports & Non-tax Memo '!M36 <> \"\", 'TT-1 Imports & Non-tax Memo '!M36,0)","v":0},{"$f":"IF('TT-1 Imports & Non-tax Memo '!N36 <> \"\", 'TT-1 Imports & Non-tax Memo '!N36,0)","v":0},{"$f":"IF('TT-1 Imports & Non-tax Memo '!O36 <> \"\", 'TT-1 Imports & Non-tax Memo '!O36,0)","v":0},{"$f":"IF('TT-1 Imports & Non-tax Memo '!P36 <> \"\", 'TT-1 Imports & Non-tax Memo '!P36,0)","v":0},{"$f":"IF('TT-1 Imports & Non-tax Memo '!Q36 <> \"\", 'TT-1 Imports & Non-tax Memo '!Q36,0)","v":0},{"$f":"IF('TT-1 Imports & Non-tax Memo '!R36 <> \"\", 'TT-1 Imports & Non-tax Memo '!R36,0)","v":0},{"$f":"IF('TT-1 Imports & Non-tax Memo '!S36 <> \"\", 'TT-1 Imports & Non-tax Memo '!S36,0)","v":0}]
[{"$f":"IF('TT-1 Imports & Non-tax Memo '!A37 <> 0, 'TT-1 Imports & Non-tax Memo '!A37, \"\")","v":""},{"$f":"IF('TT-1 Imports & Non-tax Memo '!D37 <> 0, 'TT-1 Imports & Non-tax Memo '!D37, \"\")","v":""},{"$f":"IF('TT-1 Imports & Non-tax Memo '!E37 <> 0, 'TT-1 Imports & Non-tax Memo '!E37, \"\")","v":""},{"$f":"IF('TT-1 Imports & Non-tax Memo '!F37 <> \"\", 'TT-1 Imports & Non-tax Memo '!F37,0)","v":0},{"$f":"IF('TT-1 Imports & Non-tax Memo '!G37 <> \"\", 'TT-1 Imports & Non-tax Memo '!G37,0)","v":0},{"$f":"IF('TT-1 Imports & Non-tax Memo '!H37 <> \"\", 'TT-1 Imports & Non-tax Memo '!H37,0)","v":0},{"$f":"IF('TT-1 Imports & Non-tax Memo '!I37 <> \"\", 'TT-1 Imports & Non-tax Memo '!I37,0)","v":0},{"$f":"IF('TT-1 Imports & Non-tax Memo '!J37 <> \"\", 'TT-1 Imports & Non-tax Memo '!J37,0)","v":0},{"$f":"IF('TT-1 Imports & Non-tax Memo '!K37 <> \"\", 'TT-1 Imports & Non-tax Memo '!K37,0)","v":0},{"$f":"IF('TT-1 Imports & Non-tax Memo '!L37 <> \"\", 'TT-1 Imports & Non-tax Memo '!L37,0)","v":0},{"$f":"IF('TT-1 Imports & Non-tax Memo '!M37 <> \"\", 'TT-1 Imports & Non-tax Memo '!M37,0)","v":0},{"$f":"IF('TT-1 Imports & Non-tax Memo '!N37 <> \"\", 'TT-1 Imports & Non-tax Memo '!N37,0)","v":0},{"$f":"IF('TT-1 Imports & Non-tax Memo '!O37 <> \"\", 'TT-1 Imports & Non-tax Memo '!O37,0)","v":0},{"$f":"IF('TT-1 Imports & Non-tax Memo '!P37 <> \"\", 'TT-1 Imports & Non-tax Memo '!P37,0)","v":0},{"$f":"IF('TT-1 Imports & Non-tax Memo '!Q37 <> \"\", 'TT-1 Imports & Non-tax Memo '!Q37,0)","v":0},{"$f":"IF('TT-1 Imports & Non-tax Memo '!R37 <> \"\", 'TT-1 Imports & Non-tax Memo '!R37,0)","v":0},{"$f":"IF('TT-1 Imports & Non-tax Memo '!S37 <> \"\", 'TT-1 Imports & Non-tax Memo '!S37,0)","v":0}]
[{"$f":"IF('TT-1 Imports & Non-tax Memo '!A38 <> 0, 'TT-1 Imports & Non-tax Memo '!A38, \"\")","v":""},{"$f":"IF('TT-1 Imports & Non-tax Memo '!D38 <> 0, 'TT-1 Imports & Non-tax Memo '!D38, \"\")","v":""},{"$f":"IF('TT-1 Imports & Non-tax Memo '!E38 <> 0, 'TT-1 Imports & Non-tax Memo '!E38, \"\")","v":""},{"$f":"IF('TT-1 Imports & Non-tax Memo '!F38 <> \"\", 'TT-1 Imports & Non-tax Memo '!F38,0)","v":0},{"$f":"IF('TT-1 Imports & Non-tax Memo '!G38 <> \"\", 'TT-1 Imports & Non-tax Memo '!G38,0)","v":0},{"$f":"IF('TT-1 Imports & Non-tax Memo '!H38 <> \"\", 'TT-1 Imports & Non-tax Memo '!H38,0)","v":0},{"$f":"IF('TT-1 Imports & Non-tax Memo '!I38 <> \"\", 'TT-1 Imports & Non-tax Memo '!I38,0)","v":0},{"$f":"IF('TT-1 Imports & Non-tax Memo '!J38 <> \"\", 'TT-1 Imports & Non-tax Memo '!J38,0)","v":0},{"$f":"IF('TT-1 Imports & Non-tax Memo '!K38 <> \"\", 'TT-1 Imports & Non-tax Memo '!K38,0)","v":0},{"$f":"IF('TT-1 Imports & Non-tax Memo '!L38 <> \"\", 'TT-1 Imports & Non-tax Memo '!L38,0)","v":0},{"$f":"IF('TT-1 Imports & Non-tax Memo '!M38 <> \"\", 'TT-1 Imports & Non-tax Memo '!M38,0)","v":0},{"$f":"IF('TT-1 Imports & Non-tax Memo '!N38 <> \"\", 'TT-1 Imports & Non-tax Memo '!N38,0)","v":0},{"$f":"IF('TT-1 Imports & Non-tax Memo '!O38 <> \"\", 'TT-1 Imports & Non-tax Memo '!O38,0)","v":0},{"$f":"IF('TT-1 Imports & Non-tax Memo '!P38 <> \"\", 'TT-1 Imports & Non-tax Memo '!P38,0)","v":0},{"$f":"IF('TT-1 Imports & Non-tax Memo '!Q38 <> \"\", 'TT-1 Imports & Non-tax Memo '!Q38,0)","v":0},{"$f":"IF('TT-1 Imports & Non-tax Memo '!R38 <> \"\", 'TT-1 Imports & Non-tax Memo '!R38,0)","v":0},{"$f":"IF('TT-1 Imports & Non-tax Memo '!S38 <> \"\", 'TT-1 Imports & Non-tax Memo '!S38,0)","v":0}]
[{"$f":"IF('TT-1 Imports & Non-tax Memo '!A39 <> 0, 'TT-1 Imports & Non-tax Memo '!A39, \"\")","v":""},{"$f":"IF('TT-1 Imports & Non-tax Memo '!D39 <> 0, 'TT-1 Imports & Non-tax Memo '!D39, \"\")","v":""},{"$f":"IF('TT-1 Imports & Non-tax Memo '!E39 <> 0, 'TT-1 Imports & Non-tax Memo '!E39, \"\")","v":""},{"$f":"IF('TT-1 Imports & Non-tax Memo '!F39 <> \"\", 'TT-1 Imports & Non-tax Memo '!F39,0)","v":0},{"$f":"IF('TT-1 Imports & Non-tax Memo '!G39 <> \"\", 'TT-1 Imports & Non-tax Memo '!G39,0)","v":0},{"$f":"IF('TT-1 Imports & Non-tax Memo '!H39 <> \"\", 'TT-1 Imports & Non-tax Memo '!H39,0)","v":0},{"$f":"IF('TT-1 Imports & Non-tax Memo '!I39 <> \"\", 'TT-1 Imports & Non-tax Memo '!I39,0)","v":0},{"$f":"IF('TT-1 Imports & Non-tax Memo '!J39 <> \"\", 'TT-1 Imports & Non-tax Memo '!J39,0)","v":0},{"$f":"IF('TT-1 Imports & Non-tax Memo '!K39 <> \"\", 'TT-1 Imports & Non-tax Memo '!K39,0)","v":0},{"$f":"IF('TT-1 Imports & Non-tax Memo '!L39 <> \"\", 'TT-1 Imports & Non-tax Memo '!L39,0)","v":0},{"$f":"IF('TT-1 Imports & Non-tax Memo '!M39 <> \"\", 'TT-1 Imports & Non-tax Memo '!M39,0)","v":0},{"$f":"IF('TT-1 Imports & Non-tax Memo '!N39 <> \"\", 'TT-1 Imports & Non-tax Memo '!N39,0)","v":0},{"$f":"IF('TT-1 Imports & Non-tax Memo '!O39 <> \"\", 'TT-1 Imports & Non-tax Memo '!O39,0)","v":0},{"$f":"IF('TT-1 Imports & Non-tax Memo '!P39 <> \"\", 'TT-1 Imports & Non-tax Memo '!P39,0)","v":0},{"$f":"IF('TT-1 Imports & Non-tax Memo '!Q39 <> \"\", 'TT-1 Imports & Non-tax Memo '!Q39,0)","v":0},{"$f":"IF('TT-1 Imports & Non-tax Memo '!R39 <> \"\", 'TT-1 Imports & Non-tax Memo '!R39,0)","v":0},{"$f":"IF('TT-1 Imports & Non-tax Memo '!S39 <> \"\", 'TT-1 Imports & Non-tax Memo '!S39,0)","v":0}]
[{"$f":"IF('TT-1 Imports & Non-tax Memo '!A40 <> 0, 'TT-1 Imports & Non-tax Memo '!A40, \"\")","v":""},{"$f":"IF('TT-1 Imports & Non-tax Memo '!D40 <> 0, 'TT-1 Imports & Non-tax Memo '!D40, \"\")","v":""},{"$f":"IF('TT-1 Imports & Non-tax Memo '!E40 <> 0, 'TT-1 Imports & Non-tax Memo '!E40, \"\")","v":""},{"$f":"IF('TT-1 Imports & Non-tax Memo '!F40 <> \"\", 'TT-1 Imports & Non-tax Memo '!F40,0)","v":0},{"$f":"IF('TT-1 Imports & Non-tax Memo '!G40 <> \"\", 'TT-1 Imports & Non-tax Memo '!G40,0)","v":0},{"$f":"IF('TT-1 Imports & Non-tax Memo '!H40 <> \"\", 'TT-1 Imports & Non-tax Memo '!H40,0)","v":0},{"$f":"IF('TT-1 Imports & Non-tax Memo '!I40 <> \"\", 'TT-1 Imports & Non-tax Memo '!I40,0)","v":0},{"$f":"IF('TT-1 Imports & Non-tax Memo '!J40 <> \"\", 'TT-1 Imports & Non-tax Memo '!J40,0)","v":0},{"$f":"IF('TT-1 Imports & Non-tax Memo '!K40 <> \"\", 'TT-1 Imports & Non-tax Memo '!K40,0)","v":0},{"$f":"IF('TT-1 Imports & Non-tax Memo '!L40 <> \"\", 'TT-1 Imports & Non-tax Memo '!L40,0)","v":0},{"$f":"IF('TT-1 Imports & Non-tax Memo '!M40 <> \"\", 'TT-1 Imports & Non-tax Memo '!M40,0)","v":0},{"$f":"IF('TT-1 Imports & Non-tax Memo '!N40 <> \"\", 'TT-1 Imports & Non-tax Memo '!N40,0)","v":0},{"$f":"IF('TT-1 Imports & Non-tax Memo '!O40 <> \"\", 'TT-1 Imports & Non-tax Memo '!O40,0)","v":0},{"$f":"IF('TT-1 Imports & Non-tax Memo '!P40 <> \"\", 'TT-1 Imports & Non-tax Memo '!P40,0)","v":0},{"$f":"IF('TT-1 Imports & Non-tax Memo '!Q40 <> \"\", 'TT-1 Imports & Non-tax Memo '!Q40,0)","v":0},{"$f":"IF('TT-1 Imports & Non-tax Memo '!R40 <> \"\", 'TT-1 Imports & Non-tax Memo '!R40,0)","v":0},{"$f":"IF('TT-1 Imports & Non-tax Memo '!S40 <> \"\", 'TT-1 Imports & Non-tax Memo '!S40,0)","v":0}]
[{"$f":"IF('TT-1 Imports & Non-tax Memo '!A41 <> 0, 'TT-1 Imports & Non-tax Memo '!A41, \"\")","v":""},{"$f":"IF('TT-1 Imports & Non-tax Memo '!D41 <> 0, 'TT-1 Imports & Non-tax Memo '!D41, \"\")","v":""},{"$f":"IF('TT-1 Imports & Non-tax Memo '!E41 <> 0, 'TT-1 Imports & Non-tax Memo '!E41, \"\")","v":""},{"$f":"IF('TT-1 Imports & Non-tax Memo '!F41 <> \"\", 'TT-1 Imports & Non-tax Memo '!F41,0)","v":0},{"$f":"IF('TT-1 Imports & Non-tax Memo '!G41 <> \"\", 'TT-1 Imports & Non-tax Memo '!G41,0)","v":0},{"$f":"IF('TT-1 Imports & Non-tax Memo '!H41 <> \"\", 'TT-1 Imports & Non-tax Memo '!H41,0)","v":0},{"$f":"IF('TT-1 Imports & Non-tax Memo '!I41 <> \"\", 'TT-1 Imports & Non-tax Memo '!I41,0)","v":0},{"$f":"IF('TT-1 Imports & Non-tax Memo '!J41 <> \"\", 'TT-1 Imports & Non-tax Memo '!J41,0)","v":0},{"$f":"IF('TT-1 Imports & Non-tax Memo '!K41 <> \"\", 'TT-1 Imports & Non-tax Memo '!K41,0)","v":0},{"$f":"IF('TT-1 Imports & Non-tax Memo '!L41 <> \"\", 'TT-1 Imports & Non-tax Memo '!L41,0)","v":0},{"$f":"IF('TT-1 Imports & Non-tax Memo '!M41 <> \"\", 'TT-1 Imports & Non-tax Memo '!M41,0)","v":0},{"$f":"IF('TT-1 Imports & Non-tax Memo '!N41 <> \"\", 'TT-1 Imports & Non-tax Memo '!N41,0)","v":0},{"$f":"IF('TT-1 Imports & Non-tax Memo '!O41 <> \"\", 'TT-1 Imports & Non-tax Memo '!O41,0)","v":0},{"$f":"IF('TT-1 Imports & Non-tax Memo '!P41 <> \"\", 'TT-1 Imports & Non-tax Memo '!P41,0)","v":0},{"$f":"IF('TT-1 Imports & Non-tax Memo '!Q41 <> \"\", 'TT-1 Imports & Non-tax Memo '!Q41,0)","v":0},{"$f":"IF('TT-1 Imports & Non-tax Memo '!R41 <> \"\", 'TT-1 Imports & Non-tax Memo '!R41,0)","v":0},{"$f":"IF('TT-1 Imports & Non-tax Memo '!S41 <> \"\", 'TT-1 Imports & Non-tax Memo '!S41,0)","v":0}]
[{"$f":"IF('TT-1 Imports & Non-tax Memo '!A42 <> 0, 'TT-1 Imports & Non-tax Memo '!A42, \"\")","v":""},{"$f":"IF('TT-1 Imports & Non-tax Memo '!D42 <> 0, 'TT-1 Imports & Non-tax Memo '!D42, \"\")","v":""},{"$f":"IF('TT-1 Imports & Non-tax Memo '!E42 <> 0, 'TT-1 Imports & Non-tax Memo '!E42, \"\")","v":""},{"$f":"IF('TT-1 Imports & Non-tax Memo '!F42 <> \"\", 'TT-1 Imports & Non-tax Memo '!F42,0)","v":0},{"$f":"IF('TT-1 Imports & Non-tax Memo '!G42 <> \"\", 'TT-1 Imports & Non-tax Memo '!G42,0)","v":0},{"$f":"IF('TT-1 Imports & Non-tax Memo '!H42 <> \"\", 'TT-1 Imports & Non-tax Memo '!H42,0)","v":0},{"$f":"IF('TT-1 Imports & Non-tax Memo '!I42 <> \"\", 'TT-1 Imports & Non-tax Memo '!I42,0)","v":0},{"$f":"IF('TT-1 Imports & Non-tax Memo '!J42 <> \"\", 'TT-1 Imports & Non-tax Memo '!J42,0)","v":0},{"$f":"IF('TT-1 Imports & Non-tax Memo '!K42 <> \"\", 'TT-1 Imports & Non-tax Memo '!K42,0)","v":0},{"$f":"IF('TT-1 Imports & Non-tax Memo '!L42 <> \"\", 'TT-1 Imports & Non-tax Memo '!L42,0)","v":0},{"$f":"IF('TT-1 Imports & Non-tax Memo '!M42 <> \"\", 'TT-1 Imports & Non-tax Memo '!M42,0)","v":0},{"$f":"IF('TT-1 Imports & Non-tax Memo '!N42 <> \"\", 'TT-1 Imports & Non-tax Memo '!N42,0)","v":0},{"$f":"IF('TT-1 Imports & Non-tax Memo '!O42 <> \"\", 'TT-1 Imports & Non-tax Memo '!O42,0)","v":0},{"$f":"IF('TT-1 Imports & Non-tax Memo '!P42 <> \"\", 'TT-1 Imports & Non-tax Memo '!P42,0)","v":0},{"$f":"IF('TT-1 Imports & Non-tax Memo '!Q42 <> \"\", 'TT-1 Imports & Non-tax Memo '!Q42,0)","v":0},{"$f":"IF('TT-1 Imports & Non-tax Memo '!R42 <> \"\", 'TT-1 Imports & Non-tax Memo '!R42,0)","v":0},{"$f":"IF('TT-1 Imports & Non-tax Memo '!S42 <> \"\", 'TT-1 Imports & Non-tax Memo '!S42,0)","v":0}]
[{"$f":"IF('TT-1 Imports & Non-tax Memo '!A43 <> 0, 'TT-1 Imports & Non-tax Memo '!A43, \"\")","v":""},{"$f":"IF('TT-1 Imports & Non-tax Memo '!D43 <> 0, 'TT-1 Imports & Non-tax Memo '!D43, \"\")","v":""},{"$f":"IF('TT-1 Imports & Non-tax Memo '!E43 <> 0, 'TT-1 Imports & Non-tax Memo '!E43, \"\")","v":""},{"$f":"IF('TT-1 Imports & Non-tax Memo '!F43 <> \"\", 'TT-1 Imports & Non-tax Memo '!F43,0)","v":0},{"$f":"IF('TT-1 Imports & Non-tax Memo '!G43 <> \"\", 'TT-1 Imports & Non-tax Memo '!G43,0)","v":0},{"$f":"IF('TT-1 Imports & Non-tax Memo '!H43 <> \"\", 'TT-1 Imports & Non-tax Memo '!H43,0)","v":0},{"$f":"IF('TT-1 Imports & Non-tax Memo '!I43 <> \"\", 'TT-1 Imports & Non-tax Memo '!I43,0)","v":0},{"$f":"IF('TT-1 Imports & Non-tax Memo '!J43 <> \"\", 'TT-1 Imports & Non-tax Memo '!J43,0)","v":0},{"$f":"IF('TT-1 Imports & Non-tax Memo '!K43 <> \"\", 'TT-1 Imports & Non-tax Memo '!K43,0)","v":0},{"$f":"IF('TT-1 Imports & Non-tax Memo '!L43 <> \"\", 'TT-1 Imports & Non-tax Memo '!L43,0)","v":0},{"$f":"IF('TT-1 Imports & Non-tax Memo '!M43 <> \"\", 'TT-1 Imports & Non-tax Memo '!M43,0)","v":0},{"$f":"IF('TT-1 Imports & Non-tax Memo '!N43 <> \"\", 'TT-1 Imports & Non-tax Memo '!N43,0)","v":0},{"$f":"IF('TT-1 Imports & Non-tax Memo '!O43 <> \"\", 'TT-1 Imports & Non-tax Memo '!O43,0)","v":0},{"$f":"IF('TT-1 Imports & Non-tax Memo '!P43 <> \"\", 'TT-1 Imports & Non-tax Memo '!P43,0)","v":0},{"$f":"IF('TT-1 Imports & Non-tax Memo '!Q43 <> \"\", 'TT-1 Imports & Non-tax Memo '!Q43,0)","v":0},{"$f":"IF('TT-1 Imports & Non-tax Memo '!R43 <> \"\", 'TT-1 Imports & Non-tax Memo '!R43,0)","v":0},{"$f":"IF('TT-1 Imports & Non-tax Memo '!S43 <> \"\", 'TT-1 Imports & Non-tax Memo '!S43,0)","v":0}]
[{"$f":"IF('TT-1 Imports & Non-tax Memo '!A44 <> 0, 'TT-1 Imports & Non-tax Memo '!A44, \"\")","v":""},{"$f":"IF('TT-1 Imports & Non-tax Memo '!D44 <> 0, 'TT-1 Imports & Non-tax Memo '!D44, \"\")","v":""},{"$f":"IF('TT-1 Imports & Non-tax Memo '!E44 <> 0, 'TT-1 Imports & Non-tax Memo '!E44, \"\")","v":""},{"$f":"IF('TT-1 Imports & Non-tax Memo '!F44 <> \"\", 'TT-1 Imports & Non-tax Memo '!F44,0)","v":0},{"$f":"IF('TT-1 Imports & Non-tax Memo '!G44 <> \"\", 'TT-1 Imports & Non-tax Memo '!G44,0)","v":0},{"$f":"IF('TT-1 Imports & Non-tax Memo '!H44 <> \"\", 'TT-1 Imports & Non-tax Memo '!H44,0)","v":0},{"$f":"IF('TT-1 Imports & Non-tax Memo '!I44 <> \"\", 'TT-1 Imports & Non-tax Memo '!I44,0)","v":0},{"$f":"IF('TT-1 Imports & Non-tax Memo '!J44 <> \"\", 'TT-1 Imports & Non-tax Memo '!J44,0)","v":0},{"$f":"IF('TT-1 Imports & Non-tax Memo '!K44 <> \"\", 'TT-1 Imports & Non-tax Memo '!K44,0)","v":0},{"$f":"IF('TT-1 Imports & Non-tax Memo '!L44 <> \"\", 'TT-1 Imports & Non-tax Memo '!L44,0)","v":0},{"$f":"IF('TT-1 Imports & Non-tax Memo '!M44 <> \"\", 'TT-1 Imports & Non-tax Memo '!M44,0)","v":0},{"$f":"IF('TT-1 Imports & Non-tax Memo '!N44 <> \"\", 'TT-1 Imports & Non-tax Memo '!N44,0)","v":0},{"$f":"IF('TT-1 Imports & Non-tax Memo '!O44 <> \"\", 'TT-1 Imports & Non-tax Memo '!O44,0)","v":0},{"$f":"IF('TT-1 Imports & Non-tax Memo '!P44 <> \"\", 'TT-1 Imports & Non-tax Memo '!P44,0)","v":0},{"$f":"IF('TT-1 Imports & Non-tax Memo '!Q44 <> \"\", 'TT-1 Imports & Non-tax Memo '!Q44,0)","v":0},{"$f":"IF('TT-1 Imports & Non-tax Memo '!R44 <> \"\", 'TT-1 Imports & Non-tax Memo '!R44,0)","v":0},{"$f":"IF('TT-1 Imports & Non-tax Memo '!S44 <> \"\", 'TT-1 Imports & Non-tax Memo '!S44,0)","v":0}]
[{"$f":"IF('TT-1 Imports & Non-tax Memo '!A45 <> 0, 'TT-1 Imports & Non-tax Memo '!A45, \"\")","v":""},{"$f":"IF('TT-1 Imports & Non-tax Memo '!D45 <> 0, 'TT-1 Imports & Non-tax Memo '!D45, \"\")","v":""},{"$f":"IF('TT-1 Imports & Non-tax Memo '!E45 <> 0, 'TT-1 Imports & Non-tax Memo '!E45, \"\")","v":""},{"$f":"IF('TT-1 Imports & Non-tax Memo '!F45 <> \"\", 'TT-1 Imports & Non-tax Memo '!F45,0)","v":0},{"$f":"IF('TT-1 Imports & Non-tax Memo '!G45 <> \"\", 'TT-1 Imports & Non-tax Memo '!G45,0)","v":0},{"$f":"IF('TT-1 Imports & Non-tax Memo '!H45 <> \"\", 'TT-1 Imports & Non-tax Memo '!H45,0)","v":0},{"$f":"IF('TT-1 Imports & Non-tax Memo '!I45 <> \"\", 'TT-1 Imports & Non-tax Memo '!I45,0)","v":0},{"$f":"IF('TT-1 Imports & Non-tax Memo '!J45 <> \"\", 'TT-1 Imports & Non-tax Memo '!J45,0)","v":0},{"$f":"IF('TT-1 Imports & Non-tax Memo '!K45 <> \"\", 'TT-1 Imports & Non-tax Memo '!K45,0)","v":0},{"$f":"IF('TT-1 Imports & Non-tax Memo '!L45 <> \"\", 'TT-1 Imports & Non-tax Memo '!L45,0)","v":0},{"$f":"IF('TT-1 Imports & Non-tax Memo '!M45 <> \"\", 'TT-1 Imports & Non-tax Memo '!M45,0)","v":0},{"$f":"IF('TT-1 Imports & Non-tax Memo '!N45 <> \"\", 'TT-1 Imports & Non-tax Memo '!N45,0)","v":0},{"$f":"IF('TT-1 Imports & Non-tax Memo '!O45 <> \"\", 'TT-1 Imports & Non-tax Memo '!O45,0)","v":0},{"$f":"IF('TT-1 Imports & Non-tax Memo '!P45 <> \"\", 'TT-1 Imports & Non-tax Memo '!P45,0)","v":0},{"$f":"IF('TT-1 Imports & Non-tax Memo '!Q45 <> \"\", 'TT-1 Imports & Non-tax Memo '!Q45,0)","v":0},{"$f":"IF('TT-1 Imports & Non-tax Memo '!R45 <> \"\", 'TT-1 Imports & Non-tax Memo '!R45,0)","v":0},{"$f":"IF('TT-1 Imports & Non-tax Memo '!S45 <> \"\", 'TT-1 Imports & Non-tax Memo '!S45,0)","v":0}]
[{"$f":"IF('TT-1 Imports & Non-tax Memo '!A46 <> 0, 'TT-1 Imports & Non-tax Memo '!A46, \"\")","v":""},{"$f":"IF('TT-1 Imports & Non-tax Memo '!D46 <> 0, 'TT-1 Imports & Non-tax Memo '!D46, \"\")","v":""},{"$f":"IF('TT-1 Imports & Non-tax Memo '!E46 <> 0, 'TT-1 Imports & Non-tax Memo '!E46, \"\")","v":""},{"$f":"IF('TT-1 Imports & Non-tax Memo '!F46 <> \"\", 'TT-1 Imports & Non-tax Memo '!F46,0)","v":0},{"$f":"IF('TT-1 Imports & Non-tax Memo '!G46 <> \"\", 'TT-1 Imports & Non-tax Memo '!G46,0)","v":0},{"$f":"IF('TT-1 Imports & Non-tax Memo '!H46 <> \"\", 'TT-1 Imports & Non-tax Memo '!H46,0)","v":0},{"$f":"IF('TT-1 Imports & Non-tax Memo '!I46 <> \"\", 'TT-1 Imports & Non-tax Memo '!I46,0)","v":0},{"$f":"IF('TT-1 Imports & Non-tax Memo '!J46 <> \"\", 'TT-1 Imports & Non-tax Memo '!J46,0)","v":0},{"$f":"IF('TT-1 Imports & Non-tax Memo '!K46 <> \"\", 'TT-1 Imports & Non-tax Memo '!K46,0)","v":0},{"$f":"IF('TT-1 Imports & Non-tax Memo '!L46 <> \"\", 'TT-1 Imports & Non-tax Memo '!L46,0)","v":0},{"$f":"IF('TT-1 Imports & Non-tax Memo '!M46 <> \"\", 'TT-1 Imports & Non-tax Memo '!M46,0)","v":0},{"$f":"IF('TT-1 Imports & Non-tax Memo '!N46 <> \"\", 'TT-1 Imports & Non-tax Memo '!N46,0)","v":0},{"$f":"IF('TT-1 Imports & Non-tax Memo '!O46 <> \"\", 'TT-1 Imports & Non-tax Memo '!O46,0)","v":0},{"$f":"IF('TT-1 Imports & Non-tax Memo '!P46 <> \"\", 'TT-1 Imports & Non-tax Memo '!P46,0)","v":0},{"$f":"IF('TT-1 Imports & Non-tax Memo '!Q46 <> \"\", 'TT-1 Imports & Non-tax Memo '!Q46,0)","v":0},{"$f":"IF('TT-1 Imports & Non-tax Memo '!R46 <> \"\", 'TT-1 Imports & Non-tax Memo '!R46,0)","v":0},{"$f":"IF('TT-1 Imports & Non-tax Memo '!S46 <> \"\", 'TT-1 Imports & Non-tax Memo '!S46,0)","v":0}]
[{"$f":"IF('TT-1 Imports & Non-tax Memo '!A47 <> 0, 'TT-1 Imports & Non-tax Memo '!A47, \"\")","v":""},{"$f":"IF('TT-1 Imports & Non-tax Memo '!D47 <> 0, 'TT-1 Imports & Non-tax Memo '!D47, \"\")","v":""},{"$f":"IF('TT-1 Imports & Non-tax Memo '!E47 <> 0, 'TT-1 Imports & Non-tax Memo '!E47, \"\")","v":""},{"$f":"IF('TT-1 Imports & Non-tax Memo '!F47 <> \"\", 'TT-1 Imports & Non-tax Memo '!F47,0)","v":0},{"$f":"IF('TT-1 Imports & Non-tax Memo '!G47 <> \"\", 'TT-1 Imports & Non-tax Memo '!G47,0)","v":0},{"$f":"IF('TT-1 Imports & Non-tax Memo '!H47 <> \"\", 'TT-1 Imports & Non-tax Memo '!H47,0)","v":0},{"$f":"IF('TT-1 Imports & Non-tax Memo '!I47 <> \"\", 'TT-1 Imports & Non-tax Memo '!I47,0)","v":0},{"$f":"IF('TT-1 Imports & Non-tax Memo '!J47 <> \"\", 'TT-1 Imports & Non-tax Memo '!J47,0)","v":0},{"$f":"IF('TT-1 Imports & Non-tax Memo '!K47 <> \"\", 'TT-1 Imports & Non-tax Memo '!K47,0)","v":0},{"$f":"IF('TT-1 Imports & Non-tax Memo '!L47 <> \"\", 'TT-1 Imports & Non-tax Memo '!L47,0)","v":0},{"$f":"IF('TT-1 Imports & Non-tax Memo '!M47 <> \"\", 'TT-1 Imports & Non-tax Memo '!M47,0)","v":0},{"$f":"IF('TT-1 Imports & Non-tax Memo '!N47 <> \"\", 'TT-1 Imports & Non-tax Memo '!N47,0)","v":0},{"$f":"IF('TT-1 Imports & Non-tax Memo '!O47 <> \"\", 'TT-1 Imports & Non-tax Memo '!O47,0)","v":0},{"$f":"IF('TT-1 Imports & Non-tax Memo '!P47 <> \"\", 'TT-1 Imports & Non-tax Memo '!P47,0)","v":0},{"$f":"IF('TT-1 Imports & Non-tax Memo '!Q47 <> \"\", 'TT-1 Imports & Non-tax Memo '!Q47,0)","v":0},{"$f":"IF('TT-1 Imports & Non-tax Memo '!R47 <> \"\", 'TT-1 Imports & Non-tax Memo '!R47,0)","v":0},{"$f":"IF('TT-1 Imports & Non-tax Memo '!S47 <> \"\", 'TT-1 Imports & Non-tax Memo '!S47,0)","v":0}]
[{"$f":"IF('TT-1 Imports & Non-tax Memo '!A48 <> 0, 'TT-1 Imports & Non-tax Memo '!A48, \"\")","v":""},{"$f":"IF('TT-1 Imports & Non-tax Memo '!D48 <> 0, 'TT-1 Imports & Non-tax Memo '!D48, \"\")","v":""},{"$f":"IF('TT-1 Imports & Non-tax Memo '!E48 <> 0, 'TT-1 Imports & Non-tax Memo '!E48, \"\")","v":""},{"$f":"IF('TT-1 Imports & Non-tax Memo '!F48 <> \"\", 'TT-1 Imports & Non-tax Memo '!F48,0)","v":0},{"$f":"IF('TT-1 Imports & Non-tax Memo '!G48 <> \"\", 'TT-1 Imports & Non-tax Memo '!G48,0)","v":0},{"$f":"IF('TT-1 Imports & Non-tax Memo '!H48 <> \"\", 'TT-1 Imports & Non-tax Memo '!H48,0)","v":0},{"$f":"IF('TT-1 Imports & Non-tax Memo '!I48 <> \"\", 'TT-1 Imports & Non-tax Memo '!I48,0)","v":0},{"$f":"IF('TT-1 Imports & Non-tax Memo '!J48 <> \"\", 'TT-1 Imports & Non-tax Memo '!J48,0)","v":0},{"$f":"IF('TT-1 Imports & Non-tax Memo '!K48 <> \"\", 'TT-1 Imports & Non-tax Memo '!K48,0)","v":0},{"$f":"IF('TT-1 Imports & Non-tax Memo '!L48 <> \"\", 'TT-1 Imports & Non-tax Memo '!L48,0)","v":0},{"$f":"IF('TT-1 Imports & Non-tax Memo '!M48 <> \"\", 'TT-1 Imports & Non-tax Memo '!M48,0)","v":0},{"$f":"IF('TT-1 Imports & Non-tax Memo '!N48 <> \"\", 'TT-1 Imports & Non-tax Memo '!N48,0)","v":0},{"$f":"IF('TT-1 Imports & Non-tax Memo '!O48 <> \"\", 'TT-1 Imports & Non-tax Memo '!O48,0)","v":0},{"$f":"IF('TT-1 Imports & Non-tax Memo '!P48 <> \"\", 'TT-1 Imports & Non-tax Memo '!P48,0)","v":0},{"$f":"IF('TT-1 Imports & Non-tax Memo '!Q48 <> \"\", 'TT-1 Imports & Non-tax Memo '!Q48,0)","v":0},{"$f":"IF('TT-1 Imports & Non-tax Memo '!R48 <> \"\", 'TT-1 Imports & Non-tax Memo '!R48,0)","v":0},{"$f":"IF('TT-1 Imports & Non-tax Memo '!S48 <> \"\", 'TT-1 Imports & Non-tax Memo '!S48,0)","v":0}]
[{"$f":"IF('TT-1 Imports & Non-tax Memo '!A49 <> 0, 'TT-1 Imports & Non-tax Memo '!A49, \"\")","v":""},{"$f":"IF('TT-1 Imports & Non-tax Memo '!D49 <> 0, 'TT-1 Imports & Non-tax Memo '!D49, \"\")","v":""},{"$f":"IF('TT-1 Imports & Non-tax Memo '!E49 <> 0, 'TT-1 Imports & Non-tax Memo '!E49, \"\")","v":""},{"$f":"IF('TT-1 Imports & Non-tax Memo '!F49 <> \"\", 'TT-1 Imports & Non-tax Memo '!F49,0)","v":0},{"$f":"IF('TT-1 Imports & Non-tax Memo '!G49 <> \"\", 'TT-1 Imports & Non-tax Memo '!G49,0)","v":0},{"$f":"IF('TT-1 Imports & Non-tax Memo '!H49 <> \"\", 'TT-1 Imports & Non-tax Memo '!H49,0)","v":0},{"$f":"IF('TT-1 Imports & Non-tax Memo '!I49 <> \"\", 'TT-1 Imports & Non-tax Memo '!I49,0)","v":0},{"$f":"IF('TT-1 Imports & Non-tax Memo '!J49 <> \"\", 'TT-1 Imports & Non-tax Memo '!J49,0)","v":0},{"$f":"IF('TT-1 Imports & Non-tax Memo '!K49 <> \"\", 'TT-1 Imports & Non-tax Memo '!K49,0)","v":0},{"$f":"IF('TT-1 Imports & Non-tax Memo '!L49 <> \"\", 'TT-1 Imports & Non-tax Memo '!L49,0)","v":0},{"$f":"IF('TT-1 Imports & Non-tax Memo '!M49 <> \"\", 'TT-1 Imports & Non-tax Memo '!M49,0)","v":0},{"$f":"IF('TT-1 Imports & Non-tax Memo '!N49 <> \"\", 'TT-1 Imports & Non-tax Memo '!N49,0)","v":0},{"$f":"IF('TT-1 Imports & Non-tax Memo '!O49 <> \"\", 'TT-1 Imports & Non-tax Memo '!O49,0)","v":0},{"$f":"IF('TT-1 Imports & Non-tax Memo '!P49 <> \"\", 'TT-1 Imports & Non-tax Memo '!P49,0)","v":0},{"$f":"IF('TT-1 Imports & Non-tax Memo '!Q49 <> \"\", 'TT-1 Imports & Non-tax Memo '!Q49,0)","v":0},{"$f":"IF('TT-1 Imports & Non-tax Memo '!R49 <> \"\", 'TT-1 Imports & Non-tax Memo '!R49,0)","v":0},{"$f":"IF('TT-1 Imports & Non-tax Memo '!S49 <> \"\", 'TT-1 Imports & Non-tax Memo '!S49,0)","v":0}]
[{"$f":"IF('TT-1 Imports & Non-tax Memo '!A50 <> 0, 'TT-1 Imports & Non-tax Memo '!A50, \"\")","v":""},{"$f":"IF('TT-1 Imports & Non-tax Memo '!D50 <> 0, 'TT-1 Imports & Non-tax Memo '!D50, \"\")","v":""},{"$f":"IF('TT-1 Imports & Non-tax Memo '!E50 <> 0, 'TT-1 Imports & Non-tax Memo '!E50, \"\")","v":""},{"$f":"IF('TT-1 Imports & Non-tax Memo '!F50 <> \"\", 'TT-1 Imports & Non-tax Memo '!F50,0)","v":0},{"$f":"IF('TT-1 Imports & Non-tax Memo '!G50 <> \"\", 'TT-1 Imports & Non-tax Memo '!G50,0)","v":0},{"$f":"IF('TT-1 Imports & Non-tax Memo '!H50 <> \"\", 'TT-1 Imports & Non-tax Memo '!H50,0)","v":0},{"$f":"IF('TT-1 Imports & Non-tax Memo '!I50 <> \"\", 'TT-1 Imports & Non-tax Memo '!I50,0)","v":0},{"$f":"IF('TT-1 Imports & Non-tax Memo '!J50 <> \"\", 'TT-1 Imports & Non-tax Memo '!J50,0)","v":0},{"$f":"IF('TT-1 Imports & Non-tax Memo '!K50 <> \"\", 'TT-1 Imports & Non-tax Memo '!K50,0)","v":0},{"$f":"IF('TT-1 Imports & Non-tax Memo '!L50 <> \"\", 'TT-1 Imports & Non-tax Memo '!L50,0)","v":0},{"$f":"IF('TT-1 Imports & Non-tax Memo '!M50 <> \"\", 'TT-1 Imports & Non-tax Memo '!M50,0)","v":0},{"$f":"IF('TT-1 Imports & Non-tax Memo '!N50 <> \"\", 'TT-1 Imports & Non-tax Memo '!N50,0)","v":0},{"$f":"IF('TT-1 Imports & Non-tax Memo '!O50 <> \"\", 'TT-1 Imports & Non-tax Memo '!O50,0)","v":0},{"$f":"IF('TT-1 Imports & Non-tax Memo '!P50 <> \"\", 'TT-1 Imports & Non-tax Memo '!P50,0)","v":0},{"$f":"IF('TT-1 Imports & Non-tax Memo '!Q50 <> \"\", 'TT-1 Imports & Non-tax Memo '!Q50,0)","v":0},{"$f":"IF('TT-1 Imports & Non-tax Memo '!R50 <> \"\", 'TT-1 Imports & Non-tax Memo '!R50,0)","v":0},{"$f":"IF('TT-1 Imports & Non-tax Memo '!S50 <> \"\", 'TT-1 Imports & Non-tax Memo '!S50,0)","v":0}]
[{"$f":"IF('TT-1 Imports & Non-tax Memo '!A51 <> 0, 'TT-1 Imports & Non-tax Memo '!A51, \"\")","v":""},{"$f":"IF('TT-1 Imports & Non-tax Memo '!D51 <> 0, 'TT-1 Imports & Non-tax Memo '!D51, \"\")","v":""},{"$f":"IF('TT-1 Imports & Non-tax Memo '!E51 <> 0, 'TT-1 Imports & Non-tax Memo '!E51, \"\")","v":""},{"$f":"IF('TT-1 Imports & Non-tax Memo '!F51 <> \"\", 'TT-1 Imports & Non-tax Memo '!F51,0)","v":0},{"$f":"IF('TT-1 Imports & Non-tax Memo '!G51 <> \"\", 'TT-1 Imports & Non-tax Memo '!G51,0)","v":0},{"$f":"IF('TT-1 Imports & Non-tax Memo '!H51 <> \"\", 'TT-1 Imports & Non-tax Memo '!H51,0)","v":0},{"$f":"IF('TT-1 Imports & Non-tax Memo '!I51 <> \"\", 'TT-1 Imports & Non-tax Memo '!I51,0)","v":0},{"$f":"IF('TT-1 Imports & Non-tax Memo '!J51 <> \"\", 'TT-1 Imports & Non-tax Memo '!J51,0)","v":0},{"$f":"IF('TT-1 Imports & Non-tax Memo '!K51 <> \"\", 'TT-1 Imports & Non-tax Memo '!K51,0)","v":0},{"$f":"IF('TT-1 Imports & Non-tax Memo '!L51 <> \"\", 'TT-1 Imports & Non-tax Memo '!L51,0)","v":0},{"$f":"IF('TT-1 Imports & Non-tax Memo '!M51 <> \"\", 'TT-1 Imports & Non-tax Memo '!M51,0)","v":0},{"$f":"IF('TT-1 Imports & Non-tax Memo '!N51 <> \"\", 'TT-1 Imports & Non-tax Memo '!N51,0)","v":0},{"$f":"IF('TT-1 Imports & Non-tax Memo '!O51 <> \"\", 'TT-1 Imports & Non-tax Memo '!O51,0)","v":0},{"$f":"IF('TT-1 Imports & Non-tax Memo '!P51 <> \"\", 'TT-1 Imports & Non-tax Memo '!P51,0)","v":0},{"$f":"IF('TT-1 Imports & Non-tax Memo '!Q51 <> \"\", 'TT-1 Imports & Non-tax Memo '!Q51,0)","v":0},{"$f":"IF('TT-1 Imports & Non-tax Memo '!R51 <> \"\", 'TT-1 Imports & Non-tax Memo '!R51,0)","v":0},{"$f":"IF('TT-1 Imports & Non-tax Memo '!S51 <> \"\", 'TT-1 Imports & Non-tax Memo '!S51,0)","v":0}]
[{"$f":"IF('TT-1 Imports & Non-tax Memo '!A52 <> 0, 'TT-1 Imports & Non-tax Memo '!A52, \"\")","v":""},{"$f":"IF('TT-1 Imports & Non-tax Memo '!D52 <> 0, 'TT-1 Imports & Non-tax Memo '!D52, \"\")","v":""},{"$f":"IF('TT-1 Imports & Non-tax Memo '!E52 <> 0, 'TT-1 Imports & Non-tax Memo '!E52, \"\")","v":""},{"$f":"IF('TT-1 Imports & Non-tax Memo '!F52 <> \"\", 'TT-1 Imports & Non-tax Memo '!F52,0)","v":0},{"$f":"IF('TT-1 Imports & Non-tax Memo '!G52 <> \"\", 'TT-1 Imports & Non-tax Memo '!G52,0)","v":0},{"$f":"IF('TT-1 Imports & Non-tax Memo '!H52 <> \"\", 'TT-1 Imports & Non-tax Memo '!H52,0)","v":0},{"$f":"IF('TT-1 Imports & Non-tax Memo '!I52 <> \"\", 'TT-1 Imports & Non-tax Memo '!I52,0)","v":0},{"$f":"IF('TT-1 Imports & Non-tax Memo '!J52 <> \"\", 'TT-1 Imports & Non-tax Memo '!J52,0)","v":0},{"$f":"IF('TT-1 Imports & Non-tax Memo '!K52 <> \"\", 'TT-1 Imports & Non-tax Memo '!K52,0)","v":0},{"$f":"IF('TT-1 Imports & Non-tax Memo '!L52 <> \"\", 'TT-1 Imports & Non-tax Memo '!L52,0)","v":0},{"$f":"IF('TT-1 Imports & Non-tax Memo '!M52 <> \"\", 'TT-1 Imports & Non-tax Memo '!M52,0)","v":0},{"$f":"IF('TT-1 Imports & Non-tax Memo '!N52 <> \"\", 'TT-1 Imports & Non-tax Memo '!N52,0)","v":0},{"$f":"IF('TT-1 Imports & Non-tax Memo '!O52 <> \"\", 'TT-1 Imports & Non-tax Memo '!O52,0)","v":0},{"$f":"IF('TT-1 Imports & Non-tax Memo '!P52 <> \"\", 'TT-1 Imports & Non-tax Memo '!P52,0)","v":0},{"$f":"IF('TT-1 Imports & Non-tax Memo '!Q52 <> \"\", 'TT-1 Imports & Non-tax Memo '!Q52,0)","v":0},{"$f":"IF('TT-1 Imports & Non-tax Memo '!R52 <> \"\", 'TT-1 Imports & Non-tax Memo '!R52,0)","v":0},{"$f":"IF('TT-1 Imports & Non-tax Memo '!S52 <> \"\", 'TT-1 Imports & Non-tax Memo '!S52,0)","v":0}]
[{"$f":"IF('TT-1 Imports & Non-tax Memo '!A53 <> 0, 'TT-1 Imports & Non-tax Memo '!A53, \"\")","v":""},{"$f":"IF('TT-1 Imports & Non-tax Memo '!D53 <> 0, 'TT-1 Imports & Non-tax Memo '!D53, \"\")","v":""},{"$f":"IF('TT-1 Imports & Non-tax Memo '!E53 <> 0, 'TT-1 Imports & Non-tax Memo '!E53, \"\")","v":""},{"$f":"IF('TT-1 Imports & Non-tax Memo '!F53 <> \"\", 'TT-1 Imports & Non-tax Memo '!F53,0)","v":0},{"$f":"IF('TT-1 Imports & Non-tax Memo '!G53 <> \"\", 'TT-1 Imports & Non-tax Memo '!G53,0)","v":0},{"$f":"IF('TT-1 Imports & Non-tax Memo '!H53 <> \"\", 'TT-1 Imports & Non-tax Memo '!H53,0)","v":0},{"$f":"IF('TT-1 Imports & Non-tax Memo '!I53 <> \"\", 'TT-1 Imports & Non-tax Memo '!I53,0)","v":0},{"$f":"IF('TT-1 Imports & Non-tax Memo '!J53 <> \"\", 'TT-1 Imports & Non-tax Memo '!J53,0)","v":0},{"$f":"IF('TT-1 Imports & Non-tax Memo '!K53 <> \"\", 'TT-1 Imports & Non-tax Memo '!K53,0)","v":0},{"$f":"IF('TT-1 Imports & Non-tax Memo '!L53 <> \"\", 'TT-1 Imports & Non-tax Memo '!L53,0)","v":0},{"$f":"IF('TT-1 Imports & Non-tax Memo '!M53 <> \"\", 'TT-1 Imports & Non-tax Memo '!M53,0)","v":0},{"$f":"IF('TT-1 Imports & Non-tax Memo '!N53 <> \"\", 'TT-1 Imports & Non-tax Memo '!N53,0)","v":0},{"$f":"IF('TT-1 Imports & Non-tax Memo '!O53 <> \"\", 'TT-1 Imports & Non-tax Memo '!O53,0)","v":0},{"$f":"IF('TT-1 Imports & Non-tax Memo '!P53 <> \"\", 'TT-1 Imports & Non-tax Memo '!P53,0)","v":0},{"$f":"IF('TT-1 Imports & Non-tax Memo '!Q53 <> \"\", 'TT-1 Imports & Non-tax Memo '!Q53,0)","v":0},{"$f":"IF('TT-1 Imports & Non-tax Memo '!R53 <> \"\", 'TT-1 Imports & Non-tax Memo '!R53,0)","v":0},{"$f":"IF('TT-1 Imports & Non-tax Memo '!S53 <> \"\", 'TT-1 Imports & Non-tax Memo '!S53,0)","v":0}]
[{"$f":"IF('TT-1 Imports & Non-tax Memo '!A54 <> 0, 'TT-1 Imports & Non-tax Memo '!A54, \"\")","v":""},{"$f":"IF('TT-1 Imports & Non-tax Memo '!D54 <> 0, 'TT-1 Imports & Non-tax Memo '!D54, \"\")","v":""},{"$f":"IF('TT-1 Imports & Non-tax Memo '!E54 <> 0, 'TT-1 Imports & Non-tax Memo '!E54, \"\")","v":""},{"$f":"IF('TT-1 Imports & Non-tax Memo '!F54 <> \"\", 'TT-1 Imports & Non-tax Memo '!F54,0)","v":0},{"$f":"IF('TT-1 Imports & Non-tax Memo '!G54 <> \"\", 'TT-1 Imports & Non-tax Memo '!G54,0)","v":0},{"$f":"IF('TT-1 Imports & Non-tax Memo '!H54 <> \"\", 'TT-1 Imports & Non-tax Memo '!H54,0)","v":0},{"$f":"IF('TT-1 Imports & Non-tax Memo '!I54 <> \"\", 'TT-1 Imports & Non-tax Memo '!I54,0)","v":0},{"$f":"IF('TT-1 Imports & Non-tax Memo '!J54 <> \"\", 'TT-1 Imports & Non-tax Memo '!J54,0)","v":0},{"$f":"IF('TT-1 Imports & Non-tax Memo '!K54 <> \"\", 'TT-1 Imports & Non-tax Memo '!K54,0)","v":0},{"$f":"IF('TT-1 Imports & Non-tax Memo '!L54 <> \"\", 'TT-1 Imports & Non-tax Memo '!L54,0)","v":0},{"$f":"IF('TT-1 Imports & Non-tax Memo '!M54 <> \"\", 'TT-1 Imports & Non-tax Memo '!M54,0)","v":0},{"$f":"IF('TT-1 Imports & Non-tax Memo '!N54 <> \"\", 'TT-1 Imports & Non-tax Memo '!N54,0)","v":0},{"$f":"IF('TT-1 Imports & Non-tax Memo '!O54 <> \"\", 'TT-1 Imports & Non-tax Memo '!O54,0)","v":0},{"$f":"IF('TT-1 Imports & Non-tax Memo '!P54 <> \"\", 'TT-1 Imports & Non-tax Memo '!P54,0)","v":0},{"$f":"IF('TT-1 Imports & Non-tax Memo '!Q54 <> \"\", 'TT-1 Imports & Non-tax Memo '!Q54,0)","v":0},{"$f":"IF('TT-1 Imports & Non-tax Memo '!R54 <> \"\", 'TT-1 Imports & Non-tax Memo '!R54,0)","v":0},{"$f":"IF('TT-1 Imports & Non-tax Memo '!S54 <> \"\", 'TT-1 Imports & Non-tax Memo '!S54,0)","v":0}]
[{"$f":"IF('TT-1 Imports & Non-tax Memo '!A55 <> 0, 'TT-1 Imports & Non-tax Memo '!A55, \"\")","v":""},{"$f":"IF('TT-1 Imports & Non-tax Memo '!D55 <> 0, 'TT-1 Imports & Non-tax Memo '!D55, \"\")","v":""},{"$f":"IF('TT-1 Imports & Non-tax Memo '!E55 <> 0, 'TT-1 Imports & Non-tax Memo '!E55, \"\")","v":""},{"$f":"IF('TT-1 Imports & Non-tax Memo '!F55 <> \"\", 'TT-1 Imports & Non-tax Memo '!F55,0)","v":0},{"$f":"IF('TT-1 Imports & Non-tax Memo '!G55 <> \"\", 'TT-1 Imports & Non-tax Memo '!G55,0)","v":0},{"$f":"IF('TT-1 Imports & Non-tax Memo '!H55 <> \"\", 'TT-1 Imports & Non-tax Memo '!H55,0)","v":0},{"$f":"IF('TT-1 Imports & Non-tax Memo '!I55 <> \"\", 'TT-1 Imports & Non-tax Memo '!I55,0)","v":0},{"$f":"IF('TT-1 Imports & Non-tax Memo '!J55 <> \"\", 'TT-1 Imports & Non-tax Memo '!J55,0)","v":0},{"$f":"IF('TT-1 Imports & Non-tax Memo '!K55 <> \"\", 'TT-1 Imports & Non-tax Memo '!K55,0)","v":0},{"$f":"IF('TT-1 Imports & Non-tax Memo '!L55 <> \"\", 'TT-1 Imports & Non-tax Memo '!L55,0)","v":0},{"$f":"IF('TT-1 Imports & Non-tax Memo '!M55 <> \"\", 'TT-1 Imports & Non-tax Memo '!M55,0)","v":0},{"$f":"IF('TT-1 Imports & Non-tax Memo '!N55 <> \"\", 'TT-1 Imports & Non-tax Memo '!N55,0)","v":0},{"$f":"IF('TT-1 Imports & Non-tax Memo '!O55 <> \"\", 'TT-1 Imports & Non-tax Memo '!O55,0)","v":0},{"$f":"IF('TT-1 Imports & Non-tax Memo '!P55 <> \"\", 'TT-1 Imports & Non-tax Memo '!P55,0)","v":0},{"$f":"IF('TT-1 Imports & Non-tax Memo '!Q55 <> \"\", 'TT-1 Imports & Non-tax Memo '!Q55,0)","v":0},{"$f":"IF('TT-1 Imports & Non-tax Memo '!R55 <> \"\", 'TT-1 Imports & Non-tax Memo '!R55,0)","v":0},{"$f":"IF('TT-1 Imports & Non-tax Memo '!S55 <> \"\", 'TT-1 Imports & Non-tax Memo '!S55,0)","v":0}]
[{"$f":"IF('TT-1 Imports & Non-tax Memo '!A56 <> 0, 'TT-1 Imports & Non-tax Memo '!A56, \"\")","v":""},{"$f":"IF('TT-1 Imports & Non-tax Memo '!D56 <> 0, 'TT-1 Imports & Non-tax Memo '!D56, \"\")","v":""},{"$f":"IF('TT-1 Imports & Non-tax Memo '!E56 <> 0, 'TT-1 Imports & Non-tax Memo '!E56, \"\")","v":""},{"$f":"IF('TT-1 Imports & Non-tax Memo '!F56 <> \"\", 'TT-1 Imports & Non-tax Memo '!F56,0)","v":0},{"$f":"IF('TT-1 Imports & Non-tax Memo '!G56 <> \"\", 'TT-1 Imports & Non-tax Memo '!G56,0)","v":0},{"$f":"IF('TT-1 Imports & Non-tax Memo '!H56 <> \"\", 'TT-1 Imports & Non-tax Memo '!H56,0)","v":0},{"$f":"IF('TT-1 Imports & Non-tax Memo '!I56 <> \"\", 'TT-1 Imports & Non-tax Memo '!I56,0)","v":0},{"$f":"IF('TT-1 Imports & Non-tax Memo '!J56 <> \"\", 'TT-1 Imports & Non-tax Memo '!J56,0)","v":0},{"$f":"IF('TT-1 Imports & Non-tax Memo '!K56 <> \"\", 'TT-1 Imports & Non-tax Memo '!K56,0)","v":0},{"$f":"IF('TT-1 Imports & Non-tax Memo '!L56 <> \"\", 'TT-1 Imports & Non-tax Memo '!L56,0)","v":0},{"$f":"IF('TT-1 Imports & Non-tax Memo '!M56 <> \"\", 'TT-1 Imports & Non-tax Memo '!M56,0)","v":0},{"$f":"IF('TT-1 Imports & Non-tax Memo '!N56 <> \"\", 'TT-1 Imports & Non-tax Memo '!N56,0)","v":0},{"$f":"IF('TT-1 Imports & Non-tax Memo '!O56 <> \"\", 'TT-1 Imports & Non-tax Memo '!O56,0)","v":0},{"$f":"IF('TT-1 Imports & Non-tax Memo '!P56 <> \"\", 'TT-1 Imports & Non-tax Memo '!P56,0)","v":0},{"$f":"IF('TT-1 Imports & Non-tax Memo '!Q56 <> \"\", 'TT-1 Imports & Non-tax Memo '!Q56,0)","v":0},{"$f":"IF('TT-1 Imports & Non-tax Memo '!R56 <> \"\", 'TT-1 Imports & Non-tax Memo '!R56,0)","v":0},{"$f":"IF('TT-1 Imports & Non-tax Memo '!S56 <> \"\", 'TT-1 Imports & Non-tax Memo '!S56,0)","v":0}]
[{"$f":"IF('TT-1 Imports & Non-tax Memo '!A57 <> 0, 'TT-1 Imports & Non-tax Memo '!A57, \"\")","v":""},{"$f":"IF('TT-1 Imports & Non-tax Memo '!D57 <> 0, 'TT-1 Imports & Non-tax Memo '!D57, \"\")","v":""},{"$f":"IF('TT-1 Imports & Non-tax Memo '!E57 <> 0, 'TT-1 Imports & Non-tax Memo '!E57, \"\")","v":""},{"$f":"IF('TT-1 Imports & Non-tax Memo '!F57 <> \"\", 'TT-1 Imports & Non-tax Memo '!F57,0)","v":0},{"$f":"IF('TT-1 Imports & Non-tax Memo '!G57 <> \"\", 'TT-1 Imports & Non-tax Memo '!G57,0)","v":0},{"$f":"IF('TT-1 Imports & Non-tax Memo '!H57 <> \"\", 'TT-1 Imports & Non-tax Memo '!H57,0)","v":0},{"$f":"IF('TT-1 Imports & Non-tax Memo '!I57 <> \"\", 'TT-1 Imports & Non-tax Memo '!I57,0)","v":0},{"$f":"IF('TT-1 Imports & Non-tax Memo '!J57 <> \"\", 'TT-1 Imports & Non-tax Memo '!J57,0)","v":0},{"$f":"IF('TT-1 Imports & Non-tax Memo '!K57 <> \"\", 'TT-1 Imports & Non-tax Memo '!K57,0)","v":0},{"$f":"IF('TT-1 Imports & Non-tax Memo '!L57 <> \"\", 'TT-1 Imports & Non-tax Memo '!L57,0)","v":0},{"$f":"IF('TT-1 Imports & Non-tax Memo '!M57 <> \"\", 'TT-1 Imports & Non-tax Memo '!M57,0)","v":0},{"$f":"IF('TT-1 Imports & Non-tax Memo '!N57 <> \"\", 'TT-1 Imports & Non-tax Memo '!N57,0)","v":0},{"$f":"IF('TT-1 Imports & Non-tax Memo '!O57 <> \"\", 'TT-1 Imports & Non-tax Memo '!O57,0)","v":0},{"$f":"IF('TT-1 Imports & Non-tax Memo '!P57 <> \"\", 'TT-1 Imports & Non-tax Memo '!P57,0)","v":0},{"$f":"IF('TT-1 Imports & Non-tax Memo '!Q57 <> \"\", 'TT-1 Imports & Non-tax Memo '!Q57,0)","v":0},{"$f":"IF('TT-1 Imports & Non-tax Memo '!R57 <> \"\", 'TT-1 Imports & Non-tax Memo '!R57,0)","v":0},{"$f":"IF('TT-1 Imports & Non-tax Memo '!S57 <> \"\", 'TT-1 Imports & Non-tax Memo '!S57,0)","v":0}]
[{"$f":"IF('TT-1 Imports & Non-tax Memo '!A58 <> 0, 'TT-1 Imports & Non-tax Memo '!A58, \"\")","v":""},{"$f":"IF('TT-1 Imports & Non-tax Memo '!D58 <> 0, 'TT-1 Imports & Non-tax Memo '!D58, \"\")","v":""},{"$f":"IF('TT-1 Imports & Non-tax Memo '!E58 <> 0, 'TT-1 Imports & Non-tax Memo '!E58, \"\")","v":""},{"$f":"IF('TT-1 Imports & Non-tax Memo '!F58 <> \"\", 'TT-1 Imports & Non-tax Memo '!F58,0)","v":0},{"$f":"IF('TT-1 Imports & Non-tax Memo '!G58 <> \"\", 'TT-1 Imports & Non-tax Memo '!G58,0)","v":0},{"$f":"IF('TT-1 Imports & Non-tax Memo '!H58 <> \"\", 'TT-1 Imports & Non-tax Memo '!H58,0)","v":0},{"$f":"IF('TT-1 Imports & Non-tax Memo '!I58 <> \"\", 'TT-1 Imports & Non-tax Memo '!I58,0)","v":0},{"$f":"IF('TT-1 Imports & Non-tax Memo '!J58 <> \"\", 'TT-1 Imports & Non-tax Memo '!J58,0)","v":0},{"$f":"IF('TT-1 Imports & Non-tax Memo '!K58 <> \"\", 'TT-1 Imports & Non-tax Memo '!K58,0)","v":0},{"$f":"IF('TT-1 Imports & Non-tax Memo '!L58 <> \"\", 'TT-1 Imports & Non-tax Memo '!L58,0)","v":0},{"$f":"IF('TT-1 Imports & Non-tax Memo '!M58 <> \"\", 'TT-1 Imports & Non-tax Memo '!M58,0)","v":0},{"$f":"IF('TT-1 Imports & Non-tax Memo '!N58 <> \"\", 'TT-1 Imports & Non-tax Memo '!N58,0)","v":0},{"$f":"IF('TT-1 Imports & Non-tax Memo '!O58 <> \"\", 'TT-1 Imports & Non-tax Memo '!O58,0)","v":0},{"$f":"IF('TT-1 Imports & Non-tax Memo '!P58 <> \"\", 'TT-1 Imports & Non-tax Memo '!P58,0)","v":0},{"$f":"IF('TT-1 Imports & Non-tax Memo '!Q58 <> \"\", 'TT-1 Imports & Non-tax Memo '!Q58,0)","v":0},{"$f":"IF('TT-1 Imports & Non-tax Memo '!R58 <> \"\", 'TT-1 Imports & Non-tax Memo '!R58,0)","v":0},{"$f":"IF('TT-1 Imports & Non-tax Memo '!S58 <> \"\", 'TT-1 Imports & Non-tax Memo '!S58,0)","v":0}]
[{"$f":"IF('TT-1 Imports & Non-tax Memo '!A59 <> 0, 'TT-1 Imports & Non-tax Memo '!A59, \"\")","v":""},{"$f":"IF('TT-1 Imports & Non-tax Memo '!D59 <> 0, 'TT-1 Imports & Non-tax Memo '!D59, \"\")","v":""},{"$f":"IF('TT-1 Imports & Non-tax Memo '!E59 <> 0, 'TT-1 Imports & Non-tax Memo '!E59, \"\")","v":""},{"$f":"IF('TT-1 Imports & Non-tax Memo '!F59 <> \"\", 'TT-1 Imports & Non-tax Memo '!F59,0)","v":0},{"$f":"IF('TT-1 Imports & Non-tax Memo '!G59 <> \"\", 'TT-1 Imports & Non-tax Memo '!G59,0)","v":0},{"$f":"IF('TT-1 Imports & Non-tax Memo '!H59 <> \"\", 'TT-1 Imports & Non-tax Memo '!H59,0)","v":0},{"$f":"IF('TT-1 Imports & Non-tax Memo '!I59 <> \"\", 'TT-1 Imports & Non-tax Memo '!I59,0)","v":0},{"$f":"IF('TT-1 Imports & Non-tax Memo '!J59 <> \"\", 'TT-1 Imports & Non-tax Memo '!J59,0)","v":0},{"$f":"IF('TT-1 Imports & Non-tax Memo '!K59 <> \"\", 'TT-1 Imports & Non-tax Memo '!K59,0)","v":0},{"$f":"IF('TT-1 Imports & Non-tax Memo '!L59 <> \"\", 'TT-1 Imports & Non-tax Memo '!L59,0)","v":0},{"$f":"IF('TT-1 Imports & Non-tax Memo '!M59 <> \"\", 'TT-1 Imports & Non-tax Memo '!M59,0)","v":0},{"$f":"IF('TT-1 Imports & Non-tax Memo '!N59 <> \"\", 'TT-1 Imports & Non-tax Memo '!N59,0)","v":0},{"$f":"IF('TT-1 Imports & Non-tax Memo '!O59 <> \"\", 'TT-1 Imports & Non-tax Memo '!O59,0)","v":0},{"$f":"IF('TT-1 Imports & Non-tax Memo '!P59 <> \"\", 'TT-1 Imports & Non-tax Memo '!P59,0)","v":0},{"$f":"IF('TT-1 Imports & Non-tax Memo '!Q59 <> \"\", 'TT-1 Imports & Non-tax Memo '!Q59,0)","v":0},{"$f":"IF('TT-1 Imports & Non-tax Memo '!R59 <> \"\", 'TT-1 Imports & Non-tax Memo '!R59,0)","v":0},{"$f":"IF('TT-1 Imports & Non-tax Memo '!S59 <> \"\", 'TT-1 Imports & Non-tax Memo '!S59,0)","v":0}]
[{"$f":"IF('TT-1 Imports & Non-tax Memo '!A60 <> 0, 'TT-1 Imports & Non-tax Memo '!A60, \"\")","v":""},{"$f":"IF('TT-1 Imports & Non-tax Memo '!D60 <> 0, 'TT-1 Imports & Non-tax Memo '!D60, \"\")","v":""},{"$f":"IF('TT-1 Imports & Non-tax Memo '!E60 <> 0, 'TT-1 Imports & Non-tax Memo '!E60, \"\")","v":""},{"$f":"IF('TT-1 Imports & Non-tax Memo '!F60 <> \"\", 'TT-1 Imports & Non-tax Memo '!F60,0)","v":0},{"$f":"IF('TT-1 Imports & Non-tax Memo '!G60 <> \"\", 'TT-1 Imports & Non-tax Memo '!G60,0)","v":0},{"$f":"IF('TT-1 Imports & Non-tax Memo '!H60 <> \"\", 'TT-1 Imports & Non-tax Memo '!H60,0)","v":0},{"$f":"IF('TT-1 Imports & Non-tax Memo '!I60 <> \"\", 'TT-1 Imports & Non-tax Memo '!I60,0)","v":0},{"$f":"IF('TT-1 Imports & Non-tax Memo '!J60 <> \"\", 'TT-1 Imports & Non-tax Memo '!J60,0)","v":0},{"$f":"IF('TT-1 Imports & Non-tax Memo '!K60 <> \"\", 'TT-1 Imports & Non-tax Memo '!K60,0)","v":0},{"$f":"IF('TT-1 Imports & Non-tax Memo '!L60 <> \"\", 'TT-1 Imports & Non-tax Memo '!L60,0)","v":0},{"$f":"IF('TT-1 Imports & Non-tax Memo '!M60 <> \"\", 'TT-1 Imports & Non-tax Memo '!M60,0)","v":0},{"$f":"IF('TT-1 Imports & Non-tax Memo '!N60 <> \"\", 'TT-1 Imports & Non-tax Memo '!N60,0)","v":0},{"$f":"IF('TT-1 Imports & Non-tax Memo '!O60 <> \"\", 'TT-1 Imports & Non-tax Memo '!O60,0)","v":0},{"$f":"IF('TT-1 Imports & Non-tax Memo '!P60 <> \"\", 'TT-1 Imports & Non-tax Memo '!P60,0)","v":0},{"$f":"IF('TT-1 Imports & Non-tax Memo '!Q60 <> \"\", 'TT-1 Imports & Non-tax Memo '!Q60,0)","v":0},{"$f":"IF('TT-1 Imports & Non-tax Memo '!R60 <> \"\", 'TT-1 Imports & Non-tax Memo '!R60,0)","v":0},{"$f":"IF('TT-1 Imports & Non-tax Memo '!S60 <> \"\", 'TT-1 Imports & Non-tax Memo '!S60,0)","v":0}]

{"sheet":"Map TT-1B","index":2,"n_rows":50,"n_cols":18,"rows_kept":50,"cut":false,"hidden":true,"merged":[]}
[{"$f":"IF('TT-1 Imports & Non-tax Memo '!A68 <> 0, 'TT-1 Imports & Non-tax Memo '!A68, \"\")","v":""},{"$f":"IF('TT-1 Imports & Non-tax Memo '!D68 <> 0, 'TT-1 Imports & Non-tax Memo '!D68, \"\")","v":""},{"$f":"IF('TT-1 Imports & Non-tax Memo '!E68 <> 0, 'TT-1 Imports & Non-tax Memo '!E68, \"\")","v":""},{"$f":"IF('TT-1 Imports & Non-tax Memo '!F68 <> \"\", 'TT-1 Imports & Non-tax Memo '!F68, 0)","v":0},{"$f":"IF('TT-1 Imports & Non-tax Memo '!G68 <> \"\", 'TT-1 Imports & Non-tax Memo '!G68, 0)","v":0},{"$f":"IF('TT-1 Imports & Non-tax Memo '!H68 <> \"\", 'TT-1 Imports & Non-tax Memo '!H68, 0)","v":0},{"$f":"IF('TT-1 Imports & Non-tax Memo '!I68 <> \"\", 'TT-1 Imports & Non-tax Memo '!I68, 0)","v":0},{"$f":"IF('TT-1 Imports & Non-tax Memo '!J68 <> \"\", 'TT-1 Imports & Non-tax Memo '!J68, 0)","v":0},{"$f":"IF('TT-1 Imports & Non-tax Memo '!K68 <> \"\", 'TT-1 Imports & Non-tax Memo '!K68, 0)","v":0},{"$f":"IF('TT-1 Imports & Non-tax Memo '!L68 <> \"\", 'TT-1 Imports & Non-tax Memo '!L68, 0)","v":0},{"$f":"IF('TT-1 Imports & Non-tax Memo '!M68 <> \"\", 'TT-1 Imports & Non-tax Memo '!M68, 0)","v":0},{"$f":"IF('TT-1 Imports & Non-tax Memo '!N68 <> \"\", 'TT-1 Imports & Non-tax Memo '!N68, 0)","v":0},{"$f":"IF('TT-1 Imports & Non-tax Memo '!O68 <> \"\", 'TT-1 Imports & Non-tax Memo '!O68, 0)","v":0},{"$f":"IF('TT-1 Imports & Non-tax Memo '!P68 <> \"\", 'TT-1 Imports & Non-tax Memo '!P68, 0)","v":0},{"$f":"IF('TT-1 Imports & Non-tax Memo '!Q68 <> \"\", 'TT-1 Imports & Non-tax Memo '!Q68, 0)","v":0},{"$f":"IF('TT-1 Imports & Non-tax Memo '!R68 <> \"\", 'TT-1 Imports & Non-tax Memo '!R68, 0)","v":0},{"$f":"IF('TT-1 Imports & Non-tax Memo '!S68 <> \"\", 'TT-1 Imports & Non-tax Memo '!S68, 0)","v":0},{"$f":"IF('TT-1 Imports & Non-tax Memo '!T68 <> 0, 'TT-1 Imports & Non-tax Memo '!T68, \"\")","v":""}]
[{"$f":"IF('TT-1 Imports & Non-tax Memo '!A69 <> 0, 'TT-1 Imports & Non-tax Memo '!A69, \"\")","v":""},{"$f":"IF('TT-1 Imports & Non-tax Memo '!D69 <> 0, 'TT-1 Imports & Non-tax Memo '!D69, \"\")","v":""},{"$f":"IF('TT-1 Imports & Non-tax Memo '!E69 <> 0, 'TT-1 Imports & Non-tax Memo '!E69, \"\")","v":""},{"$f":"IF('TT-1 Imports & Non-tax Memo '!F69 <> \"\", 'TT-1 Imports & Non-tax Memo '!F69, 0)","v":0},{"$f":"IF('TT-1 Imports & Non-tax Memo '!G69 <> \"\", 'TT-1 Imports & Non-tax Memo '!G69, 0)","v":0},{"$f":"IF('TT-1 Imports & Non-tax Memo '!H69 <> \"\", 'TT-1 Imports & Non-tax Memo '!H69, 0)","v":0},{"$f":"IF('TT-1 Imports & Non-tax Memo '!I69 <> \"\", 'TT-1 Imports & Non-tax Memo '!I69, 0)","v":0},{"$f":"IF('TT-1 Imports & Non-tax Memo '!J69 <> \"\", 'TT-1 Imports & Non-tax Memo '!J69, 0)","v":0},{"$f":"IF('TT-1 Imports & Non-tax Memo '!K69 <> \"\", 'TT-1 Imports & Non-tax Memo '!K69, 0)","v":0},{"$f":"IF('TT-1 Imports & Non-tax Memo '!L69 <> \"\", 'TT-1 Imports & Non-tax Memo '!L69, 0)","v":0},{"$f":"IF('TT-1 Imports & Non-tax Memo '!M69 <> \"\", 'TT-1 Imports & Non-tax Memo '!M69, 0)","v":0},{"$f":"IF('TT-1 Imports & Non-tax Memo '!N69 <> \"\", 'TT-1 Imports & Non-tax Memo '!N69, 0)","v":0},{"$f":"IF('TT-1 Imports & Non-tax Memo '!O69 <> \"\", 'TT-1 Imports & Non-tax Memo '!O69, 0)","v":0},{"$f":"IF('TT-1 Imports & Non-tax Memo '!P69 <> \"\", 'TT-1 Imports & Non-tax Memo '!P69, 0)","v":0},{"$f":"IF('TT-1 Imports & Non-tax Memo '!Q69 <> \"\", 'TT-1 Imports & Non-tax Memo '!Q69, 0)","v":0},{"$f":"IF('TT-1 Imports & Non-tax Memo '!R69 <> \"\", 'TT-1 Imports & Non-tax Memo '!R69, 0)","v":0},{"$f":"IF('TT-1 Imports & Non-tax Memo '!S69 <> \"\", 'TT-1 Imports & Non-tax Memo '!S69, 0)","v":0},{"$f":"IF('TT-1 Imports & Non-tax Memo '!T69 <> 0, 'TT-1 Imports & Non-tax Memo '!T69, \"\")","v":""}]
[{"$f":"IF('TT-1 Imports & Non-tax Memo '!A70 <> 0, 'TT-1 Imports & Non-tax Memo '!A70, \"\")","v":""},{"$f":"IF('TT-1 Imports & Non-tax Memo '!D70 <> 0, 'TT-1 Imports & Non-tax Memo '!D70, \"\")","v":""},{"$f":"IF('TT-1 Imports & Non-tax Memo '!E70 <> 0, 'TT-1 Imports & Non-tax Memo '!E70, \"\")","v":""},{"$f":"IF('TT-1 Imports & Non-tax Memo '!F70 <> \"\", 'TT-1 Imports & Non-tax Memo '!F70, 0)","v":0},{"$f":"IF('TT-1 Imports & Non-tax Memo '!G70 <> \"\", 'TT-1 Imports & Non-tax Memo '!G70, 0)","v":0},{"$f":"IF('TT-1 Imports & Non-tax Memo '!H70 <> \"\", 'TT-1 Imports & Non-tax Memo '!H70, 0)","v":0},{"$f":"IF('TT-1 Imports & Non-tax Memo '!I70 <> \"\", 'TT-1 Imports & Non-tax Memo '!I70, 0)","v":0},{"$f":"IF('TT-1 Imports & Non-tax Memo '!J70 <> \"\", 'TT-1 Imports & Non-tax Memo '!J70, 0)","v":0},{"$f":"IF('TT-1 Imports & Non-tax Memo '!K70 <> \"\", 'TT-1 Imports & Non-tax Memo '!K70, 0)","v":0},{"$f":"IF('TT-1 Imports & Non-tax Memo '!L70 <> \"\", 'TT-1 Imports & Non-tax Memo '!L70, 0)","v":0},{"$f":"IF('TT-1 Imports & Non-tax Memo '!M70 <> \"\", 'TT-1 Imports & Non-tax Memo '!M70, 0)","v":0},{"$f":"IF('TT-1 Imports & Non-tax Memo '!N70 <> \"\", 'TT-1 Imports & Non-tax Memo '!N70, 0)","v":0},{"$f":"IF('TT-1 Imports & Non-tax Memo '!O70 <> \"\", 'TT-1 Imports & Non-tax Memo '!O70, 0)","v":0},{"$f":"IF('TT-1 Imports & Non-tax Memo '!P70 <> \"\", 'TT-1 Imports & Non-tax Memo '!P70, 0)","v":0},{"$f":"IF('TT-1 Imports & Non-tax Memo '!Q70 <> \"\", 'TT-1 Imports & Non-tax Memo '!Q70, 0)","v":0},{"$f":"IF('TT-1 Imports & Non-tax Memo '!R70 <> \"\", 'TT-1 Imports & Non-tax Memo '!R70, 0)","v":0},{"$f":"IF('TT-1 Imports & Non-tax Memo '!S70 <> \"\", 'TT-1 Imports & Non-tax Memo '!S70, 0)","v":0},{"$f":"IF('TT-1 Imports & Non-tax Memo '!T70 <> 0, 'TT-1 Imports & Non-tax Memo '!T70, \"\")","v":""}]
[{"$f":"IF('TT-1 Imports & Non-tax Memo '!A71 <> 0, 'TT-1 Imports & Non-tax Memo '!A71, \"\")","v":""},{"$f":"IF('TT-1 Imports & Non-tax Memo '!D71 <> 0, 'TT-1 Imports & Non-tax Memo '!D71, \"\")","v":""},{"$f":"IF('TT-1 Imports & Non-tax Memo '!E71 <> 0, 'TT-1 Imports & Non-tax Memo '!E71, \"\")","v":""},{"$f":"IF('TT-1 Imports & Non-tax Memo '!F71 <> \"\", 'TT-1 Imports & Non-tax Memo '!F71, 0)","v":0},{"$f":"IF('TT-1 Imports & Non-tax Memo '!G71 <> \"\", 'TT-1 Imports & Non-tax Memo '!G71, 0)","v":0},{"$f":"IF('TT-1 Imports & Non-tax Memo '!H71 <> \"\", 'TT-1 Imports & Non-tax Memo '!H71, 0)","v":0},{"$f":"IF('TT-1 Imports & Non-tax Memo '!I71 <> \"\", 'TT-1 Imports & Non-tax Memo '!I71, 0)","v":0},{"$f":"IF('TT-1 Imports & Non-tax Memo '!J71 <> \"\", 'TT-1 Imports & Non-tax Memo '!J71, 0)","v":0},{"$f":"IF('TT-1 Imports & Non-tax Memo '!K71 <> \"\", 'TT-1 Imports & Non-tax Memo '!K71, 0)","v":0},{"$f":"IF('TT-1 Imports & Non-tax Memo '!L71 <> \"\", 'TT-1 Imports & Non-tax Memo '!L71, 0)","v":0},{"$f":"IF('TT-1 Imports & Non-tax Memo '!M71 <> \"\", 'TT-1 Imports & Non-tax Memo '!M71, 0)","v":0},{"$f":"IF('TT-1 Imports & Non-tax Memo '!N71 <> \"\", 'TT-1 Imports & Non-tax Memo '!N71, 0)","v":0},{"$f":"IF('TT-1 Imports & Non-tax Memo '!O71 <> \"\", 'TT-1 Imports & Non-tax Memo '!O71, 0)","v":0},{"$f":"IF('TT-1 Imports & Non-tax Memo '!P71 <> \"\", 'TT-1 Imports & Non-tax Memo '!P71, 0)","v":0},{"$f":"IF('TT-1 Imports & Non-tax Memo '!Q71 <> \"\", 'TT-1 Imports & Non-tax Memo '!Q71, 0)","v":0},{"$f":"IF('TT-1 Imports & Non-tax Memo '!R71 <> \"\", 'TT-1 Imports & Non-tax Memo '!R71, 0)","v":0},{"$f":"IF('TT-1 Imports & Non-tax Memo '!S71 <> \"\", 'TT-1 Imports & Non-tax Memo '!S71, 0)","v":0},{"$f":"IF('TT-1 Imports & Non-tax Memo '!T71 <> 0, 'TT-1 Imports & Non-tax Memo '!T71, \"\")","v":""}]
[{"$f":"IF('TT-1 Imports & Non-tax Memo '!A72 <> 0, 'TT-1 Imports & Non-tax Memo '!A72, \"\")","v":""},{"$f":"IF('TT-1 Imports & Non-tax Memo '!D72 <> 0, 'TT-1 Imports & Non-tax Memo '!D72, \"\")","v":""},{"$f":"IF('TT-1 Imports & Non-tax Memo '!E72 <> 0, 'TT-1 Imports & Non-tax Memo '!E72, \"\")","v":""},{"$f":"IF('TT-1 Imports & Non-tax Memo '!F72 <> \"\", 'TT-1 Imports & Non-tax Memo '!F72, 0)","v":0},{"$f":"IF('TT-1 Imports & Non-tax Memo '!G72 <> \"\", 'TT-1 Imports & Non-tax Memo '!G72, 0)","v":0},{"$f":"IF('TT-1 Imports & Non-tax Memo '!H72 <> \"\", 'TT-1 Imports & Non-tax Memo '!H72, 0)","v":0},{"$f":"IF('TT-1 Imports & Non-tax Memo '!I72 <> \"\", 'TT-1 Imports & Non-tax Memo '!I72, 0)","v":0},{"$f":"IF('TT-1 Imports & Non-tax Memo '!J72 <> \"\", 'TT-1 Imports & Non-tax Memo '!J72, 0)","v":0},{"$f":"IF('TT-1 Imports & Non-tax Memo '!K72 <> \"\", 'TT-1 Imports & Non-tax Memo '!K72, 0)","v":0},{"$f":"IF('TT-1 Imports & Non-tax Memo '!L72 <> \"\", 'TT-1 Imports & Non-tax Memo '!L72, 0)","v":0},{"$f":"IF('TT-1 Imports & Non-tax Memo '!M72 <> \"\", 'TT-1 Imports & Non-tax Memo '!M72, 0)","v":0},{"$f":"IF('TT-1 Imports & Non-tax Memo '!N72 <> \"\", 'TT-1 Imports & Non-tax Memo '!N72, 0)","v":0},{"$f":"IF('TT-1 Imports & Non-tax Memo '!O72 <> \"\", 'TT-1 Imports & Non-tax Memo '!O72, 0)","v":0},{"$f":"IF('TT-1 Imports & Non-tax Memo '!P72 <> \"\", 'TT-1 Imports & Non-tax Memo '!P72, 0)","v":0},{"$f":"IF('TT-1 Imports & Non-tax Memo '!Q72 <> \"\", 'TT-1 Imports & Non-tax Memo '!Q72, 0)","v":0},{"$f":"IF('TT-1 Imports & Non-tax Memo '!R72 <> \"\", 'TT-1 Imports & Non-tax Memo '!R72, 0)","v":0},{"$f":"IF('TT-1 Imports & Non-tax Memo '!S72 <> \"\", 'TT-1 Imports & Non-tax Memo '!S72, 0)","v":0},{"$f":"IF('TT-1 Imports & Non-tax Memo '!T72 <> 0, 'TT-1 Imports & Non-tax Memo '!T72, \"\")","v":""}]
[{"$f":"IF('TT-1 Imports & Non-tax Memo '!A73 <> 0, 'TT-1 Imports & Non-tax Memo '!A73, \"\")","v":""},{"$f":"IF('TT-1 Imports & Non-tax Memo '!D73 <> 0, 'TT-1 Imports & Non-tax Memo '!D73, \"\")","v":""},{"$f":"IF('TT-1 Imports & Non-tax Memo '!E73 <> 0, 'TT-1 Imports & Non-tax Memo '!E73, \"\")","v":""},{"$f":"IF('TT-1 Imports & Non-tax Memo '!F73 <> \"\", 'TT-1 Imports & Non-tax Memo '!F73, 0)","v":0},{"$f":"IF('TT-1 Imports & Non-tax Memo '!G73 <> \"\", 'TT-1 Imports & Non-tax Memo '!G73, 0)","v":0},{"$f":"IF('TT-1 Imports & Non-tax Memo '!H73 <> \"\", 'TT-1 Imports & Non-tax Memo '!H73, 0)","v":0},{"$f":"IF('TT-1 Imports & Non-tax Memo '!I73 <> \"\", 'TT-1 Imports & Non-tax Memo '!I73, 0)","v":0},{"$f":"IF('TT-1 Imports & Non-tax Memo '!J73 <> \"\", 'TT-1 Imports & Non-tax Memo '!J73, 0)","v":0},{"$f":"IF('TT-1 Imports & Non-tax Memo '!K73 <> \"\", 'TT-1 Imports & Non-tax Memo '!K73, 0)","v":0},{"$f":"IF('TT-1 Imports & Non-tax Memo '!L73 <> \"\", 'TT-1 Imports & Non-tax Memo '!L73, 0)","v":0},{"$f":"IF('TT-1 Imports & Non-tax Memo '!M73 <> \"\", 'TT-1 Imports & Non-tax Memo '!M73, 0)","v":0},{"$f":"IF('TT-1 Imports & Non-tax Memo '!N73 <> \"\", 'TT-1 Imports & Non-tax Memo '!N73, 0)","v":0},{"$f":"IF('TT-1 Imports & Non-tax Memo '!O73 <> \"\", 'TT-1 Imports & Non-tax Memo '!O73, 0)","v":0},{"$f":"IF('TT-1 Imports & Non-tax Memo '!P73 <> \"\", 'TT-1 Imports & Non-tax Memo '!P73, 0)","v":0},{"$f":"IF('TT-1 Imports & Non-tax Memo '!Q73 <> \"\", 'TT-1 Imports & Non-tax Memo '!Q73, 0)","v":0},{"$f":"IF('TT-1 Imports & Non-tax Memo '!R73 <> \"\", 'TT-1 Imports & Non-tax Memo '!R73, 0)","v":0},{"$f":"IF('TT-1 Imports & Non-tax Memo '!S73 <> \"\", 'TT-1 Imports & Non-tax Memo '!S73, 0)","v":0},{"$f":"IF('TT-1 Imports & Non-tax Memo '!T73 <> 0, 'TT-1 Imports & Non-tax Memo '!T73, \"\")","v":""}]
[{"$f":"IF('TT-1 Imports & Non-tax Memo '!A74 <> 0, 'TT-1 Imports & Non-tax Memo '!A74, \"\")","v":""},{"$f":"IF('TT-1 Imports & Non-tax Memo '!D74 <> 0, 'TT-1 Imports & Non-tax Memo '!D74, \"\")","v":""},{"$f":"IF('TT-1 Imports & Non-tax Memo '!E74 <> 0, 'TT-1 Imports & Non-tax Memo '!E74, \"\")","v":""},{"$f":"IF('TT-1 Imports & Non-tax Memo '!F74 <> \"\", 'TT-1 Imports & Non-tax Memo '!F74, 0)","v":0},{"$f":"IF('TT-1 Imports & Non-tax Memo '!G74 <> \"\", 'TT-1 Imports & Non-tax Memo '!G74, 0)","v":0},{"$f":"IF('TT-1 Imports & Non-tax Memo '!H74 <> \"\", 'TT-1 Imports & Non-tax Memo '!H74, 0)","v":0},{"$f":"IF('TT-1 Imports & Non-tax Memo '!I74 <> \"\", 'TT-1 Imports & Non-tax Memo '!I74, 0)","v":0},{"$f":"IF('TT-1 Imports & Non-tax Memo '!J74 <> \"\", 'TT-1 Imports & Non-tax Memo '!J74, 0)","v":0},{"$f":"IF('TT-1 Imports & Non-tax Memo '!K74 <> \"\", 'TT-1 Imports & Non-tax Memo '!K74, 0)","v":0},{"$f":"IF('TT-1 Imports & Non-tax Memo '!L74 <> \"\", 'TT-1 Imports & Non-tax Memo '!L74, 0)","v":0},{"$f":"IF('TT-1 Imports & Non-tax Memo '!M74 <> \"\", 'TT-1 Imports & Non-tax Memo '!M74, 0)","v":0},{"$f":"IF('TT-1 Imports & Non-tax Memo '!N74 <> \"\", 'TT-1 Imports & Non-tax Memo '!N74, 0)","v":0},{"$f":"IF('TT-1 Imports & Non-tax Memo '!O74 <> \"\", 'TT-1 Imports & Non-tax Memo '!O74, 0)","v":0},{"$f":"IF('TT-1 Imports & Non-tax Memo '!P74 <> \"\", 'TT-1 Imports & Non-tax Memo '!P74, 0)","v":0},{"$f":"IF('TT-1 Imports & Non-tax Memo '!Q74 <> \"\", 'TT-1 Imports & Non-tax Memo '!Q74, 0)","v":0},{"$f":"IF('TT-1 Imports & Non-tax Memo '!R74 <> \"\", 'TT-1 Imports & Non-tax Memo '!R74, 0)","v":0},{"$f":"IF('TT-1 Imports & Non-tax Memo '!S74 <> \"\", 'TT-1 Imports & Non-tax Memo '!S74, 0)","v":0},{"$f":"IF('TT-1 Imports & Non-tax Memo '!T74 <> 0, 'TT-1 Imports & Non-tax Memo '!T74, \"\")","v":""}]
[{"$f":"IF('TT-1 Imports & Non-tax Memo '!A75 <> 0, 'TT-1 Imports & Non-tax Memo '!A75, \"\")","v":""},{"$f":"IF('TT-1 Imports & Non-tax Memo '!D75 <> 0, 'TT-1 Imports & Non-tax Memo '!D75, \"\")","v":""},{"$f":"IF('TT-1 Imports & Non-tax Memo '!E75 <> 0, 'TT-1 Imports & Non-tax Memo '!E75, \"\")","v":""},{"$f":"IF('TT-1 Imports & Non-tax Memo '!F75 <> \"\", 'TT-1 Imports & Non-tax Memo '!F75, 0)","v":0},{"$f":"IF('TT-1 Imports & Non-tax Memo '!G75 <> \"\", 'TT-1 Imports & Non-tax Memo '!G75, 0)","v":0},{"$f":"IF('TT-1 Imports & Non-tax Memo '!H75 <> \"\", 'TT-1 Imports & Non-tax Memo '!H75, 0)","v":0},{"$f":"IF('TT-1 Imports & Non-tax Memo '!I75 <> \"\", 'TT-1 Imports & Non-tax Memo '!I75, 0)","v":0},{"$f":"IF('TT-1 Imports & Non-tax Memo '!J75 <> \"\", 'TT-1 Imports & Non-tax Memo '!J75, 0)","v":0},{"$f":"IF('TT-1 Imports & Non-tax Memo '!K75 <> \"\", 'TT-1 Imports & Non-tax Memo '!K75, 0)","v":0},{"$f":"IF('TT-1 Imports & Non-tax Memo '!L75 <> \"\", 'TT-1 Imports & Non-tax Memo '!L75, 0)","v":0},{"$f":"IF('TT-1 Imports & Non-tax Memo '!M75 <> \"\", 'TT-1 Imports & Non-tax Memo '!M75, 0)","v":0},{"$f":"IF('TT-1 Imports & Non-tax Memo '!N75 <> \"\", 'TT-1 Imports & Non-tax Memo '!N75, 0)","v":0},{"$f":"IF('TT-1 Imports & Non-tax Memo '!O75 <> \"\", 'TT-1 Imports & Non-tax Memo '!O75, 0)","v":0},{"$f":"IF('TT-1 Imports & Non-tax Memo '!P75 <> \"\", 'TT-1 Imports & Non-tax Memo '!P75, 0)","v":0},{"$f":"IF('TT-1 Imports & Non-tax Memo '!Q75 <> \"\", 'TT-1 Imports & Non-tax Memo '!Q75, 0)","v":0},{"$f":"IF('TT-1 Imports & Non-tax Memo '!R75 <> \"\", 'TT-1 Imports & Non-tax Memo '!R75, 0)","v":0},{"$f":"IF('TT-1 Imports & Non-tax Memo '!S75 <> \"\", 'TT-1 Imports & Non-tax Memo '!S75, 0)","v":0},{"$f":"IF('TT-1 Imports & Non-tax Memo '!T75 <> 0, 'TT-1 Imports & Non-tax Memo '!T75, \"\")","v":""}]
[{"$f":"IF('TT-1 Imports & Non-tax Memo '!A76 <> 0, 'TT-1 Imports & Non-tax Memo '!A76, \"\")","v":""},{"$f":"IF('TT-1 Imports & Non-tax Memo '!D76 <> 0, 'TT-1 Imports & Non-tax Memo '!D76, \"\")","v":""},{"$f":"IF('TT-1 Imports & Non-tax Memo '!E76 <> 0, 'TT-1 Imports & Non-tax Memo '!E76, \"\")","v":""},{"$f":"IF('TT-1 Imports & Non-tax Memo '!F76 <> \"\", 'TT-1 Imports & Non-tax Memo '!F76, 0)","v":0},{"$f":"IF('TT-1 Imports & Non-tax Memo '!G76 <> \"\", 'TT-1 Imports & Non-tax Memo '!G76, 0)","v":0},{"$f":"IF('TT-1 Imports & Non-tax Memo '!H76 <> \"\", 'TT-1 Imports & Non-tax Memo '!H76, 0)","v":0},{"$f":"IF('TT-1 Imports & Non-tax Memo '!I76 <> \"\", 'TT-1 Imports & Non-tax Memo '!I76, 0)","v":0},{"$f":"IF('TT-1 Imports & Non-tax Memo '!J76 <> \"\", 'TT-1 Imports & Non-tax Memo '!J76, 0)","v":0},{"$f":"IF('TT-1 Imports & Non-tax Memo '!K76 <> \"\", 'TT-1 Imports & Non-tax Memo '!K76, 0)","v":0},{"$f":"IF('TT-1 Imports & Non-tax Memo '!L76 <> \"\", 'TT-1 Imports & Non-tax Memo '!L76, 0)","v":0},{"$f":"IF('TT-1 Imports & Non-tax Memo '!M76 <> \"\", 'TT-1 Imports & Non-tax Memo '!M76, 0)","v":0},{"$f":"IF('TT-1 Imports & Non-tax Memo '!N76 <> \"\", 'TT-1 Imports & Non-tax Memo '!N76, 0)","v":0},{"$f":"IF('TT-1 Imports & Non-tax Memo '!O76 <> \"\", 'TT-1 Imports & Non-tax Memo '!O76, 0)","v":0},{"$f":"IF('TT-1 Imports & Non-tax Memo '!P76 <> \"\", 'TT-1 Imports & Non-tax Memo '!P76, 0)","v":0},{"$f":"IF('TT-1 Imports & Non-tax Memo '!Q76 <> \"\", 'TT-1 Imports & Non-tax Memo '!Q76, 0)","v":0},{"$f":"IF('TT-1 Imports & Non-tax Memo '!R76 <> \"\", 'TT-1 Imports & Non-tax Memo '!R76, 0)","v":0},{"$f":"IF('TT-1 Imports & Non-tax Memo '!S76 <> \"\", 'TT-1 Imports & Non-tax Memo '!S76, 0)","v":0},{"$f":"IF('TT-1 Imports & Non-tax Memo '!T76 <> 0, 'TT-1 Imports & Non-tax Memo '!T76, \"\")","v":""}]
[{"$f":"IF('TT-1 Imports & Non-tax Memo '!A77 <> 0, 'TT-1 Imports & Non-tax Memo '!A77, \"\")","v":""},{"$f":"IF('TT-1 Imports & Non-tax Memo '!D77 <> 0, 'TT-1 Imports & Non-tax Memo '!D77, \"\")","v":""},{"$f":"IF('TT-1 Imports & Non-tax Memo '!E77 <> 0, 'TT-1 Imports & Non-tax Memo '!E77, \"\")","v":""},{"$f":"IF('TT-1 Imports & Non-tax Memo '!F77 <> \"\", 'TT-1 Imports & Non-tax Memo '!F77, 0)","v":0},{"$f":"IF('TT-1 Imports & Non-tax Memo '!G77 <> \"\", 'TT-1 Imports & Non-tax Memo '!G77, 0)","v":0},{"$f":"IF('TT-1 Imports & Non-tax Memo '!H77 <> \"\", 'TT-1 Imports & Non-tax Memo '!H77, 0)","v":0},{"$f":"IF('TT-1 Imports & Non-tax Memo '!I77 <> \"\", 'TT-1 Imports & Non-tax Memo '!I77, 0)","v":0},{"$f":"IF('TT-1 Imports & Non-tax Memo '!J77 <> \"\", 'TT-1 Imports & Non-tax Memo '!J77, 0)","v":0},{"$f":"IF('TT-1 Imports & Non-tax Memo '!K77 <> \"\", 'TT-1 Imports & Non-tax Memo '!K77, 0)","v":0},{"$f":"IF('TT-1 Imports & Non-tax Memo '!L77 <> \"\", 'TT-1 Imports & Non-tax Memo '!L77, 0)","v":0},{"$f":"IF('TT-1 Imports & Non-tax Memo '!M77 <> \"\", 'TT-1 Imports & Non-tax Memo '!M77, 0)","v":0},{"$f":"IF('TT-1 Imports & Non-tax Memo '!N77 <> \"\", 'TT-1 Imports & Non-tax Memo '!N77, 0)","v":0},{"$f":"IF('TT-1 Imports & Non-tax Memo '!O77 <> \"\", 'TT-1 Imports & Non-tax Memo '!O77, 0)","v":0},{"$f":"IF('TT-1 Imports & Non-tax Memo '!P77 <> \"\", 'TT-1 Imports & Non-tax Memo '!P77, 0)","v":0},{"$f":"IF('TT-1 Imports & Non-tax Memo '!Q77 <> \"\", 'TT-1 Imports & Non-tax Memo '!Q77, 0)","v":0},{"$f":"IF('TT-1 Imports & Non-tax Memo '!R77 <> \"\", 'TT-1 Imports & Non-tax Memo '!R77, 0)","v":0},{"$f":"IF('TT-1 Imports & Non-tax Memo '!S77 <> \"\", 'TT-1 Imports & Non-tax Memo '!S77, 0)","v":0},{"$f":"IF('TT-1 Imports & Non-tax Memo '!T77 <> 0, 'TT-1 Imports & Non-tax Memo '!T77, \"\")","v":""}]
[{"$f":"IF('TT-1 Imports & Non-tax Memo '!A78 <> 0, 'TT-1 Imports & Non-tax Memo '!A78, \"\")","v":""},{"$f":"IF('TT-1 Imports & Non-tax Memo '!D78 <> 0, 'TT-1 Imports & Non-tax Memo '!D78, \"\")","v":""},{"$f":"IF('TT-1 Imports & Non-tax Memo '!E78 <> 0, 'TT-1 Imports & Non-tax Memo '!E78, \"\")","v":""},{"$f":"IF('TT-1 Imports & Non-tax Memo '!F78 <> \"\", 'TT-1 Imports & Non-tax Memo '!F78, 0)","v":0},{"$f":"IF('TT-1 Imports & Non-tax Memo '!G78 <> \"\", 'TT-1 Imports & Non-tax Memo '!G78, 0)","v":0},{"$f":"IF('TT-1 Imports & Non-tax Memo '!H78 <> \"\", 'TT-1 Imports & Non-tax Memo '!H78, 0)","v":0},{"$f":"IF('TT-1 Imports & Non-tax Memo '!I78 <> \"\", 'TT-1 Imports & Non-tax Memo '!I78, 0)","v":0},{"$f":"IF('TT-1 Imports & Non-tax Memo '!J78 <> \"\", 'TT-1 Imports & Non-tax Memo '!J78, 0)","v":0},{"$f":"IF('TT-1 Imports & Non-tax Memo '!K78 <> \"\", 'TT-1 Imports & Non-tax Memo '!K78, 0)","v":0},{"$f":"IF('TT-1 Imports & Non-tax Memo '!L78 <> \"\", 'TT-1 Imports & Non-tax Memo '!L78, 0)","v":0},{"$f":"IF('TT-1 Imports & Non-tax Memo '!M78 <> \"\", 'TT-1 Imports & Non-tax Memo '!M78, 0)","v":0},{"$f":"IF('TT-1 Imports & Non-tax Memo '!N78 <> \"\", 'TT-1 Imports & Non-tax Memo '!N78, 0)","v":0},{"$f":"IF('TT-1 Imports & Non-tax Memo '!O78 <> \"\", 'TT-1 Imports & Non-tax Memo '!O78, 0)","v":0},{"$f":"IF('TT-1 Imports & Non-tax Memo '!P78 <> \"\", 'TT-1 Imports & Non-tax Memo '!P78, 0)","v":0},{"$f":"IF('TT-1 Imports & Non-tax Memo '!Q78 <> \"\", 'TT-1 Imports & Non-tax Memo '!Q78, 0)","v":0},{"$f":"IF('TT-1 Imports & Non-tax Memo '!R78 <> \"\", 'TT-1 Imports & Non-tax Memo '!R78, 0)","v":0},{"$f":"IF('TT-1 Imports & Non-tax Memo '!S78 <> \"\", 'TT-1 Imports & Non-tax Memo '!S78, 0)","v":0},{"$f":"IF('TT-1 Imports & Non-tax Memo '!T78 <> 0, 'TT-1 Imports & Non-tax Memo '!T78, \"\")","v":""}]
[{"$f":"IF('TT-1 Imports & Non-tax Memo '!A79 <> 0, 'TT-1 Imports & Non-tax Memo '!A79, \"\")","v":""},{"$f":"IF('TT-1 Imports & Non-tax Memo '!D79 <> 0, 'TT-1 Imports & Non-tax Memo '!D79, \"\")","v":""},{"$f":"IF('TT-1 Imports & Non-tax Memo '!E79 <> 0, 'TT-1 Imports & Non-tax Memo '!E79, \"\")","v":""},{"$f":"IF('TT-1 Imports & Non-tax Memo '!F79 <> \"\", 'TT-1 Imports & Non-tax Memo '!F79, 0)","v":0},{"$f":"IF('TT-1 Imports & Non-tax Memo '!G79 <> \"\", 'TT-1 Imports & Non-tax Memo '!G79, 0)","v":0},{"$f":"IF('TT-1 Imports & Non-tax Memo '!H79 <> \"\", 'TT-1 Imports & Non-tax Memo '!H79, 0)","v":0},{"$f":"IF('TT-1 Imports & Non-tax Memo '!I79 <> \"\", 'TT-1 Imports & Non-tax Memo '!I79, 0)","v":0},{"$f":"IF('TT-1 Imports & Non-tax Memo '!J79 <> \"\", 'TT-1 Imports & Non-tax Memo '!J79, 0)","v":0},{"$f":"IF('TT-1 Imports & Non-tax Memo '!K79 <> \"\", 'TT-1 Imports & Non-tax Memo '!K79, 0)","v":0},{"$f":"IF('TT-1 Imports & Non-tax Memo '!L79 <> \"\", 'TT-1 Imports & Non-tax Memo '!L79, 0)","v":0},{"$f":"IF('TT-1 Imports & Non-tax Memo '!M79 <> \"\", 'TT-1 Imports & Non-tax Memo '!M79, 0)","v":0},{"$f":"IF('TT-1 Imports & Non-tax Memo '!N79 <> \"\", 'TT-1 Imports & Non-tax Memo '!N79, 0)","v":0},{"$f":"IF('TT-1 Imports & Non-tax Memo '!O79 <> \"\", 'TT-1 Imports & Non-tax Memo '!O79, 0)","v":0},{"$f":"IF('TT-1 Imports & Non-tax Memo '!P79 <> \"\", 'TT-1 Imports & Non-tax Memo '!P79, 0)","v":0},{"$f":"IF('TT-1 Imports & Non-tax Memo '!Q79 <> \"\", 'TT-1 Imports & Non-tax Memo '!Q79, 0)","v":0},{"$f":"IF('TT-1 Imports & Non-tax Memo '!R79 <> \"\", 'TT-1 Imports & Non-tax Memo '!R79, 0)","v":0},{"$f":"IF('TT-1 Imports & Non-tax Memo '!S79 <> \"\", 'TT-1 Imports & Non-tax Memo '!S79, 0)","v":0},{"$f":"IF('TT-1 Imports & Non-tax Memo '!T79 <> 0, 'TT-1 Imports & Non-tax Memo '!T79, \"\")","v":""}]
[{"$f":"IF('TT-1 Imports & Non-tax Memo '!A80 <> 0, 'TT-1 Imports & Non-tax Memo '!A80, \"\")","v":""},{"$f":"IF('TT-1 Imports & Non-tax Memo '!D80 <> 0, 'TT-1 Imports & Non-tax Memo '!D80, \"\")","v":""},{"$f":"IF('TT-1 Imports & Non-tax Memo '!E80 <> 0, 'TT-1 Imports & Non-tax Memo '!E80, \"\")","v":""},{"$f":"IF('TT-1 Imports & Non-tax Memo '!F80 <> \"\", 'TT-1 Imports & Non-tax Memo '!F80, 0)","v":0},{"$f":"IF('TT-1 Imports & Non-tax Memo '!G80 <> \"\", 'TT-1 Imports & Non-tax Memo '!G80, 0)","v":0},{"$f":"IF('TT-1 Imports & Non-tax Memo '!H80 <> \"\", 'TT-1 Imports & Non-tax Memo '!H80, 0)","v":0},{"$f":"IF('TT-1 Imports & Non-tax Memo '!I80 <> \"\", 'TT-1 Imports & Non-tax Memo '!I80, 0)","v":0},{"$f":"IF('TT-1 Imports & Non-tax Memo '!J80 <> \"\", 'TT-1 Imports & Non-tax Memo '!J80, 0)","v":0},{"$f":"IF('TT-1 Imports & Non-tax Memo '!K80 <> \"\", 'TT-1 Imports & Non-tax Memo '!K80, 0)","v":0},{"$f":"IF('TT-1 Imports & Non-tax Memo '!L80 <> \"\", 'TT-1 Imports & Non-tax Memo '!L80, 0)","v":0},{"$f":"IF('TT-1 Imports & Non-tax Memo '!M80 <> \"\", 'TT-1 Imports & Non-tax Memo '!M80, 0)","v":0},{"$f":"IF('TT-1 Imports & Non-tax Memo '!N80 <> \"\", 'TT-1 Imports & Non-tax Memo '!N80, 0)","v":0},{"$f":"IF('TT-1 Imports & Non-tax Memo '!O80 <> \"\", 'TT-1 Imports & Non-tax Memo '!O80, 0)","v":0},{"$f":"IF('TT-1 Imports & Non-tax Memo '!P80 <> \"\", 'TT-1 Imports & Non-tax Memo '!P80, 0)","v":0},{"$f":"IF('TT-1 Imports & Non-tax Memo '!Q80 <> \"\", 'TT-1 Imports & Non-tax Memo '!Q80, 0)","v":0},{"$f":"IF('TT-1 Imports & Non-tax Memo '!R80 <> \"\", 'TT-1 Imports & Non-tax Memo '!R80, 0)","v":0},{"$f":"IF('TT-1 Imports & Non-tax Memo '!S80 <> \"\", 'TT-1 Imports & Non-tax Memo '!S80, 0)","v":0},{"$f":"IF('TT-1 Imports & Non-tax Memo '!T80 <> 0, 'TT-1 Imports & Non-tax Memo '!T80, \"\")","v":""}]
[{"$f":"IF('TT-1 Imports & Non-tax Memo '!A81 <> 0, 'TT-1 Imports & Non-tax Memo '!A81, \"\")","v":""},{"$f":"IF('TT-1 Imports & Non-tax Memo '!D81 <> 0, 'TT-1 Imports & Non-tax Memo '!D81, \"\")","v":""},{"$f":"IF('TT-1 Imports & Non-tax Memo '!E81 <> 0, 'TT-1 Imports & Non-tax Memo '!E81, \"\")","v":""},{"$f":"IF('TT-1 Imports & Non-tax Memo '!F81 <> \"\", 'TT-1 Imports & Non-tax Memo '!F81, 0)","v":0},{"$f":"IF('TT-1 Imports & Non-tax Memo '!G81 <> \"\", 'TT-1 Imports & Non-tax Memo '!G81, 0)","v":0},{"$f":"IF('TT-1 Imports & Non-tax Memo '!H81 <> \"\", 'TT-1 Imports & Non-tax Memo '!H81, 0)","v":0},{"$f":"IF('TT-1 Imports & Non-tax Memo '!I81 <> \"\", 'TT-1 Imports & Non-tax Memo '!I81, 0)","v":0},{"$f":"IF('TT-1 Imports & Non-tax Memo '!J81 <> \"\", 'TT-1 Imports & Non-tax Memo '!J81, 0)","v":0},{"$f":"IF('TT-1 Imports & Non-tax Memo '!K81 <> \"\", 'TT-1 Imports & Non-tax Memo '!K81, 0)","v":0},{"$f":"IF('TT-1 Imports & Non-tax Memo '!L81 <> \"\", 'TT-1 Imports & Non-tax Memo '!L81, 0)","v":0},{"$f":"IF('TT-1 Imports & Non-tax Memo '!M81 <> \"\", 'TT-1 Imports & Non-tax Memo '!M81, 0)","v":0},{"$f":"IF('TT-1 Imports & Non-tax Memo '!N81 <> \"\", 'TT-1 Imports & Non-tax Memo '!N81, 0)","v":0},{"$f":"IF('TT-1 Imports & Non-tax Memo '!O81 <> \"\", 'TT-1 Imports & Non-tax Memo '!O81, 0)","v":0},{"$f":"IF('TT-1 Imports & Non-tax Memo '!P81 <> \"\", 'TT-1 Imports & Non-tax Memo '!P81, 0)","v":0},{"$f":"IF('TT-1 Imports & Non-tax Memo '!Q81 <> \"\", 'TT-1 Imports & Non-tax Memo '!Q81, 0)","v":0},{"$f":"IF('TT-1 Imports & Non-tax Memo '!R81 <> \"\", 'TT-1 Imports & Non-tax Memo '!R81, 0)","v":0},{"$f":"IF('TT-1 Imports & Non-tax Memo '!S81 <> \"\", 'TT-1 Imports & Non-tax Memo '!S81, 0)","v":0},{"$f":"IF('TT-1 Imports & Non-tax Memo '!T81 <> 0, 'TT-1 Imports & Non-tax Memo '!T81, \"\")","v":""}]
[{"$f":"IF('TT-1 Imports & Non-tax Memo '!A82 <> 0, 'TT-1 Imports & Non-tax Memo '!A82, \"\")","v":""},{"$f":"IF('TT-1 Imports & Non-tax Memo '!D82 <> 0, 'TT-1 Imports & Non-tax Memo '!D82, \"\")","v":""},{"$f":"IF('TT-1 Imports & Non-tax Memo '!E82 <> 0, 'TT-1 Imports & Non-tax Memo '!E82, \"\")","v":""},{"$f":"IF('TT-1 Imports & Non-tax Memo '!F82 <> \"\", 'TT-1 Imports & Non-tax Memo '!F82, 0)","v":0},{"$f":"IF('TT-1 Imports & Non-tax Memo '!G82 <> \"\", 'TT-1 Imports & Non-tax Memo '!G82, 0)","v":0},{"$f":"IF('TT-1 Imports & Non-tax Memo '!H82 <> \"\", 'TT-1 Imports & Non-tax Memo '!H82, 0)","v":0},{"$f":"IF('TT-1 Imports & Non-tax Memo '!I82 <> \"\", 'TT-1 Imports & Non-tax Memo '!I82, 0)","v":0},{"$f":"IF('TT-1 Imports & Non-tax Memo '!J82 <> \"\", 'TT-1 Imports & Non-tax Memo '!J82, 0)","v":0},{"$f":"IF('TT-1 Imports & Non-tax Memo '!K82 <> \"\", 'TT-1 Imports & Non-tax Memo '!K82, 0)","v":0},{"$f":"IF('TT-1 Imports & Non-tax Memo '!L82 <> \"\", 'TT-1 Imports & Non-tax Memo '!L82, 0)","v":0},{"$f":"IF('TT-1 Imports & Non-tax Memo '!M82 <> \"\", 'TT-1 Imports & Non-tax Memo '!M82, 0)","v":0},{"$f":"IF('TT-1 Imports & Non-tax Memo '!N82 <> \"\", 'TT-1 Imports & Non-tax Memo '!N82, 0)","v":0},{"$f":"IF('TT-1 Imports & Non-tax Memo '!O82 <> \"\", 'TT-1 Imports & Non-tax Memo '!O82, 0)","v":0},{"$f":"IF('TT-1 Imports & Non-tax Memo '!P82 <> \"\", 'TT-1 Imports & Non-tax Memo '!P82, 0)","v":0},{"$f":"IF('TT-1 Imports & Non-tax Memo '!Q82 <> \"\", 'TT-1 Imports & Non-tax Memo '!Q82, 0)","v":0},{"$f":"IF('TT-1 Imports & Non-tax Memo '!R82 <> \"\", 'TT-1 Imports & Non-tax Memo '!R82, 0)","v":0},{"$f":"IF('TT-1 Imports & Non-tax Memo '!S82 <> \"\", 'TT-1 Imports & Non-tax Memo '!S82, 0)","v":0},{"$f":"IF('TT-1 Imports & Non-tax Memo '!T82 <> 0, 'TT-1 Imports & Non-tax Memo '!T82, \"\")","v":""}]
[{"$f":"IF('TT-1 Imports & Non-tax Memo '!A83 <> 0, 'TT-1 Imports & Non-tax Memo '!A83, \"\")","v":""},{"$f":"IF('TT-1 Imports & Non-tax Memo '!D83 <> 0, 'TT-1 Imports & Non-tax Memo '!D83, \"\")","v":""},{"$f":"IF('TT-1 Imports & Non-tax Memo '!E83 <> 0, 'TT-1 Imports & Non-tax Memo '!E83, \"\")","v":""},{"$f":"IF('TT-1 Imports & Non-tax Memo '!F83 <> \"\", 'TT-1 Imports & Non-tax Memo '!F83, 0)","v":0},{"$f":"IF('TT-1 Imports & Non-tax Memo '!G83 <> \"\", 'TT-1 Imports & Non-tax Memo '!G83, 0)","v":0},{"$f":"IF('TT-1 Imports & Non-tax Memo '!H83 <> \"\", 'TT-1 Imports & Non-tax Memo '!H83, 0)","v":0},{"$f":"IF('TT-1 Imports & Non-tax Memo '!I83 <> \"\", 'TT-1 Imports & Non-tax Memo '!I83, 0)","v":0},{"$f":"IF('TT-1 Imports & Non-tax Memo '!J83 <> \"\", 'TT-1 Imports & Non-tax Memo '!J83, 0)","v":0},{"$f":"IF('TT-1 Imports & Non-tax Memo '!K83 <> \"\", 'TT-1 Imports & Non-tax Memo '!K83, 0)","v":0},{"$f":"IF('TT-1 Imports & Non-tax Memo '!L83 <> \"\", 'TT-1 Imports & Non-tax Memo '!L83, 0)","v":0},{"$f":"IF('TT-1 Imports & Non-tax Memo '!M83 <> \"\", 'TT-1 Imports & Non-tax Memo '!M83, 0)","v":0},{"$f":"IF('TT-1 Imports & Non-tax Memo '!N83 <> \"\", 'TT-1 Imports & Non-tax Memo '!N83, 0)","v":0},{"$f":"IF('TT-1 Imports & Non-tax Memo '!O83 <> \"\", 'TT-1 Imports & Non-tax Memo '!O83, 0)","v":0},{"$f":"IF('TT-1 Imports & Non-tax Memo '!P83 <> \"\", 'TT-1 Imports & Non-tax Memo '!P83, 0)","v":0},{"$f":"IF('TT-1 Imports & Non-tax Memo '!Q83 <> \"\", 'TT-1 Imports & Non-tax Memo '!Q83, 0)","v":0},{"$f":"IF('TT-1 Imports & Non-tax Memo '!R83 <> \"\", 'TT-1 Imports & Non-tax Memo '!R83, 0)","v":0},{"$f":"IF('TT-1 Imports & Non-tax Memo '!S83 <> \"\", 'TT-1 Imports & Non-tax Memo '!S83, 0)","v":0},{"$f":"IF('TT-1 Imports & Non-tax Memo '!T83 <> 0, 'TT-1 Imports & Non-tax Memo '!T83, \"\")","v":""}]
[{"$f":"IF('TT-1 Imports & Non-tax Memo '!A84 <> 0, 'TT-1 Imports & Non-tax Memo '!A84, \"\")","v":""},{"$f":"IF('TT-1 Imports & Non-tax Memo '!D84 <> 0, 'TT-1 Imports & Non-tax Memo '!D84, \"\")","v":""},{"$f":"IF('TT-1 Imports & Non-tax Memo '!E84 <> 0, 'TT-1 Imports & Non-tax Memo '!E84, \"\")","v":""},{"$f":"IF('TT-1 Imports & Non-tax Memo '!F84 <> \"\", 'TT-1 Imports & Non-tax Memo '!F84, 0)","v":0},{"$f":"IF('TT-1 Imports & Non-tax Memo '!G84 <> \"\", 'TT-1 Imports & Non-tax Memo '!G84, 0)","v":0},{"$f":"IF('TT-1 Imports & Non-tax Memo '!H84 <> \"\", 'TT-1 Imports & Non-tax Memo '!H84, 0)","v":0},{"$f":"IF('TT-1 Imports & Non-tax Memo '!I84 <> \"\", 'TT-1 Imports & Non-tax Memo '!I84, 0)","v":0},{"$f":"IF('TT-1 Imports & Non-tax Memo '!J84 <> \"\", 'TT-1 Imports & Non-tax Memo '!J84, 0)","v":0},{"$f":"IF('TT-1 Imports & Non-tax Memo '!K84 <> \"\", 'TT-1 Imports & Non-tax Memo '!K84, 0)","v":0},{"$f":"IF('TT-1 Imports & Non-tax Memo '!L84 <> \"\", 'TT-1 Imports & Non-tax Memo '!L84, 0)","v":0},{"$f":"IF('TT-1 Imports & Non-tax Memo '!M84 <> \"\", 'TT-1 Imports & Non-tax Memo '!M84, 0)","v":0},{"$f":"IF('TT-1 Imports & Non-tax Memo '!N84 <> \"\", 'TT-1 Imports & Non-tax Memo '!N84, 0)","v":0},{"$f":"IF('TT-1 Imports & Non-tax Memo '!O84 <> \"\", 'TT-1 Imports & Non-tax Memo '!O84, 0)","v":0},{"$f":"IF('TT-1 Imports & Non-tax Memo '!P84 <> \"\", 'TT-1 Imports & Non-tax Memo '!P84, 0)","v":0},{"$f":"IF('TT-1 Imports & Non-tax Memo '!Q84 <> \"\", 'TT-1 Imports & Non-tax Memo '!Q84, 0)","v":0},{"$f":"IF('TT-1 Imports & Non-tax Memo '!R84 <> \"\", 'TT-1 Imports & Non-tax Memo '!R84, 0)","v":0},{"$f":"IF('TT-1 Imports & Non-tax Memo '!S84 <> \"\", 'TT-1 Imports & Non-tax Memo '!S84, 0)","v":0},{"$f":"IF('TT-1 Imports & Non-tax Memo '!T84 <> 0, 'TT-1 Imports & Non-tax Memo '!T84, \"\")","v":""}]
[{"$f":"IF('TT-1 Imports & Non-tax Memo '!A85 <> 0, 'TT-1 Imports & Non-tax Memo '!A85, \"\")","v":""},{"$f":"IF('TT-1 Imports & Non-tax Memo '!D85 <> 0, 'TT-1 Imports & Non-tax Memo '!D85, \"\")","v":""},{"$f":"IF('TT-1 Imports & Non-tax Memo '!E85 <> 0, 'TT-1 Imports & Non-tax Memo '!E85, \"\")","v":""},{"$f":"IF('TT-1 Imports & Non-tax Memo '!F85 <> \"\", 'TT-1 Imports & Non-tax Memo '!F85, 0)","v":0},{"$f":"IF('TT-1 Imports & Non-tax Memo '!G85 <> \"\", 'TT-1 Imports & Non-tax Memo '!G85, 0)","v":0},{"$f":"IF('TT-1 Imports & Non-tax Memo '!H85 <> \"\", 'TT-1 Imports & Non-tax Memo '!H85, 0)","v":0},{"$f":"IF('TT-1 Imports & Non-tax Memo '!I85 <> \"\", 'TT-1 Imports & Non-tax Memo '!I85, 0)","v":0},{"$f":"IF('TT-1 Imports & Non-tax Memo '!J85 <> \"\", 'TT-1 Imports & Non-tax Memo '!J85, 0)","v":0},{"$f":"IF('TT-1 Imports & Non-tax Memo '!K85 <> \"\", 'TT-1 Imports & Non-tax Memo '!K85, 0)","v":0},{"$f":"IF('TT-1 Imports & Non-tax Memo '!L85 <> \"\", 'TT-1 Imports & Non-tax Memo '!L85, 0)","v":0},{"$f":"IF('TT-1 Imports & Non-tax Memo '!M85 <> \"\", 'TT-1 Imports & Non-tax Memo '!M85, 0)","v":0},{"$f":"IF('TT-1 Imports & Non-tax Memo '!N85 <> \"\", 'TT-1 Imports & Non-tax Memo '!N85, 0)","v":0},{"$f":"IF('TT-1 Imports & Non-tax Memo '!O85 <> \"\", 'TT-1 Imports & Non-tax Memo '!O85, 0)","v":0},{"$f":"IF('TT-1 Imports & Non-tax Memo '!P85 <> \"\", 'TT-1 Imports & Non-tax Memo '!P85, 0)","v":0},{"$f":"IF('TT-1 Imports & Non-tax Memo '!Q85 <> \"\", 'TT-1 Imports & Non-tax Memo '!Q85, 0)","v":0},{"$f":"IF('TT-1 Imports & Non-tax Memo '!R85 <> \"\", 'TT-1 Imports & Non-tax Memo '!R85, 0)","v":0},{"$f":"IF('TT-1 Imports & Non-tax Memo '!S85 <> \"\", 'TT-1 Imports & Non-tax Memo '!S85, 0)","v":0},{"$f":"IF('TT-1 Imports & Non-tax Memo '!T85 <> 0, 'TT-1 Imports & Non-tax Memo '!T85, \"\")","v":""}]
[{"$f":"IF('TT-1 Imports & Non-tax Memo '!A86 <> 0, 'TT-1 Imports & Non-tax Memo '!A86, \"\")","v":""},{"$f":"IF('TT-1 Imports & Non-tax Memo '!D86 <> 0, 'TT-1 Imports & Non-tax Memo '!D86, \"\")","v":""},{"$f":"IF('TT-1 Imports & Non-tax Memo '!E86 <> 0, 'TT-1 Imports & Non-tax Memo '!E86, \"\")","v":""},{"$f":"IF('TT-1 Imports & Non-tax Memo '!F86 <> \"\", 'TT-1 Imports & Non-tax Memo '!F86, 0)","v":0},{"$f":"IF('TT-1 Imports & Non-tax Memo '!G86 <> \"\", 'TT-1 Imports & Non-tax Memo '!G86, 0)","v":0},{"$f":"IF('TT-1 Imports & Non-tax Memo '!H86 <> \"\", 'TT-1 Imports & Non-tax Memo '!H86, 0)","v":0},{"$f":"IF('TT-1 Imports & Non-tax Memo '!I86 <> \"\", 'TT-1 Imports & Non-tax Memo '!I86, 0)","v":0},{"$f":"IF('TT-1 Imports & Non-tax Memo '!J86 <> \"\", 'TT-1 Imports & Non-tax Memo '!J86, 0)","v":0},{"$f":"IF('TT-1 Imports & Non-tax Memo '!K86 <> \"\", 'TT-1 Imports & Non-tax Memo '!K86, 0)","v":0},{"$f":"IF('TT-1 Imports & Non-tax Memo '!L86 <> \"\", 'TT-1 Imports & Non-tax Memo '!L86, 0)","v":0},{"$f":"IF('TT-1 Imports & Non-tax Memo '!M86 <> \"\", 'TT-1 Imports & Non-tax Memo '!M86, 0)","v":0},{"$f":"IF('TT-1 Imports & Non-tax Memo '!N86 <> \"\", 'TT-1 Imports & Non-tax Memo '!N86, 0)","v":0},{"$f":"IF('TT-1 Imports & Non-tax Memo '!O86 <> \"\", 'TT-1 Imports & Non-tax Memo '!O86, 0)","v":0},{"$f":"IF('TT-1 Imports & Non-tax Memo '!P86 <> \"\", 'TT-1 Imports & Non-tax Memo '!P86, 0)","v":0},{"$f":"IF('TT-1 Imports & Non-tax Memo '!Q86 <> \"\", 'TT-1 Imports & Non-tax Memo '!Q86, 0)","v":0},{"$f":"IF('TT-1 Imports & Non-tax Memo '!R86 <> \"\", 'TT-1 Imports & Non-tax Memo '!R86, 0)","v":0},{"$f":"IF('TT-1 Imports & Non-tax Memo '!S86 <> \"\", 'TT-1 Imports & Non-tax Memo '!S86, 0)","v":0},{"$f":"IF('TT-1 Imports & Non-tax Memo '!T86 <> 0, 'TT-1 Imports & Non-tax Memo '!T86, \"\")","v":""}]
[{"$f":"IF('TT-1 Imports & Non-tax Memo '!A87 <> 0, 'TT-1 Imports & Non-tax Memo '!A87, \"\")","v":""},{"$f":"IF('TT-1 Imports & Non-tax Memo '!D87 <> 0, 'TT-1 Imports & Non-tax Memo '!D87, \"\")","v":""},{"$f":"IF('TT-1 Imports & Non-tax Memo '!E87 <> 0, 'TT-1 Imports & Non-tax Memo '!E87, \"\")","v":""},{"$f":"IF('TT-1 Imports & Non-tax Memo '!F87 <> \"\", 'TT-1 Imports & Non-tax Memo '!F87, 0)","v":0},{"$f":"IF('TT-1 Imports & Non-tax Memo '!G87 <> \"\", 'TT-1 Imports & Non-tax Memo '!G87, 0)","v":0},{"$f":"IF('TT-1 Imports & Non-tax Memo '!H87 <> \"\", 'TT-1 Imports & Non-tax Memo '!H87, 0)","v":0},{"$f":"IF('TT-1 Imports & Non-tax Memo '!I87 <> \"\", 'TT-1 Imports & Non-tax Memo '!I87, 0)","v":0},{"$f":"IF('TT-1 Imports & Non-tax Memo '!J87 <> \"\", 'TT-1 Imports & Non-tax Memo '!J87, 0)","v":0},{"$f":"IF('TT-1 Imports & Non-tax Memo '!K87 <> \"\", 'TT-1 Imports & Non-tax Memo '!K87, 0)","v":0},{"$f":"IF('TT-1 Imports & Non-tax Memo '!L87 <> \"\", 'TT-1 Imports & Non-tax Memo '!L87, 0)","v":0},{"$f":"IF('TT-1 Imports & Non-tax Memo '!M87 <> \"\", 'TT-1 Imports & Non-tax Memo '!M87, 0)","v":0},{"$f":"IF('TT-1 Imports & Non-tax Memo '!N87 <> \"\", 'TT-1 Imports & Non-tax Memo '!N87, 0)","v":0},{"$f":"IF('TT-1 Imports & Non-tax Memo '!O87 <> \"\", 'TT-1 Imports & Non-tax Memo '!O87, 0)","v":0},{"$f":"IF('TT-1 Imports & Non-tax Memo '!P87 <> \"\", 'TT-1 Imports & Non-tax Memo '!P87, 0)","v":0},{"$f":"IF('TT-1 Imports & Non-tax Memo '!Q87 <> \"\", 'TT-1 Imports & Non-tax Memo '!Q87, 0)","v":0},{"$f":"IF('TT-1 Imports & Non-tax Memo '!R87 <> \"\", 'TT-1 Imports & Non-tax Memo '!R87, 0)","v":0},{"$f":"IF('TT-1 Imports & Non-tax Memo '!S87 <> \"\", 'TT-1 Imports & Non-tax Memo '!S87, 0)","v":0},{"$f":"IF('TT-1 Imports & Non-tax Memo '!T87 <> 0, 'TT-1 Imports & Non-tax Memo '!T87, \"\")","v":""}]
[{"$f":"IF('TT-1 Imports & Non-tax Memo '!A88 <> 0, 'TT-1 Imports & Non-tax Memo '!A88, \"\")","v":""},{"$f":"IF('TT-1 Imports & Non-tax Memo '!D88 <> 0, 'TT-1 Imports & Non-tax Memo '!D88, \"\")","v":""},{"$f":"IF('TT-1 Imports & Non-tax Memo '!E88 <> 0, 'TT-1 Imports & Non-tax Memo '!E88, \"\")","v":""},{"$f":"IF('TT-1 Imports & Non-tax Memo '!F88 <> \"\", 'TT-1 Imports & Non-tax Memo '!F88, 0)","v":0},{"$f":"IF('TT-1 Imports & Non-tax Memo '!G88 <> \"\", 'TT-1 Imports & Non-tax Memo '!G88, 0)","v":0},{"$f":"IF('TT-1 Imports & Non-tax Memo '!H88 <> \"\", 'TT-1 Imports & Non-tax Memo '!H88, 0)","v":0},{"$f":"IF('TT-1 Imports & Non-tax Memo '!I88 <> \"\", 'TT-1 Imports & Non-tax Memo '!I88, 0)","v":0},{"$f":"IF('TT-1 Imports & Non-tax Memo '!J88 <> \"\", 'TT-1 Imports & Non-tax Memo '!J88, 0)","v":0},{"$f":"IF('TT-1 Imports & Non-tax Memo '!K88 <> \"\", 'TT-1 Imports & Non-tax Memo '!K88, 0)","v":0},{"$f":"IF('TT-1 Imports & Non-tax Memo '!L88 <> \"\", 'TT-1 Imports & Non-tax Memo '!L88, 0)","v":0},{"$f":"IF('TT-1 Imports & Non-tax Memo '!M88 <> \"\", 'TT-1 Imports & Non-tax Memo '!M88, 0)","v":0},{"$f":"IF('TT-1 Imports & Non-tax Memo '!N88 <> \"\", 'TT-1 Imports & Non-tax Memo '!N88, 0)","v":0},{"$f":"IF('TT-1 Imports & Non-tax Memo '!O88 <> \"\", 'TT-1 Imports & Non-tax Memo '!O88, 0)","v":0},{"$f":"IF('TT-1 Imports & Non-tax Memo '!P88 <> \"\", 'TT-1 Imports & Non-tax Memo '!P88, 0)","v":0},{"$f":"IF('TT-1 Imports & Non-tax Memo '!Q88 <> \"\", 'TT-1 Imports & Non-tax Memo '!Q88, 0)","v":0},{"$f":"IF('TT-1 Imports & Non-tax Memo '!R88 <> \"\", 'TT-1 Imports & Non-tax Memo '!R88, 0)","v":0},{"$f":"IF('TT-1 Imports & Non-tax Memo '!S88 <> \"\", 'TT-1 Imports & Non-tax Memo '!S88, 0)","v":0},{"$f":"IF('TT-1 Imports & Non-tax Memo '!T88 <> 0, 'TT-1 Imports & Non-tax Memo '!T88, \"\")","v":""}]
[{"$f":"IF('TT-1 Imports & Non-tax Memo '!A89 <> 0, 'TT-1 Imports & Non-tax Memo '!A89, \"\")","v":""},{"$f":"IF('TT-1 Imports & Non-tax Memo '!D89 <> 0, 'TT-1 Imports & Non-tax Memo '!D89, \"\")","v":""},{"$f":"IF('TT-1 Imports & Non-tax Memo '!E89 <> 0, 'TT-1 Imports & Non-tax Memo '!E89, \"\")","v":""},{"$f":"IF('TT-1 Imports & Non-tax Memo '!F89 <> \"\", 'TT-1 Imports & Non-tax Memo '!F89, 0)","v":0},{"$f":"IF('TT-1 Imports & Non-tax Memo '!G89 <> \"\", 'TT-1 Imports & Non-tax Memo '!G89, 0)","v":0},{"$f":"IF('TT-1 Imports & Non-tax Memo '!H89 <> \"\", 'TT-1 Imports & Non-tax Memo '!H89, 0)","v":0},{"$f":"IF('TT-1 Imports & Non-tax Memo '!I89 <> \"\", 'TT-1 Imports & Non-tax Memo '!I89, 0)","v":0},{"$f":"IF('TT-1 Imports & Non-tax Memo '!J89 <> \"\", 'TT-1 Imports & Non-tax Memo '!J89, 0)","v":0},{"$f":"IF('TT-1 Imports & Non-tax Memo '!K89 <> \"\", 'TT-1 Imports & Non-tax Memo '!K89, 0)","v":0},{"$f":"IF('TT-1 Imports & Non-tax Memo '!L89 <> \"\", 'TT-1 Imports & Non-tax Memo '!L89, 0)","v":0},{"$f":"IF('TT-1 Imports & Non-tax Memo '!M89 <> \"\", 'TT-1 Imports & Non-tax Memo '!M89, 0)","v":0},{"$f":"IF('TT-1 Imports & Non-tax Memo '!N89 <> \"\", 'TT-1 Imports & Non-tax Memo '!N89, 0)","v":0},{"$f":"IF('TT-1 Imports & Non-tax Memo '!O89 <> \"\", 'TT-1 Imports & Non-tax Memo '!O89, 0)","v":0},{"$f":"IF('TT-1 Imports & Non-tax Memo '!P89 <> \"\", 'TT-1 Imports & Non-tax Memo '!P89, 0)","v":0},{"$f":"IF('TT-1 Imports & Non-tax Memo '!Q89 <> \"\", 'TT-1 Imports & Non-tax Memo '!Q89, 0)","v":0},{"$f":"IF('TT-1 Imports & Non-tax Memo '!R89 <> \"\", 'TT-1 Imports & Non-tax Memo '!R89, 0)","v":0},{"$f":"IF('TT-1 Imports & Non-tax Memo '!S89 <> \"\", 'TT-1 Imports & Non-tax Memo '!S89, 0)","v":0},{"$f":"IF('TT-1 Imports & Non-tax Memo '!T89 <> 0, 'TT-1 Imports & Non-tax Memo '!T89, \"\")","v":""}]
[{"$f":"IF('TT-1 Imports & Non-tax Memo '!A90 <> 0, 'TT-1 Imports & Non-tax Memo '!A90, \"\")","v":""},{"$f":"IF('TT-1 Imports & Non-tax Memo '!D90 <> 0, 'TT-1 Imports & Non-tax Memo '!D90, \"\")","v":""},{"$f":"IF('TT-1 Imports & Non-tax Memo '!E90 <> 0, 'TT-1 Imports & Non-tax Memo '!E90, \"\")","v":""},{"$f":"IF('TT-1 Imports & Non-tax Memo '!F90 <> \"\", 'TT-1 Imports & Non-tax Memo '!F90, 0)","v":0},{"$f":"IF('TT-1 Imports & Non-tax Memo '!G90 <> \"\", 'TT-1 Imports & Non-tax Memo '!G90, 0)","v":0},{"$f":"IF('TT-1 Imports & Non-tax Memo '!H90 <> \"\", 'TT-1 Imports & Non-tax Memo '!H90, 0)","v":0},{"$f":"IF('TT-1 Imports & Non-tax Memo '!I90 <> \"\", 'TT-1 Imports & Non-tax Memo '!I90, 0)","v":0},{"$f":"IF('TT-1 Imports & Non-tax Memo '!J90 <> \"\", 'TT-1 Imports & Non-tax Memo '!J90, 0)","v":0},{"$f":"IF('TT-1 Imports & Non-tax Memo '!K90 <> \"\", 'TT-1 Imports & Non-tax Memo '!K90, 0)","v":0},{"$f":"IF('TT-1 Imports & Non-tax Memo '!L90 <> \"\", 'TT-1 Imports & Non-tax Memo '!L90, 0)","v":0},{"$f":"IF('TT-1 Imports & Non-tax Memo '!M90 <> \"\", 'TT-1 Imports & Non-tax Memo '!M90, 0)","v":0},{"$f":"IF('TT-1 Imports & Non-tax Memo '!N90 <> \"\", 'TT-1 Imports & Non-tax Memo '!N90, 0)","v":0},{"$f":"IF('TT-1 Imports & Non-tax Memo '!O90 <> \"\", 'TT-1 Imports & Non-tax Memo '!O90, 0)","v":0},{"$f":"IF('TT-1 Imports & Non-tax Memo '!P90 <> \"\", 'TT-1 Imports & Non-tax Memo '!P90, 0)","v":0},{"$f":"IF('TT-1 Imports & Non-tax Memo '!Q90 <> \"\", 'TT-1 Imports & Non-tax Memo '!Q90, 0)","v":0},{"$f":"IF('TT-1 Imports & Non-tax Memo '!R90 <> \"\", 'TT-1 Imports & Non-tax Memo '!R90, 0)","v":0},{"$f":"IF('TT-1 Imports & Non-tax Memo '!S90 <> \"\", 'TT-1 Imports & Non-tax Memo '!S90, 0)","v":0},{"$f":"IF('TT-1 Imports & Non-tax Memo '!T90 <> 0, 'TT-1 Imports & Non-tax Memo '!T90, \"\")","v":""}]
[{"$f":"IF('TT-1 Imports & Non-tax Memo '!A91 <> 0, 'TT-1 Imports & Non-tax Memo '!A91, \"\")","v":""},{"$f":"IF('TT-1 Imports & Non-tax Memo '!D91 <> 0, 'TT-1 Imports & Non-tax Memo '!D91, \"\")","v":""},{"$f":"IF('TT-1 Imports & Non-tax Memo '!E91 <> 0, 'TT-1 Imports & Non-tax Memo '!E91, \"\")","v":""},{"$f":"IF('TT-1 Imports & Non-tax Memo '!F91 <> \"\", 'TT-1 Imports & Non-tax Memo '!F91, 0)","v":0},{"$f":"IF('TT-1 Imports & Non-tax Memo '!G91 <> \"\", 'TT-1 Imports & Non-tax Memo '!G91, 0)","v":0},{"$f":"IF('TT-1 Imports & Non-tax Memo '!H91 <> \"\", 'TT-1 Imports & Non-tax Memo '!H91, 0)","v":0},{"$f":"IF('TT-1 Imports & Non-tax Memo '!I91 <> \"\", 'TT-1 Imports & Non-tax Memo '!I91, 0)","v":0},{"$f":"IF('TT-1 Imports & Non-tax Memo '!J91 <> \"\", 'TT-1 Imports & Non-tax Memo '!J91, 0)","v":0},{"$f":"IF('TT-1 Imports & Non-tax Memo '!K91 <> \"\", 'TT-1 Imports & Non-tax Memo '!K91, 0)","v":0},{"$f":"IF('TT-1 Imports & Non-tax Memo '!L91 <> \"\", 'TT-1 Imports & Non-tax Memo '!L91, 0)","v":0},{"$f":"IF('TT-1 Imports & Non-tax Memo '!M91 <> \"\", 'TT-1 Imports & Non-tax Memo '!M91, 0)","v":0},{"$f":"IF('TT-1 Imports & Non-tax Memo '!N91 <> \"\", 'TT-1 Imports & Non-tax Memo '!N91, 0)","v":0},{"$f":"IF('TT-1 Imports & Non-tax Memo '!O91 <> \"\", 'TT-1 Imports & Non-tax Memo '!O91, 0)","v":0},{"$f":"IF('TT-1 Imports & Non-tax Memo '!P91 <> \"\", 'TT-1 Imports & Non-tax Memo '!P91, 0)","v":0},{"$f":"IF('TT-1 Imports & Non-tax Memo '!Q91 <> \"\", 'TT-1 Imports & Non-tax Memo '!Q91, 0)","v":0},{"$f":"IF('TT-1 Imports & Non-tax Memo '!R91 <> \"\", 'TT-1 Imports & Non-tax Memo '!R91, 0)","v":0},{"$f":"IF('TT-1 Imports & Non-tax Memo '!S91 <> \"\", 'TT-1 Imports & Non-tax Memo '!S91, 0)","v":0},{"$f":"IF('TT-1 Imports & Non-tax Memo '!T91 <> 0, 'TT-1 Imports & Non-tax Memo '!T91, \"\")","v":""}]
[{"$f":"IF('TT-1 Imports & Non-tax Memo '!A92 <> 0, 'TT-1 Imports & Non-tax Memo '!A92, \"\")","v":""},{"$f":"IF('TT-1 Imports & Non-tax Memo '!D92 <> 0, 'TT-1 Imports & Non-tax Memo '!D92, \"\")","v":""},{"$f":"IF('TT-1 Imports & Non-tax Memo '!E92 <> 0, 'TT-1 Imports & Non-tax Memo '!E92, \"\")","v":""},{"$f":"IF('TT-1 Imports & Non-tax Memo '!F92 <> \"\", 'TT-1 Imports & Non-tax Memo '!F92, 0)","v":0},{"$f":"IF('TT-1 Imports & Non-tax Memo '!G92 <> \"\", 'TT-1 Imports & Non-tax Memo '!G92, 0)","v":0},{"$f":"IF('TT-1 Imports & Non-tax Memo '!H92 <> \"\", 'TT-1 Imports & Non-tax Memo '!H92, 0)","v":0},{"$f":"IF('TT-1 Imports & Non-tax Memo '!I92 <> \"\", 'TT-1 Imports & Non-tax Memo '!I92, 0)","v":0},{"$f":"IF('TT-1 Imports & Non-tax Memo '!J92 <> \"\", 'TT-1 Imports & Non-tax Memo '!J92, 0)","v":0},{"$f":"IF('TT-1 Imports & Non-tax Memo '!K92 <> \"\", 'TT-1 Imports & Non-tax Memo '!K92, 0)","v":0},{"$f":"IF('TT-1 Imports & Non-tax Memo '!L92 <> \"\", 'TT-1 Imports & Non-tax Memo '!L92, 0)","v":0},{"$f":"IF('TT-1 Imports & Non-tax Memo '!M92 <> \"\", 'TT-1 Imports & Non-tax Memo '!M92, 0)","v":0},{"$f":"IF('TT-1 Imports & Non-tax Memo '!N92 <> \"\", 'TT-1 Imports & Non-tax Memo '!N92, 0)","v":0},{"$f":"IF('TT-1 Imports & Non-tax Memo '!O92 <> \"\", 'TT-1 Imports & Non-tax Memo '!O92, 0)","v":0},{"$f":"IF('TT-1 Imports & Non-tax Memo '!P92 <> \"\", 'TT-1 Imports & Non-tax Memo '!P92, 0)","v":0},{"$f":"IF('TT-1 Imports & Non-tax Memo '!Q92 <> \"\", 'TT-1 Imports & Non-tax Memo '!Q92, 0)","v":0},{"$f":"IF('TT-1 Imports & Non-tax Memo '!R92 <> \"\", 'TT-1 Imports & Non-tax Memo '!R92, 0)","v":0},{"$f":"IF('TT-1 Imports & Non-tax Memo '!S92 <> \"\", 'TT-1 Imports & Non-tax Memo '!S92, 0)","v":0},{"$f":"IF('TT-1 Imports & Non-tax Memo '!T92 <> 0, 'TT-1 Imports & Non-tax Memo '!T92, \"\")","v":""}]
[{"$f":"IF('TT-1 Imports & Non-tax Memo '!A93 <> 0, 'TT-1 Imports & Non-tax Memo '!A93, \"\")","v":""},{"$f":"IF('TT-1 Imports & Non-tax Memo '!D93 <> 0, 'TT-1 Imports & Non-tax Memo '!D93, \"\")","v":""},{"$f":"IF('TT-1 Imports & Non-tax Memo '!E93 <> 0, 'TT-1 Imports & Non-tax Memo '!E93, \"\")","v":""},{"$f":"IF('TT-1 Imports & Non-tax Memo '!F93 <> \"\", 'TT-1 Imports & Non-tax Memo '!F93, 0)","v":0},{"$f":"IF('TT-1 Imports & Non-tax Memo '!G93 <> \"\", 'TT-1 Imports & Non-tax Memo '!G93, 0)","v":0},{"$f":"IF('TT-1 Imports & Non-tax Memo '!H93 <> \"\", 'TT-1 Imports & Non-tax Memo '!H93, 0)","v":0},{"$f":"IF('TT-1 Imports & Non-tax Memo '!I93 <> \"\", 'TT-1 Imports & Non-tax Memo '!I93, 0)","v":0},{"$f":"IF('TT-1 Imports & Non-tax Memo '!J93 <> \"\", 'TT-1 Imports & Non-tax Memo '!J93, 0)","v":0},{"$f":"IF('TT-1 Imports & Non-tax Memo '!K93 <> \"\", 'TT-1 Imports & Non-tax Memo '!K93, 0)","v":0},{"$f":"IF('TT-1 Imports & Non-tax Memo '!L93 <> \"\", 'TT-1 Imports & Non-tax Memo '!L93, 0)","v":0},{"$f":"IF('TT-1 Imports & Non-tax Memo '!M93 <> \"\", 'TT-1 Imports & Non-tax Memo '!M93, 0)","v":0},{"$f":"IF('TT-1 Imports & Non-tax Memo '!N93 <> \"\", 'TT-1 Imports & Non-tax Memo '!N93, 0)","v":0},{"$f":"IF('TT-1 Imports & Non-tax Memo '!O93 <> \"\", 'TT-1 Imports & Non-tax Memo '!O93, 0)","v":0},{"$f":"IF('TT-1 Imports & Non-tax Memo '!P93 <> \"\", 'TT-1 Imports & Non-tax Memo '!P93, 0)","v":0},{"$f":"IF('TT-1 Imports & Non-tax Memo '!Q93 <> \"\", 'TT-1 Imports & Non-tax Memo '!Q93, 0)","v":0},{"$f":"IF('TT-1 Imports & Non-tax Memo '!R93 <> \"\", 'TT-1 Imports & Non-tax Memo '!R93, 0)","v":0},{"$f":"IF('TT-1 Imports & Non-tax Memo '!S93 <> \"\", 'TT-1 Imports & Non-tax Memo '!S93, 0)","v":0},{"$f":"IF('TT-1 Imports & Non-tax Memo '!T93 <> 0, 'TT-1 Imports & Non-tax Memo '!T93, \"\")","v":""}]
[{"$f":"IF('TT-1 Imports & Non-tax Memo '!A94 <> 0, 'TT-1 Imports & Non-tax Memo '!A94, \"\")","v":""},{"$f":"IF('TT-1 Imports & Non-tax Memo '!D94 <> 0, 'TT-1 Imports & Non-tax Memo '!D94, \"\")","v":""},{"$f":"IF('TT-1 Imports & Non-tax Memo '!E94 <> 0, 'TT-1 Imports & Non-tax Memo '!E94, \"\")","v":""},{"$f":"IF('TT-1 Imports & Non-tax Memo '!F94 <> \"\", 'TT-1 Imports & Non-tax Memo '!F94, 0)","v":0},{"$f":"IF('TT-1 Imports & Non-tax Memo '!G94 <> \"\", 'TT-1 Imports & Non-tax Memo '!G94, 0)","v":0},{"$f":"IF('TT-1 Imports & Non-tax Memo '!H94 <> \"\", 'TT-1 Imports & Non-tax Memo '!H94, 0)","v":0},{"$f":"IF('TT-1 Imports & Non-tax Memo '!I94 <> \"\", 'TT-1 Imports & Non-tax Memo '!I94, 0)","v":0},{"$f":"IF('TT-1 Imports & Non-tax Memo '!J94 <> \"\", 'TT-1 Imports & Non-tax Memo '!J94, 0)","v":0},{"$f":"IF('TT-1 Imports & Non-tax Memo '!K94 <> \"\", 'TT-1 Imports & Non-tax Memo '!K94, 0)","v":0},{"$f":"IF('TT-1 Imports & Non-tax Memo '!L94 <> \"\", 'TT-1 Imports & Non-tax Memo '!L94, 0)","v":0},{"$f":"IF('TT-1 Imports & Non-tax Memo '!M94 <> \"\", 'TT-1 Imports & Non-tax Memo '!M94, 0)","v":0},{"$f":"IF('TT-1 Imports & Non-tax Memo '!N94 <> \"\", 'TT-1 Imports & Non-tax Memo '!N94, 0)","v":0},{"$f":"IF('TT-1 Imports & Non-tax Memo '!O94 <> \"\", 'TT-1 Imports & Non-tax Memo '!O94, 0)","v":0},{"$f":"IF('TT-1 Imports & Non-tax Memo '!P94 <> \"\", 'TT-1 Imports & Non-tax Memo '!P94, 0)","v":0},{"$f":"IF('TT-1 Imports & Non-tax Memo '!Q94 <> \"\", 'TT-1 Imports & Non-tax Memo '!Q94, 0)","v":0},{"$f":"IF('TT-1 Imports & Non-tax Memo '!R94 <> \"\", 'TT-1 Imports & Non-tax Memo '!R94, 0)","v":0},{"$f":"IF('TT-1 Imports & Non-tax Memo '!S94 <> \"\", 'TT-1 Imports & Non-tax Memo '!S94, 0)","v":0},{"$f":"IF('TT-1 Imports & Non-tax Memo '!T94 <> 0, 'TT-1 Imports & Non-tax Memo '!T94, \"\")","v":""}]
[{"$f":"IF('TT-1 Imports & Non-tax Memo '!A95 <> 0, 'TT-1 Imports & Non-tax Memo '!A95, \"\")","v":""},{"$f":"IF('TT-1 Imports & Non-tax Memo '!D95 <> 0, 'TT-1 Imports & Non-tax Memo '!D95, \"\")","v":""},{"$f":"IF('TT-1 Imports & Non-tax Memo '!E95 <> 0, 'TT-1 Imports & Non-tax Memo '!E95, \"\")","v":""},{"$f":"IF('TT-1 Imports & Non-tax Memo '!F95 <> \"\", 'TT-1 Imports & Non-tax Memo '!F95, 0)","v":0},{"$f":"IF('TT-1 Imports & Non-tax Memo '!G95 <> \"\", 'TT-1 Imports & Non-tax Memo '!G95, 0)","v":0},{"$f":"IF('TT-1 Imports & Non-tax Memo '!H95 <> \"\", 'TT-1 Imports & Non-tax Memo '!H95, 0)","v":0},{"$f":"IF('TT-1 Imports & Non-tax Memo '!I95 <> \"\", 'TT-1 Imports & Non-tax Memo '!I95, 0)","v":0},{"$f":"IF('TT-1 Imports & Non-tax Memo '!J95 <> \"\", 'TT-1 Imports & Non-tax Memo '!J95, 0)","v":0},{"$f":"IF('TT-1 Imports & Non-tax Memo '!K95 <> \"\", 'TT-1 Imports & Non-tax Memo '!K95, 0)","v":0},{"$f":"IF('TT-1 Imports & Non-tax Memo '!L95 <> \"\", 'TT-1 Imports & Non-tax Memo '!L95, 0)","v":0},{"$f":"IF('TT-1 Imports & Non-tax Memo '!M95 <> \"\", 'TT-1 Imports & Non-tax Memo '!M95, 0)","v":0},{"$f":"IF('TT-1 Imports & Non-tax Memo '!N95 <> \"\", 'TT-1 Imports & Non-tax Memo '!N95, 0)","v":0},{"$f":"IF('TT-1 Imports & Non-tax Memo '!O95 <> \"\", 'TT-1 Imports & Non-tax Memo '!O95, 0)","v":0},{"$f":"IF('TT-1 Imports & Non-tax Memo '!P95 <> \"\", 'TT-1 Imports & Non-tax Memo '!P95, 0)","v":0},{"$f":"IF('TT-1 Imports & Non-tax Memo '!Q95 <> \"\", 'TT-1 Imports & Non-tax Memo '!Q95, 0)","v":0},{"$f":"IF('TT-1 Imports & Non-tax Memo '!R95 <> \"\", 'TT-1 Imports & Non-tax Memo '!R95, 0)","v":0},{"$f":"IF('TT-1 Imports & Non-tax Memo '!S95 <> \"\", 'TT-1 Imports & Non-tax Memo '!S95, 0)","v":0},{"$f":"IF('TT-1 Imports & Non-tax Memo '!T95 <> 0, 'TT-1 Imports & Non-tax Memo '!T95, \"\")","v":""}]
[{"$f":"IF('TT-1 Imports & Non-tax Memo '!A96 <> 0, 'TT-1 Imports & Non-tax Memo '!A96, \"\")","v":""},{"$f":"IF('TT-1 Imports & Non-tax Memo '!D96 <> 0, 'TT-1 Imports & Non-tax Memo '!D96, \"\")","v":""},{"$f":"IF('TT-1 Imports & Non-tax Memo '!E96 <> 0, 'TT-1 Imports & Non-tax Memo '!E96, \"\")","v":""},{"$f":"IF('TT-1 Imports & Non-tax Memo '!F96 <> \"\", 'TT-1 Imports & Non-tax Memo '!F96, 0)","v":0},{"$f":"IF('TT-1 Imports & Non-tax Memo '!G96 <> \"\", 'TT-1 Imports & Non-tax Memo '!G96, 0)","v":0},{"$f":"IF('TT-1 Imports & Non-tax Memo '!H96 <> \"\", 'TT-1 Imports & Non-tax Memo '!H96, 0)","v":0},{"$f":"IF('TT-1 Imports & Non-tax Memo '!I96 <> \"\", 'TT-1 Imports & Non-tax Memo '!I96, 0)","v":0},{"$f":"IF('TT-1 Imports & Non-tax Memo '!J96 <> \"\", 'TT-1 Imports & Non-tax Memo '!J96, 0)","v":0},{"$f":"IF('TT-1 Imports & Non-tax Memo '!K96 <> \"\", 'TT-1 Imports & Non-tax Memo '!K96, 0)","v":0},{"$f":"IF('TT-1 Imports & Non-tax Memo '!L96 <> \"\", 'TT-1 Imports & Non-tax Memo '!L96, 0)","v":0},{"$f":"IF('TT-1 Imports & Non-tax Memo '!M96 <> \"\", 'TT-1 Imports & Non-tax Memo '!M96, 0)","v":0},{"$f":"IF('TT-1 Imports & Non-tax Memo '!N96 <> \"\", 'TT-1 Imports & Non-tax Memo '!N96, 0)","v":0},{"$f":"IF('TT-1 Imports & Non-tax Memo '!O96 <> \"\", 'TT-1 Imports & Non-tax Memo '!O96, 0)","v":0},{"$f":"IF('TT-1 Imports & Non-tax Memo '!P96 <> \"\", 'TT-1 Imports & Non-tax Memo '!P96, 0)","v":0},{"$f":"IF('TT-1 Imports & Non-tax Memo '!Q96 <> \"\", 'TT-1 Imports & Non-tax Memo '!Q96, 0)","v":0},{"$f":"IF('TT-1 Imports & Non-tax Memo '!R96 <> \"\", 'TT-1 Imports & Non-tax Memo '!R96, 0)","v":0},{"$f":"IF('TT-1 Imports & Non-tax Memo '!S96 <> \"\", 'TT-1 Imports & Non-tax Memo '!S96, 0)","v":0},{"$f":"IF('TT-1 Imports & Non-tax Memo '!T96 <> 0, 'TT-1 Imports & Non-tax Memo '!T96, \"\")","v":""}]
[{"$f":"IF('TT-1 Imports & Non-tax Memo '!A97 <> 0, 'TT-1 Imports & Non-tax Memo '!A97, \"\")","v":""},{"$f":"IF('TT-1 Imports & Non-tax Memo '!D97 <> 0, 'TT-1 Imports & Non-tax Memo '!D97, \"\")","v":""},{"$f":"IF('TT-1 Imports & Non-tax Memo '!E97 <> 0, 'TT-1 Imports & Non-tax Memo '!E97, \"\")","v":""},{"$f":"IF('TT-1 Imports & Non-tax Memo '!F97 <> \"\", 'TT-1 Imports & Non-tax Memo '!F97, 0)","v":0},{"$f":"IF('TT-1 Imports & Non-tax Memo '!G97 <> \"\", 'TT-1 Imports & Non-tax Memo '!G97, 0)","v":0},{"$f":"IF('TT-1 Imports & Non-tax Memo '!H97 <> \"\", 'TT-1 Imports & Non-tax Memo '!H97, 0)","v":0},{"$f":"IF('TT-1 Imports & Non-tax Memo '!I97 <> \"\", 'TT-1 Imports & Non-tax Memo '!I97, 0)","v":0},{"$f":"IF('TT-1 Imports & Non-tax Memo '!J97 <> \"\", 'TT-1 Imports & Non-tax Memo '!J97, 0)","v":0},{"$f":"IF('TT-1 Imports & Non-tax Memo '!K97 <> \"\", 'TT-1 Imports & Non-tax Memo '!K97, 0)","v":0},{"$f":"IF('TT-1 Imports & Non-tax Memo '!L97 <> \"\", 'TT-1 Imports & Non-tax Memo '!L97, 0)","v":0},{"$f":"IF('TT-1 Imports & Non-tax Memo '!M97 <> \"\", 'TT-1 Imports & Non-tax Memo '!M97, 0)","v":0},{"$f":"IF('TT-1 Imports & Non-tax Memo '!N97 <> \"\", 'TT-1 Imports & Non-tax Memo '!N97, 0)","v":0},{"$f":"IF('TT-1 Imports & Non-tax Memo '!O97 <> \"\", 'TT-1 Imports & Non-tax Memo '!O97, 0)","v":0},{"$f":"IF('TT-1 Imports & Non-tax Memo '!P97 <> \"\", 'TT-1 Imports & Non-tax Memo '!P97, 0)","v":0},{"$f":"IF('TT-1 Imports & Non-tax Memo '!Q97 <> \"\", 'TT-1 Imports & Non-tax Memo '!Q97, 0)","v":0},{"$f":"IF('TT-1 Imports & Non-tax Memo '!R97 <> \"\", 'TT-1 Imports & Non-tax Memo '!R97, 0)","v":0},{"$f":"IF('TT-1 Imports & Non-tax Memo '!S97 <> \"\", 'TT-1 Imports & Non-tax Memo '!S97, 0)","v":0},{"$f":"IF('TT-1 Imports & Non-tax Memo '!T97 <> 0, 'TT-1 Imports & Non-tax Memo '!T97, \"\")","v":""}]
[{"$f":"IF('TT-1 Imports & Non-tax Memo '!A98 <> 0, 'TT-1 Imports & Non-tax Memo '!A98, \"\")","v":""},{"$f":"IF('TT-1 Imports & Non-tax Memo '!D98 <> 0, 'TT-1 Imports & Non-tax Memo '!D98, \"\")","v":""},{"$f":"IF('TT-1 Imports & Non-tax Memo '!E98 <> 0, 'TT-1 Imports & Non-tax Memo '!E98, \"\")","v":""},{"$f":"IF('TT-1 Imports & Non-tax Memo '!F98 <> \"\", 'TT-1 Imports & Non-tax Memo '!F98, 0)","v":0},{"$f":"IF('TT-1 Imports & Non-tax Memo '!G98 <> \"\", 'TT-1 Imports & Non-tax Memo '!G98, 0)","v":0},{"$f":"IF('TT-1 Imports & Non-tax Memo '!H98 <> \"\", 'TT-1 Imports & Non-tax Memo '!H98, 0)","v":0},{"$f":"IF('TT-1 Imports & Non-tax Memo '!I98 <> \"\", 'TT-1 Imports & Non-tax Memo '!I98, 0)","v":0},{"$f":"IF('TT-1 Imports & Non-tax Memo '!J98 <> \"\", 'TT-1 Imports & Non-tax Memo '!J98, 0)","v":0},{"$f":"IF('TT-1 Imports & Non-tax Memo '!K98 <> \"\", 'TT-1 Imports & Non-tax Memo '!K98, 0)","v":0},{"$f":"IF('TT-1 Imports & Non-tax Memo '!L98 <> \"\", 'TT-1 Imports & Non-tax Memo '!L98, 0)","v":0},{"$f":"IF('TT-1 Imports & Non-tax Memo '!M98 <> \"\", 'TT-1 Imports & Non-tax Memo '!M98, 0)","v":0},{"$f":"IF('TT-1 Imports & Non-tax Memo '!N98 <> \"\", 'TT-1 Imports & Non-tax Memo '!N98, 0)","v":0},{"$f":"IF('TT-1 Imports & Non-tax Memo '!O98 <> \"\", 'TT-1 Imports & Non-tax Memo '!O98, 0)","v":0},{"$f":"IF('TT-1 Imports & Non-tax Memo '!P98 <> \"\", 'TT-1 Imports & Non-tax Memo '!P98, 0)","v":0},{"$f":"IF('TT-1 Imports & Non-tax Memo '!Q98 <> \"\", 'TT-1 Imports & Non-tax Memo '!Q98, 0)","v":0},{"$f":"IF('TT-1 Imports & Non-tax Memo '!R98 <> \"\", 'TT-1 Imports & Non-tax Memo '!R98, 0)","v":0},{"$f":"IF('TT-1 Imports & Non-tax Memo '!S98 <> \"\", 'TT-1 Imports & Non-tax Memo '!S98, 0)","v":0},{"$f":"IF('TT-1 Imports & Non-tax Memo '!T98 <> 0, 'TT-1 Imports & Non-tax Memo '!T98, \"\")","v":""}]
[{"$f":"IF('TT-1 Imports & Non-tax Memo '!A99 <> 0, 'TT-1 Imports & Non-tax Memo '!A99, \"\")","v":""},{"$f":"IF('TT-1 Imports & Non-tax Memo '!D99 <> 0, 'TT-1 Imports & Non-tax Memo '!D99, \"\")","v":""},{"$f":"IF('TT-1 Imports & Non-tax Memo '!E99 <> 0, 'TT-1 Imports & Non-tax Memo '!E99, \"\")","v":""},{"$f":"IF('TT-1 Imports & Non-tax Memo '!F99 <> \"\", 'TT-1 Imports & Non-tax Memo '!F99, 0)","v":0},{"$f":"IF('TT-1 Imports & Non-tax Memo '!G99 <> \"\", 'TT-1 Imports & Non-tax Memo '!G99, 0)","v":0},{"$f":"IF('TT-1 Imports & Non-tax Memo '!H99 <> \"\", 'TT-1 Imports & Non-tax Memo '!H99, 0)","v":0},{"$f":"IF('TT-1 Imports & Non-tax Memo '!I99 <> \"\", 'TT-1 Imports & Non-tax Memo '!I99, 0)","v":0},{"$f":"IF('TT-1 Imports & Non-tax Memo '!J99 <> \"\", 'TT-1 Imports & Non-tax Memo '!J99, 0)","v":0},{"$f":"IF('TT-1 Imports & Non-tax Memo '!K99 <> \"\", 'TT-1 Imports & Non-tax Memo '!K99, 0)","v":0},{"$f":"IF('TT-1 Imports & Non-tax Memo '!L99 <> \"\", 'TT-1 Imports & Non-tax Memo '!L99, 0)","v":0},{"$f":"IF('TT-1 Imports & Non-tax Memo '!M99 <> \"\", 'TT-1 Imports & Non-tax Memo '!M99, 0)","v":0},{"$f":"IF('TT-1 Imports & Non-tax Memo '!N99 <> \"\", 'TT-1 Imports & Non-tax Memo '!N99, 0)","v":0},{"$f":"IF('TT-1 Imports & Non-tax Memo '!O99 <> \"\", 'TT-1 Imports & Non-tax Memo '!O99, 0)","v":0},{"$f":"IF('TT-1 Imports & Non-tax Memo '!P99 <> \"\", 'TT-1 Imports & Non-tax Memo '!P99, 0)","v":0},{"$f":"IF('TT-1 Imports & Non-tax Memo '!Q99 <> \"\", 'TT-1 Imports & Non-tax Memo '!Q99, 0)","v":0},{"$f":"IF('TT-1 Imports & Non-tax Memo '!R99 <> \"\", 'TT-1 Imports & Non-tax Memo '!R99, 0)","v":0},{"$f":"IF('TT-1 Imports & Non-tax Memo '!S99 <> \"\", 'TT-1 Imports & Non-tax Memo '!S99, 0)","v":0},{"$f":"IF('TT-1 Imports & Non-tax Memo '!T99 <> 0, 'TT-1 Imports & Non-tax Memo '!T99, \"\")","v":""}]
[{"$f":"IF('TT-1 Imports & Non-tax Memo '!A100 <> 0, 'TT-1 Imports & Non-tax Memo '!A100, \"\")","v":""},{"$f":"IF('TT-1 Imports & Non-tax Memo '!D100 <> 0, 'TT-1 Imports & Non-tax Memo '!D100, \"\")","v":""},{"$f":"IF('TT-1 Imports & Non-tax Memo '!E100 <> 0, 'TT-1 Imports & Non-tax Memo '!E100, \"\")","v":""},{"$f":"IF('TT-1 Imports & Non-tax Memo '!F100 <> \"\", 'TT-1 Imports & Non-tax Memo '!F100, 0)","v":0},{"$f":"IF('TT-1 Imports & Non-tax Memo '!G100 <> \"\", 'TT-1 Imports & Non-tax Memo '!G100, 0)","v":0},{"$f":"IF('TT-1 Imports & Non-tax Memo '!H100 <> \"\", 'TT-1 Imports & Non-tax Memo '!H100, 0)","v":0},{"$f":"IF('TT-1 Imports & Non-tax Memo '!I100 <> \"\", 'TT-1 Imports & Non-tax Memo '!I100, 0)","v":0},{"$f":"IF('TT-1 Imports & Non-tax Memo '!J100 <> \"\", 'TT-1 Imports & Non-tax Memo '!J100, 0)","v":0},{"$f":"IF('TT-1 Imports & Non-tax Memo '!K100 <> \"\", 'TT-1 Imports & Non-tax Memo '!K100, 0)","v":0},{"$f":"IF('TT-1 Imports & Non-tax Memo '!L100 <> \"\", 'TT-1 Imports & Non-tax Memo '!L100, 0)","v":0},{"$f":"IF('TT-1 Imports & Non-tax Memo '!M100 <> \"\", 'TT-1 Imports & Non-tax Memo '!M100, 0)","v":0},{"$f":"IF('TT-1 Imports & Non-tax Memo '!N100 <> \"\", 'TT-1 Imports & Non-tax Memo '!N100, 0)","v":0},{"$f":"IF('TT-1 Imports & Non-tax Memo '!O100 <> \"\", 'TT-1 Imports & Non-tax Memo '!O100, 0)","v":0},{"$f":"IF('TT-1 Imports & Non-tax Memo '!P100 <> \"\", 'TT-1 Imports & Non-tax Memo '!P100, 0)","v":0},{"$f":"IF('TT-1 Imports & Non-tax Memo '!Q100 <> \"\", 'TT-1 Imports & Non-tax Memo '!Q100, 0)","v":0},{"$f":"IF('TT-1 Imports & Non-tax Memo '!R100 <> \"\", 'TT-1 Imports & Non-tax Memo '!R100, 0)","v":0},{"$f":"IF('TT-1 Imports & Non-tax Memo '!S100 <> \"\", 'TT-1 Imports & Non-tax Memo '!S100, 0)","v":0},{"$f":"IF('TT-1 Imports & Non-tax Memo '!T100 <> 0, 'TT-1 Imports & Non-tax Memo '!T100, \"\")","v":""}]
[{"$f":"IF('TT-1 Imports & Non-tax Memo '!A101 <> 0, 'TT-1 Imports & Non-tax Memo '!A101, \"\")","v":""},{"$f":"IF('TT-1 Imports & Non-tax Memo '!D101 <> 0, 'TT-1 Imports & Non-tax Memo '!D101, \"\")","v":""},{"$f":"IF('TT-1 Imports & Non-tax Memo '!E101 <> 0, 'TT-1 Imports & Non-tax Memo '!E101, \"\")","v":""},{"$f":"IF('TT-1 Imports & Non-tax Memo '!F101 <> \"\", 'TT-1 Imports & Non-tax Memo '!F101, 0)","v":0},{"$f":"IF('TT-1 Imports & Non-tax Memo '!G101 <> \"\", 'TT-1 Imports & Non-tax Memo '!G101, 0)","v":0},{"$f":"IF('TT-1 Imports & Non-tax Memo '!H101 <> \"\", 'TT-1 Imports & Non-tax Memo '!H101, 0)","v":0},{"$f":"IF('TT-1 Imports & Non-tax Memo '!I101 <> \"\", 'TT-1 Imports & Non-tax Memo '!I101, 0)","v":0},{"$f":"IF('TT-1 Imports & Non-tax Memo '!J101 <> \"\", 'TT-1 Imports & Non-tax Memo '!J101, 0)","v":0},{"$f":"IF('TT-1 Imports & Non-tax Memo '!K101 <> \"\", 'TT-1 Imports & Non-tax Memo '!K101, 0)","v":0},{"$f":"IF('TT-1 Imports & Non-tax Memo '!L101 <> \"\", 'TT-1 Imports & Non-tax Memo '!L101, 0)","v":0},{"$f":"IF('TT-1 Imports & Non-tax Memo '!M101 <> \"\", 'TT-1 Imports & Non-tax Memo '!M101, 0)","v":0},{"$f":"IF('TT-1 Imports & Non-tax Memo '!N101 <> \"\", 'TT-1 Imports & Non-tax Memo '!N101, 0)","v":0},{"$f":"IF('TT-1 Imports & Non-tax Memo '!O101 <> \"\", 'TT-1 Imports & Non-tax Memo '!O101, 0)","v":0},{"$f":"IF('TT-1 Imports & Non-tax Memo '!P101 <> \"\", 'TT-1 Imports & Non-tax Memo '!P101, 0)","v":0},{"$f":"IF('TT-1 Imports & Non-tax Memo '!Q101 <> \"\", 'TT-1 Imports & Non-tax Memo '!Q101, 0)","v":0},{"$f":"IF('TT-1 Imports & Non-tax Memo '!R101 <> \"\", 'TT-1 Imports & Non-tax Memo '!R101, 0)","v":0},{"$f":"IF('TT-1 Imports & Non-tax Memo '!S101 <> \"\", 'TT-1 Imports & Non-tax Memo '!S101, 0)","v":0},{"$f":"IF('TT-1 Imports & Non-tax Memo '!T101 <> 0, 'TT-1 Imports & Non-tax Memo '!T101, \"\")","v":""}]
[{"$f":"IF('TT-1 Imports & Non-tax Memo '!A102 <> 0, 'TT-1 Imports & Non-tax Memo '!A102, \"\")","v":""},{"$f":"IF('TT-1 Imports & Non-tax Memo '!D102 <> 0, 'TT-1 Imports & Non-tax Memo '!D102, \"\")","v":""},{"$f":"IF('TT-1 Imports & Non-tax Memo '!E102 <> 0, 'TT-1 Imports & Non-tax Memo '!E102, \"\")","v":""},{"$f":"IF('TT-1 Imports & Non-tax Memo '!F102 <> \"\", 'TT-1 Imports & Non-tax Memo '!F102, 0)","v":0},{"$f":"IF('TT-1 Imports & Non-tax Memo '!G102 <> \"\", 'TT-1 Imports & Non-tax Memo '!G102, 0)","v":0},{"$f":"IF('TT-1 Imports & Non-tax Memo '!H102 <> \"\", 'TT-1 Imports & Non-tax Memo '!H102, 0)","v":0},{"$f":"IF('TT-1 Imports & Non-tax Memo '!I102 <> \"\", 'TT-1 Imports & Non-tax Memo '!I102, 0)","v":0},{"$f":"IF('TT-1 Imports & Non-tax Memo '!J102 <> \"\", 'TT-1 Imports & Non-tax Memo '!J102, 0)","v":0},{"$f":"IF('TT-1 Imports & Non-tax Memo '!K102 <> \"\", 'TT-1 Imports & Non-tax Memo '!K102, 0)","v":0},{"$f":"IF('TT-1 Imports & Non-tax Memo '!L102 <> \"\", 'TT-1 Imports & Non-tax Memo '!L102, 0)","v":0},{"$f":"IF('TT-1 Imports & Non-tax Memo '!M102 <> \"\", 'TT-1 Imports & Non-tax Memo '!M102, 0)","v":0},{"$f":"IF('TT-1 Imports & Non-tax Memo '!N102 <> \"\", 'TT-1 Imports & Non-tax Memo '!N102, 0)","v":0},{"$f":"IF('TT-1 Imports & Non-tax Memo '!O102 <> \"\", 'TT-1 Imports & Non-tax Memo '!O102, 0)","v":0},{"$f":"IF('TT-1 Imports & Non-tax Memo '!P102 <> \"\", 'TT-1 Imports & Non-tax Memo '!P102, 0)","v":0},{"$f":"IF('TT-1 Imports & Non-tax Memo '!Q102 <> \"\", 'TT-1 Imports & Non-tax Memo '!Q102, 0)","v":0},{"$f":"IF('TT-1 Imports & Non-tax Memo '!R102 <> \"\", 'TT-1 Imports & Non-tax Memo '!R102, 0)","v":0},{"$f":"IF('TT-1 Imports & Non-tax Memo '!S102 <> \"\", 'TT-1 Imports & Non-tax Memo '!S102, 0)","v":0},{"$f":"IF('TT-1 Imports & Non-tax Memo '!T102 <> 0, 'TT-1 Imports & Non-tax Memo '!T102, \"\")","v":""}]
[{"$f":"IF('TT-1 Imports & Non-tax Memo '!A103 <> 0, 'TT-1 Imports & Non-tax Memo '!A103, \"\")","v":""},{"$f":"IF('TT-1 Imports & Non-tax Memo '!D103 <> 0, 'TT-1 Imports & Non-tax Memo '!D103, \"\")","v":""},{"$f":"IF('TT-1 Imports & Non-tax Memo '!E103 <> 0, 'TT-1 Imports & Non-tax Memo '!E103, \"\")","v":""},{"$f":"IF('TT-1 Imports & Non-tax Memo '!F103 <> \"\", 'TT-1 Imports & Non-tax Memo '!F103, 0)","v":0},{"$f":"IF('TT-1 Imports & Non-tax Memo '!G103 <> \"\", 'TT-1 Imports & Non-tax Memo '!G103, 0)","v":0},{"$f":"IF('TT-1 Imports & Non-tax Memo '!H103 <> \"\", 'TT-1 Imports & Non-tax Memo '!H103, 0)","v":0},{"$f":"IF('TT-1 Imports & Non-tax Memo '!I103 <> \"\", 'TT-1 Imports & Non-tax Memo '!I103, 0)","v":0},{"$f":"IF('TT-1 Imports & Non-tax Memo '!J103 <> \"\", 'TT-1 Imports & Non-tax Memo '!J103, 0)","v":0},{"$f":"IF('TT-1 Imports & Non-tax Memo '!K103 <> \"\", 'TT-1 Imports & Non-tax Memo '!K103, 0)","v":0},{"$f":"IF('TT-1 Imports & Non-tax Memo '!L103 <> \"\", 'TT-1 Imports & Non-tax Memo '!L103, 0)","v":0},{"$f":"IF('TT-1 Imports & Non-tax Memo '!M103 <> \"\", 'TT-1 Imports & Non-tax Memo '!M103, 0)","v":0},{"$f":"IF('TT-1 Imports & Non-tax Memo '!N103 <> \"\", 'TT-1 Imports & Non-tax Memo '!N103, 0)","v":0},{"$f":"IF('TT-1 Imports & Non-tax Memo '!O103 <> \"\", 'TT-1 Imports & Non-tax Memo '!O103, 0)","v":0},{"$f":"IF('TT-1 Imports & Non-tax Memo '!P103 <> \"\", 'TT-1 Imports & Non-tax Memo '!P103, 0)","v":0},{"$f":"IF('TT-1 Imports & Non-tax Memo '!Q103 <> \"\", 'TT-1 Imports & Non-tax Memo '!Q103, 0)","v":0},{"$f":"IF('TT-1 Imports & Non-tax Memo '!R103 <> \"\", 'TT-1 Imports & Non-tax Memo '!R103, 0)","v":0},{"$f":"IF('TT-1 Imports & Non-tax Memo '!S103 <> \"\", 'TT-1 Imports & Non-tax Memo '!S103, 0)","v":0},{"$f":"IF('TT-1 Imports & Non-tax Memo '!T103 <> 0, 'TT-1 Imports & Non-tax Memo '!T103, \"\")","v":""}]
[{"$f":"IF('TT-1 Imports & Non-tax Memo '!A104 <> 0, 'TT-1 Imports & Non-tax Memo '!A104, \"\")","v":""},{"$f":"IF('TT-1 Imports & Non-tax Memo '!D104 <> 0, 'TT-1 Imports & Non-tax Memo '!D104, \"\")","v":""},{"$f":"IF('TT-1 Imports & Non-tax Memo '!E104 <> 0, 'TT-1 Imports & Non-tax Memo '!E104, \"\")","v":""},{"$f":"IF('TT-1 Imports & Non-tax Memo '!F104 <> \"\", 'TT-1 Imports & Non-tax Memo '!F104, 0)","v":0},{"$f":"IF('TT-1 Imports & Non-tax Memo '!G104 <> \"\", 'TT-1 Imports & Non-tax Memo '!G104, 0)","v":0},{"$f":"IF('TT-1 Imports & Non-tax Memo '!H104 <> \"\", 'TT-1 Imports & Non-tax Memo '!H104, 0)","v":0},{"$f":"IF('TT-1 Imports & Non-tax Memo '!I104 <> \"\", 'TT-1 Imports & Non-tax Memo '!I104, 0)","v":0},{"$f":"IF('TT-1 Imports & Non-tax Memo '!J104 <> \"\", 'TT-1 Imports & Non-tax Memo '!J104, 0)","v":0},{"$f":"IF('TT-1 Imports & Non-tax Memo '!K104 <> \"\", 'TT-1 Imports & Non-tax Memo '!K104, 0)","v":0},{"$f":"IF('TT-1 Imports & Non-tax Memo '!L104 <> \"\", 'TT-1 Imports & Non-tax Memo '!L104, 0)","v":0},{"$f":"IF('TT-1 Imports & Non-tax Memo '!M104 <> \"\", 'TT-1 Imports & Non-tax Memo '!M104, 0)","v":0},{"$f":"IF('TT-1 Imports & Non-tax Memo '!N104 <> \"\", 'TT-1 Imports & Non-tax Memo '!N104, 0)","v":0},{"$f":"IF('TT-1 Imports & Non-tax Memo '!O104 <> \"\", 'TT-1 Imports & Non-tax Memo '!O104, 0)","v":0},{"$f":"IF('TT-1 Imports & Non-tax Memo '!P104 <> \"\", 'TT-1 Imports & Non-tax Memo '!P104, 0)","v":0},{"$f":"IF('TT-1 Imports & Non-tax Memo '!Q104 <> \"\", 'TT-1 Imports & Non-tax Memo '!Q104, 0)","v":0},{"$f":"IF('TT-1 Imports & Non-tax Memo '!R104 <> \"\", 'TT-1 Imports & Non-tax Memo '!R104, 0)","v":0},{"$f":"IF('TT-1 Imports & Non-tax Memo '!S104 <> \"\", 'TT-1 Imports & Non-tax Memo '!S104, 0)","v":0},{"$f":"IF('TT-1 Imports & Non-tax Memo '!T104 <> 0, 'TT-1 Imports & Non-tax Memo '!T104, \"\")","v":""}]
[{"$f":"IF('TT-1 Imports & Non-tax Memo '!A105 <> 0, 'TT-1 Imports & Non-tax Memo '!A105, \"\")","v":""},{"$f":"IF('TT-1 Imports & Non-tax Memo '!D105 <> 0, 'TT-1 Imports & Non-tax Memo '!D105, \"\")","v":""},{"$f":"IF('TT-1 Imports & Non-tax Memo '!E105 <> 0, 'TT-1 Imports & Non-tax Memo '!E105, \"\")","v":""},{"$f":"IF('TT-1 Imports & Non-tax Memo '!F105 <> \"\", 'TT-1 Imports & Non-tax Memo '!F105, 0)","v":0},{"$f":"IF('TT-1 Imports & Non-tax Memo '!G105 <> \"\", 'TT-1 Imports & Non-tax Memo '!G105, 0)","v":0},{"$f":"IF('TT-1 Imports & Non-tax Memo '!H105 <> \"\", 'TT-1 Imports & Non-tax Memo '!H105, 0)","v":0},{"$f":"IF('TT-1 Imports & Non-tax Memo '!I105 <> \"\", 'TT-1 Imports & Non-tax Memo '!I105, 0)","v":0},{"$f":"IF('TT-1 Imports & Non-tax Memo '!J105 <> \"\", 'TT-1 Imports & Non-tax Memo '!J105, 0)","v":0},{"$f":"IF('TT-1 Imports & Non-tax Memo '!K105 <> \"\", 'TT-1 Imports & Non-tax Memo '!K105, 0)","v":0},{"$f":"IF('TT-1 Imports & Non-tax Memo '!L105 <> \"\", 'TT-1 Imports & Non-tax Memo '!L105, 0)","v":0},{"$f":"IF('TT-1 Imports & Non-tax Memo '!M105 <> \"\", 'TT-1 Imports & Non-tax Memo '!M105, 0)","v":0},{"$f":"IF('TT-1 Imports & Non-tax Memo '!N105 <> \"\", 'TT-1 Imports & Non-tax Memo '!N105, 0)","v":0},{"$f":"IF('TT-1 Imports & Non-tax Memo '!O105 <> \"\", 'TT-1 Imports & Non-tax Memo '!O105, 0)","v":0},{"$f":"IF('TT-1 Imports & Non-tax Memo '!P105 <> \"\", 'TT-1 Imports & Non-tax Memo '!P105, 0)","v":0},{"$f":"IF('TT-1 Imports & Non-tax Memo '!Q105 <> \"\", 'TT-1 Imports & Non-tax Memo '!Q105, 0)","v":0},{"$f":"IF('TT-1 Imports & Non-tax Memo '!R105 <> \"\", 'TT-1 Imports & Non-tax Memo '!R105, 0)","v":0},{"$f":"IF('TT-1 Imports & Non-tax Memo '!S105 <> \"\", 'TT-1 Imports & Non-tax Memo '!S105, 0)","v":0},{"$f":"IF('TT-1 Imports & Non-tax Memo '!T105 <> 0, 'TT-1 Imports & Non-tax Memo '!T105, \"\")","v":""}]
[{"$f":"IF('TT-1 Imports & Non-tax Memo '!A106 <> 0, 'TT-1 Imports & Non-tax Memo '!A106, \"\")","v":""},{"$f":"IF('TT-1 Imports & Non-tax Memo '!D106 <> 0, 'TT-1 Imports & Non-tax Memo '!D106, \"\")","v":""},{"$f":"IF('TT-1 Imports & Non-tax Memo '!E106 <> 0, 'TT-1 Imports & Non-tax Memo '!E106, \"\")","v":""},{"$f":"IF('TT-1 Imports & Non-tax Memo '!F106 <> \"\", 'TT-1 Imports & Non-tax Memo '!F106, 0)","v":0},{"$f":"IF('TT-1 Imports & Non-tax Memo '!G106 <> \"\", 'TT-1 Imports & Non-tax Memo '!G106, 0)","v":0},{"$f":"IF('TT-1 Imports & Non-tax Memo '!H106 <> \"\", 'TT-1 Imports & Non-tax Memo '!H106, 0)","v":0},{"$f":"IF('TT-1 Imports & Non-tax Memo '!I106 <> \"\", 'TT-1 Imports & Non-tax Memo '!I106, 0)","v":0},{"$f":"IF('TT-1 Imports & Non-tax Memo '!J106 <> \"\", 'TT-1 Imports & Non-tax Memo '!J106, 0)","v":0},{"$f":"IF('TT-1 Imports & Non-tax Memo '!K106 <> \"\", 'TT-1 Imports & Non-tax Memo '!K106, 0)","v":0},{"$f":"IF('TT-1 Imports & Non-tax Memo '!L106 <> \"\", 'TT-1 Imports & Non-tax Memo '!L106, 0)","v":0},{"$f":"IF('TT-1 Imports & Non-tax Memo '!M106 <> \"\", 'TT-1 Imports & Non-tax Memo '!M106, 0)","v":0},{"$f":"IF('TT-1 Imports & Non-tax Memo '!N106 <> \"\", 'TT-1 Imports & Non-tax Memo '!N106, 0)","v":0},{"$f":"IF('TT-1 Imports & Non-tax Memo '!O106 <> \"\", 'TT-1 Imports & Non-tax Memo '!O106, 0)","v":0},{"$f":"IF('TT-1 Imports & Non-tax Memo '!P106 <> \"\", 'TT-1 Imports & Non-tax Memo '!P106, 0)","v":0},{"$f":"IF('TT-1 Imports & Non-tax Memo '!Q106 <> \"\", 'TT-1 Imports & Non-tax Memo '!Q106, 0)","v":0},{"$f":"IF('TT-1 Imports & Non-tax Memo '!R106 <> \"\", 'TT-1 Imports & Non-tax Memo '!R106, 0)","v":0},{"$f":"IF('TT-1 Imports & Non-tax Memo '!S106 <> \"\", 'TT-1 Imports & Non-tax Memo '!S106, 0)","v":0},{"$f":"IF('TT-1 Imports & Non-tax Memo '!T106 <> 0, 'TT-1 Imports & Non-tax Memo '!T106, \"\")","v":""}]
[{"$f":"IF('TT-1 Imports & Non-tax Memo '!A107 <> 0, 'TT-1 Imports & Non-tax Memo '!A107, \"\")","v":""},{"$f":"IF('TT-1 Imports & Non-tax Memo '!D107 <> 0, 'TT-1 Imports & Non-tax Memo '!D107, \"\")","v":""},{"$f":"IF('TT-1 Imports & Non-tax Memo '!E107 <> 0, 'TT-1 Imports & Non-tax Memo '!E107, \"\")","v":""},{"$f":"IF('TT-1 Imports & Non-tax Memo '!F107 <> \"\", 'TT-1 Imports & Non-tax Memo '!F107, 0)","v":0},{"$f":"IF('TT-1 Imports & Non-tax Memo '!G107 <> \"\", 'TT-1 Imports & Non-tax Memo '!G107, 0)","v":0},{"$f":"IF('TT-1 Imports & Non-tax Memo '!H107 <> \"\", 'TT-1 Imports & Non-tax Memo '!H107, 0)","v":0},{"$f":"IF('TT-1 Imports & Non-tax Memo '!I107 <> \"\", 'TT-1 Imports & Non-tax Memo '!I107, 0)","v":0},{"$f":"IF('TT-1 Imports & Non-tax Memo '!J107 <> \"\", 'TT-1 Imports & Non-tax Memo '!J107, 0)","v":0},{"$f":"IF('TT-1 Imports & Non-tax Memo '!K107 <> \"\", 'TT-1 Imports & Non-tax Memo '!K107, 0)","v":0},{"$f":"IF('TT-1 Imports & Non-tax Memo '!L107 <> \"\", 'TT-1 Imports & Non-tax Memo '!L107, 0)","v":0},{"$f":"IF('TT-1 Imports & Non-tax Memo '!M107 <> \"\", 'TT-1 Imports & Non-tax Memo '!M107, 0)","v":0},{"$f":"IF('TT-1 Imports & Non-tax Memo '!N107 <> \"\", 'TT-1 Imports & Non-tax Memo '!N107, 0)","v":0},{"$f":"IF('TT-1 Imports & Non-tax Memo '!O107 <> \"\", 'TT-1 Imports & Non-tax Memo '!O107, 0)","v":0},{"$f":"IF('TT-1 Imports & Non-tax Memo '!P107 <> \"\", 'TT-1 Imports & Non-tax Memo '!P107, 0)","v":0},{"$f":"IF('TT-1 Imports & Non-tax Memo '!Q107 <> \"\", 'TT-1 Imports & Non-tax Memo '!Q107, 0)","v":0},{"$f":"IF('TT-1 Imports & Non-tax Memo '!R107 <> \"\", 'TT-1 Imports & Non-tax Memo '!R107, 0)","v":0},{"$f":"IF('TT-1 Imports & Non-tax Memo '!S107 <> \"\", 'TT-1 Imports & Non-tax Memo '!S107, 0)","v":0},{"$f":"IF('TT-1 Imports & Non-tax Memo '!T107 <> 0, 'TT-1 Imports & Non-tax Memo '!T107, \"\")","v":""}]
[{"$f":"IF('TT-1 Imports & Non-tax Memo '!A108 <> 0, 'TT-1 Imports & Non-tax Memo '!A108, \"\")","v":""},{"$f":"IF('TT-1 Imports & Non-tax Memo '!D108 <> 0, 'TT-1 Imports & Non-tax Memo '!D108, \"\")","v":""},{"$f":"IF('TT-1 Imports & Non-tax Memo '!E108 <> 0, 'TT-1 Imports & Non-tax Memo '!E108, \"\")","v":""},{"$f":"IF('TT-1 Imports & Non-tax Memo '!F108 <> \"\", 'TT-1 Imports & Non-tax Memo '!F108, 0)","v":0},{"$f":"IF('TT-1 Imports & Non-tax Memo '!G108 <> \"\", 'TT-1 Imports & Non-tax Memo '!G108, 0)","v":0},{"$f":"IF('TT-1 Imports & Non-tax Memo '!H108 <> \"\", 'TT-1 Imports & Non-tax Memo '!H108, 0)","v":0},{"$f":"IF('TT-1 Imports & Non-tax Memo '!I108 <> \"\", 'TT-1 Imports & Non-tax Memo '!I108, 0)","v":0},{"$f":"IF('TT-1 Imports & Non-tax Memo '!J108 <> \"\", 'TT-1 Imports & Non-tax Memo '!J108, 0)","v":0},{"$f":"IF('TT-1 Imports & Non-tax Memo '!K108 <> \"\", 'TT-1 Imports & Non-tax Memo '!K108, 0)","v":0},{"$f":"IF('TT-1 Imports & Non-tax Memo '!L108 <> \"\", 'TT-1 Imports & Non-tax Memo '!L108, 0)","v":0},{"$f":"IF('TT-1 Imports & Non-tax Memo '!M108 <> \"\", 'TT-1 Imports & Non-tax Memo '!M108, 0)","v":0},{"$f":"IF('TT-1 Imports & Non-tax Memo '!N108 <> \"\", 'TT-1 Imports & Non-tax Memo '!N108, 0)","v":0},{"$f":"IF('TT-1 Imports & Non-tax Memo '!O108 <> \"\", 'TT-1 Imports & Non-tax Memo '!O108, 0)","v":0},{"$f":"IF('TT-1 Imports & Non-tax Memo '!P108 <> \"\", 'TT-1 Imports & Non-tax Memo '!P108, 0)","v":0},{"$f":"IF('TT-1 Imports & Non-tax Memo '!Q108 <> \"\", 'TT-1 Imports & Non-tax Memo '!Q108, 0)","v":0},{"$f":"IF('TT-1 Imports & Non-tax Memo '!R108 <> \"\", 'TT-1 Imports & Non-tax Memo '!R108, 0)","v":0},{"$f":"IF('TT-1 Imports & Non-tax Memo '!S108 <> \"\", 'TT-1 Imports & Non-tax Memo '!S108, 0)","v":0},{"$f":"IF('TT-1 Imports & Non-tax Memo '!T108 <> 0, 'TT-1 Imports & Non-tax Memo '!T108, \"\")","v":""}]
[{"$f":"IF('TT-1 Imports & Non-tax Memo '!A109 <> 0, 'TT-1 Imports & Non-tax Memo '!A109, \"\")","v":""},{"$f":"IF('TT-1 Imports & Non-tax Memo '!D109 <> 0, 'TT-1 Imports & Non-tax Memo '!D109, \"\")","v":""},{"$f":"IF('TT-1 Imports & Non-tax Memo '!E109 <> 0, 'TT-1 Imports & Non-tax Memo '!E109, \"\")","v":""},{"$f":"IF('TT-1 Imports & Non-tax Memo '!F109 <> \"\", 'TT-1 Imports & Non-tax Memo '!F109, 0)","v":0},{"$f":"IF('TT-1 Imports & Non-tax Memo '!G109 <> \"\", 'TT-1 Imports & Non-tax Memo '!G109, 0)","v":0},{"$f":"IF('TT-1 Imports & Non-tax Memo '!H109 <> \"\", 'TT-1 Imports & Non-tax Memo '!H109, 0)","v":0},{"$f":"IF('TT-1 Imports & Non-tax Memo '!I109 <> \"\", 'TT-1 Imports & Non-tax Memo '!I109, 0)","v":0},{"$f":"IF('TT-1 Imports & Non-tax Memo '!J109 <> \"\", 'TT-1 Imports & Non-tax Memo '!J109, 0)","v":0},{"$f":"IF('TT-1 Imports & Non-tax Memo '!K109 <> \"\", 'TT-1 Imports & Non-tax Memo '!K109, 0)","v":0},{"$f":"IF('TT-1 Imports & Non-tax Memo '!L109 <> \"\", 'TT-1 Imports & Non-tax Memo '!L109, 0)","v":0},{"$f":"IF('TT-1 Imports & Non-tax Memo '!M109 <> \"\", 'TT-1 Imports & Non-tax Memo '!M109, 0)","v":0},{"$f":"IF('TT-1 Imports & Non-tax Memo '!N109 <> \"\", 'TT-1 Imports & Non-tax Memo '!N109, 0)","v":0},{"$f":"IF('TT-1 Imports & Non-tax Memo '!O109 <> \"\", 'TT-1 Imports & Non-tax Memo '!O109, 0)","v":0},{"$f":"IF('TT-1 Imports & Non-tax Memo '!P109 <> \"\", 'TT-1 Imports & Non-tax Memo '!P109, 0)","v":0},{"$f":"IF('TT-1 Imports & Non-tax Memo '!Q109 <> \"\", 'TT-1 Imports & Non-tax Memo '!Q109, 0)","v":0},{"$f":"IF('TT-1 Imports & Non-tax Memo '!R109 <> \"\", 'TT-1 Imports & Non-tax Memo '!R109, 0)","v":0},{"$f":"IF('TT-1 Imports & Non-tax Memo '!S109 <> \"\", 'TT-1 Imports & Non-tax Memo '!S109, 0)","v":0},{"$f":"IF('TT-1 Imports & Non-tax Memo '!T109 <> 0, 'TT-1 Imports & Non-tax Memo '!T109, \"\")","v":""}]
[{"$f":"IF('TT-1 Imports & Non-tax Memo '!A110 <> 0, 'TT-1 Imports & Non-tax Memo '!A110, \"\")","v":""},{"$f":"IF('TT-1 Imports & Non-tax Memo '!D110 <> 0, 'TT-1 Imports & Non-tax Memo '!D110, \"\")","v":""},{"$f":"IF('TT-1 Imports & Non-tax Memo '!E110 <> 0, 'TT-1 Imports & Non-tax Memo '!E110, \"\")","v":""},{"$f":"IF('TT-1 Imports & Non-tax Memo '!F110 <> \"\", 'TT-1 Imports & Non-tax Memo '!F110, 0)","v":0},{"$f":"IF('TT-1 Imports & Non-tax Memo '!G110 <> \"\", 'TT-1 Imports & Non-tax Memo '!G110, 0)","v":0},{"$f":"IF('TT-1 Imports & Non-tax Memo '!H110 <> \"\", 'TT-1 Imports & Non-tax Memo '!H110, 0)","v":0},{"$f":"IF('TT-1 Imports & Non-tax Memo '!I110 <> \"\", 'TT-1 Imports & Non-tax Memo '!I110, 0)","v":0},{"$f":"IF('TT-1 Imports & Non-tax Memo '!J110 <> \"\", 'TT-1 Imports & Non-tax Memo '!J110, 0)","v":0},{"$f":"IF('TT-1 Imports & Non-tax Memo '!K110 <> \"\", 'TT-1 Imports & Non-tax Memo '!K110, 0)","v":0},{"$f":"IF('TT-1 Imports & Non-tax Memo '!L110 <> \"\", 'TT-1 Imports & Non-tax Memo '!L110, 0)","v":0},{"$f":"IF('TT-1 Imports & Non-tax Memo '!M110 <> \"\", 'TT-1 Imports & Non-tax Memo '!M110, 0)","v":0},{"$f":"IF('TT-1 Imports & Non-tax Memo '!N110 <> \"\", 'TT-1 Imports & Non-tax Memo '!N110, 0)","v":0},{"$f":"IF('TT-1 Imports & Non-tax Memo '!O110 <> \"\", 'TT-1 Imports & Non-tax Memo '!O110, 0)","v":0},{"$f":"IF('TT-1 Imports & Non-tax Memo '!P110 <> \"\", 'TT-1 Imports & Non-tax Memo '!P110, 0)","v":0},{"$f":"IF('TT-1 Imports & Non-tax Memo '!Q110 <> \"\", 'TT-1 Imports & Non-tax Memo '!Q110, 0)","v":0},{"$f":"IF('TT-1 Imports & Non-tax Memo '!R110 <> \"\", 'TT-1 Imports & Non-tax Memo '!R110, 0)","v":0},{"$f":"IF('TT-1 Imports & Non-tax Memo '!S110 <> \"\", 'TT-1 Imports & Non-tax Memo '!S110, 0)","v":0},{"$f":"IF('TT-1 Imports & Non-tax Memo '!T110 <> 0, 'TT-1 Imports & Non-tax Memo '!T110, \"\")","v":""}]
[{"$f":"IF('TT-1 Imports & Non-tax Memo '!A111 <> 0, 'TT-1 Imports & Non-tax Memo '!A111, \"\")","v":""},{"$f":"IF('TT-1 Imports & Non-tax Memo '!D111 <> 0, 'TT-1 Imports & Non-tax Memo '!D111, \"\")","v":""},{"$f":"IF('TT-1 Imports & Non-tax Memo '!E111 <> 0, 'TT-1 Imports & Non-tax Memo '!E111, \"\")","v":""},{"$f":"IF('TT-1 Imports & Non-tax Memo '!F111 <> \"\", 'TT-1 Imports & Non-tax Memo '!F111, 0)","v":0},{"$f":"IF('TT-1 Imports & Non-tax Memo '!G111 <> \"\", 'TT-1 Imports & Non-tax Memo '!G111, 0)","v":0},{"$f":"IF('TT-1 Imports & Non-tax Memo '!H111 <> \"\", 'TT-1 Imports & Non-tax Memo '!H111, 0)","v":0},{"$f":"IF('TT-1 Imports & Non-tax Memo '!I111 <> \"\", 'TT-1 Imports & Non-tax Memo '!I111, 0)","v":0},{"$f":"IF('TT-1 Imports & Non-tax Memo '!J111 <> \"\", 'TT-1 Imports & Non-tax Memo '!J111, 0)","v":0},{"$f":"IF('TT-1 Imports & Non-tax Memo '!K111 <> \"\", 'TT-1 Imports & Non-tax Memo '!K111, 0)","v":0},{"$f":"IF('TT-1 Imports & Non-tax Memo '!L111 <> \"\", 'TT-1 Imports & Non-tax Memo '!L111, 0)","v":0},{"$f":"IF('TT-1 Imports & Non-tax Memo '!M111 <> \"\", 'TT-1 Imports & Non-tax Memo '!M111, 0)","v":0},{"$f":"IF('TT-1 Imports & Non-tax Memo '!N111 <> \"\", 'TT-1 Imports & Non-tax Memo '!N111, 0)","v":0},{"$f":"IF('TT-1 Imports & Non-tax Memo '!O111 <> \"\", 'TT-1 Imports & Non-tax Memo '!O111, 0)","v":0},{"$f":"IF('TT-1 Imports & Non-tax Memo '!P111 <> \"\", 'TT-1 Imports & Non-tax Memo '!P111, 0)","v":0},{"$f":"IF('TT-1 Imports & Non-tax Memo '!Q111 <> \"\", 'TT-1 Imports & Non-tax Memo '!Q111, 0)","v":0},{"$f":"IF('TT-1 Imports & Non-tax Memo '!R111 <> \"\", 'TT-1 Imports & Non-tax Memo '!R111, 0)","v":0},{"$f":"IF('TT-1 Imports & Non-tax Memo '!S111 <> \"\", 'TT-1 Imports & Non-tax Memo '!S111, 0)","v":0},{"$f":"IF('TT-1 Imports & Non-tax Memo '!T111 <> 0, 'TT-1 Imports & Non-tax Memo '!T111, \"\")","v":""}]
[{"$f":"IF('TT-1 Imports & Non-tax Memo '!A112 <> 0, 'TT-1 Imports & Non-tax Memo '!A112, \"\")","v":""},{"$f":"IF('TT-1 Imports & Non-tax Memo '!D112 <> 0, 'TT-1 Imports & Non-tax Memo '!D112, \"\")","v":""},{"$f":"IF('TT-1 Imports & Non-tax Memo '!E112 <> 0, 'TT-1 Imports & Non-tax Memo '!E112, \"\")","v":""},{"$f":"IF('TT-1 Imports & Non-tax Memo '!F112 <> \"\", 'TT-1 Imports & Non-tax Memo '!F112, 0)","v":0},{"$f":"IF('TT-1 Imports & Non-tax Memo '!G112 <> \"\", 'TT-1 Imports & Non-tax Memo '!G112, 0)","v":0},{"$f":"IF('TT-1 Imports & Non-tax Memo '!H112 <> \"\", 'TT-1 Imports & Non-tax Memo '!H112, 0)","v":0},{"$f":"IF('TT-1 Imports & Non-tax Memo '!I112 <> \"\", 'TT-1 Imports & Non-tax Memo '!I112, 0)","v":0},{"$f":"IF('TT-1 Imports & Non-tax Memo '!J112 <> \"\", 'TT-1 Imports & Non-tax Memo '!J112, 0)","v":0},{"$f":"IF('TT-1 Imports & Non-tax Memo '!K112 <> \"\", 'TT-1 Imports & Non-tax Memo '!K112, 0)","v":0},{"$f":"IF('TT-1 Imports & Non-tax Memo '!L112 <> \"\", 'TT-1 Imports & Non-tax Memo '!L112, 0)","v":0},{"$f":"IF('TT-1 Imports & Non-tax Memo '!M112 <> \"\", 'TT-1 Imports & Non-tax Memo '!M112, 0)","v":0},{"$f":"IF('TT-1 Imports & Non-tax Memo '!N112 <> \"\", 'TT-1 Imports & Non-tax Memo '!N112, 0)","v":0},{"$f":"IF('TT-1 Imports & Non-tax Memo '!O112 <> \"\", 'TT-1 Imports & Non-tax Memo '!O112, 0)","v":0},{"$f":"IF('TT-1 Imports & Non-tax Memo '!P112 <> \"\", 'TT-1 Imports & Non-tax Memo '!P112, 0)","v":0},{"$f":"IF('TT-1 Imports & Non-tax Memo '!Q112 <> \"\", 'TT-1 Imports & Non-tax Memo '!Q112, 0)","v":0},{"$f":"IF('TT-1 Imports & Non-tax Memo '!R112 <> \"\", 'TT-1 Imports & Non-tax Memo '!R112, 0)","v":0},{"$f":"IF('TT-1 Imports & Non-tax Memo '!S112 <> \"\", 'TT-1 Imports & Non-tax Memo '!S112, 0)","v":0},{"$f":"IF('TT-1 Imports & Non-tax Memo '!T112 <> 0, 'TT-1 Imports & Non-tax Memo '!T112, \"\")","v":""}]
[{"$f":"IF('TT-1 Imports & Non-tax Memo '!A113 <> 0, 'TT-1 Imports & Non-tax Memo '!A113, \"\")","v":""},{"$f":"IF('TT-1 Imports & Non-tax Memo '!D113 <> 0, 'TT-1 Imports & Non-tax Memo '!D113, \"\")","v":""},{"$f":"IF('TT-1 Imports & Non-tax Memo '!E113 <> 0, 'TT-1 Imports & Non-tax Memo '!E113, \"\")","v":""},{"$f":"IF('TT-1 Imports & Non-tax Memo '!F113 <> \"\", 'TT-1 Imports & Non-tax Memo '!F113, 0)","v":0},{"$f":"IF('TT-1 Imports & Non-tax Memo '!G113 <> \"\", 'TT-1 Imports & Non-tax Memo '!G113, 0)","v":0},{"$f":"IF('TT-1 Imports & Non-tax Memo '!H113 <> \"\", 'TT-1 Imports & Non-tax Memo '!H113, 0)","v":0},{"$f":"IF('TT-1 Imports & Non-tax Memo '!I113 <> \"\", 'TT-1 Imports & Non-tax Memo '!I113, 0)","v":0},{"$f":"IF('TT-1 Imports & Non-tax Memo '!J113 <> \"\", 'TT-1 Imports & Non-tax Memo '!J113, 0)","v":0},{"$f":"IF('TT-1 Imports & Non-tax Memo '!K113 <> \"\", 'TT-1 Imports & Non-tax Memo '!K113, 0)","v":0},{"$f":"IF('TT-1 Imports & Non-tax Memo '!L113 <> \"\", 'TT-1 Imports & Non-tax Memo '!L113, 0)","v":0},{"$f":"IF('TT-1 Imports & Non-tax Memo '!M113 <> \"\", 'TT-1 Imports & Non-tax Memo '!M113, 0)","v":0},{"$f":"IF('TT-1 Imports & Non-tax Memo '!N113 <> \"\", 'TT-1 Imports & Non-tax Memo '!N113, 0)","v":0},{"$f":"IF('TT-1 Imports & Non-tax Memo '!O113 <> \"\", 'TT-1 Imports & Non-tax Memo '!O113, 0)","v":0},{"$f":"IF('TT-1 Imports & Non-tax Memo '!P113 <> \"\", 'TT-1 Imports & Non-tax Memo '!P113, 0)","v":0},{"$f":"IF('TT-1 Imports & Non-tax Memo '!Q113 <> \"\", 'TT-1 Imports & Non-tax Memo '!Q113, 0)","v":0},{"$f":"IF('TT-1 Imports & Non-tax Memo '!R113 <> \"\", 'TT-1 Imports & Non-tax Memo '!R113, 0)","v":0},{"$f":"IF('TT-1 Imports & Non-tax Memo '!S113 <> \"\", 'TT-1 Imports & Non-tax Memo '!S113, 0)","v":0},{"$f":"IF('TT-1 Imports & Non-tax Memo '!T113 <> 0, 'TT-1 Imports & Non-tax Memo '!T113, \"\")","v":""}]
[{"$f":"IF('TT-1 Imports & Non-tax Memo '!A114 <> 0, 'TT-1 Imports & Non-tax Memo '!A114, \"\")","v":""},{"$f":"IF('TT-1 Imports & Non-tax Memo '!D114 <> 0, 'TT-1 Imports & Non-tax Memo '!D114, \"\")","v":""},{"$f":"IF('TT-1 Imports & Non-tax Memo '!E114 <> 0, 'TT-1 Imports & Non-tax Memo '!E114, \"\")","v":""},{"$f":"IF('TT-1 Imports & Non-tax Memo '!F114 <> \"\", 'TT-1 Imports & Non-tax Memo '!F114, 0)","v":0},{"$f":"IF('TT-1 Imports & Non-tax Memo '!G114 <> \"\", 'TT-1 Imports & Non-tax Memo '!G114, 0)","v":0},{"$f":"IF('TT-1 Imports & Non-tax Memo '!H114 <> \"\", 'TT-1 Imports & Non-tax Memo '!H114, 0)","v":0},{"$f":"IF('TT-1 Imports & Non-tax Memo '!I114 <> \"\", 'TT-1 Imports & Non-tax Memo '!I114, 0)","v":0},{"$f":"IF('TT-1 Imports & Non-tax Memo '!J114 <> \"\", 'TT-1 Imports & Non-tax Memo '!J114, 0)","v":0},{"$f":"IF('TT-1 Imports & Non-tax Memo '!K114 <> \"\", 'TT-1 Imports & Non-tax Memo '!K114, 0)","v":0},{"$f":"IF('TT-1 Imports & Non-tax Memo '!L114 <> \"\", 'TT-1 Imports & Non-tax Memo '!L114, 0)","v":0},{"$f":"IF('TT-1 Imports & Non-tax Memo '!M114 <> \"\", 'TT-1 Imports & Non-tax Memo '!M114, 0)","v":0},{"$f":"IF('TT-1 Imports & Non-tax Memo '!N114 <> \"\", 'TT-1 Imports & Non-tax Memo '!N114, 0)","v":0},{"$f":"IF('TT-1 Imports & Non-tax Memo '!O114 <> \"\", 'TT-1 Imports & Non-tax Memo '!O114, 0)","v":0},{"$f":"IF('TT-1 Imports & Non-tax Memo '!P114 <> \"\", 'TT-1 Imports & Non-tax Memo '!P114, 0)","v":0},{"$f":"IF('TT-1 Imports & Non-tax Memo '!Q114 <> \"\", 'TT-1 Imports & Non-tax Memo '!Q114, 0)","v":0},{"$f":"IF('TT-1 Imports & Non-tax Memo '!R114 <> \"\", 'TT-1 Imports & Non-tax Memo '!R114, 0)","v":0},{"$f":"IF('TT-1 Imports & Non-tax Memo '!S114 <> \"\", 'TT-1 Imports & Non-tax Memo '!S114, 0)","v":0},{"$f":"IF('TT-1 Imports & Non-tax Memo '!T114 <> 0, 'TT-1 Imports & Non-tax Memo '!T114, \"\")","v":""}]
[{"$f":"IF('TT-1 Imports & Non-tax Memo '!A115 <> 0, 'TT-1 Imports & Non-tax Memo '!A115, \"\")","v":""},{"$f":"IF('TT-1 Imports & Non-tax Memo '!D115 <> 0, 'TT-1 Imports & Non-tax Memo '!D115, \"\")","v":""},{"$f":"IF('TT-1 Imports & Non-tax Memo '!E115 <> 0, 'TT-1 Imports & Non-tax Memo '!E115, \"\")","v":""},{"$f":"IF('TT-1 Imports & Non-tax Memo '!F115 <> \"\", 'TT-1 Imports & Non-tax Memo '!F115, 0)","v":0},{"$f":"IF('TT-1 Imports & Non-tax Memo '!G115 <> \"\", 'TT-1 Imports & Non-tax Memo '!G115, 0)","v":0},{"$f":"IF('TT-1 Imports & Non-tax Memo '!H115 <> \"\", 'TT-1 Imports & Non-tax Memo '!H115, 0)","v":0},{"$f":"IF('TT-1 Imports & Non-tax Memo '!I115 <> \"\", 'TT-1 Imports & Non-tax Memo '!I115, 0)","v":0},{"$f":"IF('TT-1 Imports & Non-tax Memo '!J115 <> \"\", 'TT-1 Imports & Non-tax Memo '!J115, 0)","v":0},{"$f":"IF('TT-1 Imports & Non-tax Memo '!K115 <> \"\", 'TT-1 Imports & Non-tax Memo '!K115, 0)","v":0},{"$f":"IF('TT-1 Imports & Non-tax Memo '!L115 <> \"\", 'TT-1 Imports & Non-tax Memo '!L115, 0)","v":0},{"$f":"IF('TT-1 Imports & Non-tax Memo '!M115 <> \"\", 'TT-1 Imports & Non-tax Memo '!M115, 0)","v":0},{"$f":"IF('TT-1 Imports & Non-tax Memo '!N115 <> \"\", 'TT-1 Imports & Non-tax Memo '!N115, 0)","v":0},{"$f":"IF('TT-1 Imports & Non-tax Memo '!O115 <> \"\", 'TT-1 Imports & Non-tax Memo '!O115, 0)","v":0},{"$f":"IF('TT-1 Imports & Non-tax Memo '!P115 <> \"\", 'TT-1 Imports & Non-tax Memo '!P115, 0)","v":0},{"$f":"IF('TT-1 Imports & Non-tax Memo '!Q115 <> \"\", 'TT-1 Imports & Non-tax Memo '!Q115, 0)","v":0},{"$f":"IF('TT-1 Imports & Non-tax Memo '!R115 <> \"\", 'TT-1 Imports & Non-tax Memo '!R115, 0)","v":0},{"$f":"IF('TT-1 Imports & Non-tax Memo '!S115 <> \"\", 'TT-1 Imports & Non-tax Memo '!S115, 0)","v":0},{"$f":"IF('TT-1 Imports & Non-tax Memo '!T115 <> 0, 'TT-1 Imports & Non-tax Memo '!T115, \"\")","v":""}]
[{"$f":"IF('TT-1 Imports & Non-tax Memo '!A116 <> 0, 'TT-1 Imports & Non-tax Memo '!A116, \"\")","v":""},{"$f":"IF('TT-1 Imports & Non-tax Memo '!D116 <> 0, 'TT-1 Imports & Non-tax Memo '!D116, \"\")","v":""},{"$f":"IF('TT-1 Imports & Non-tax Memo '!E116 <> 0, 'TT-1 Imports & Non-tax Memo '!E116, \"\")","v":""},{"$f":"IF('TT-1 Imports & Non-tax Memo '!F116 <> \"\", 'TT-1 Imports & Non-tax Memo '!F116, 0)","v":0},{"$f":"IF('TT-1 Imports & Non-tax Memo '!G116 <> \"\", 'TT-1 Imports & Non-tax Memo '!G116, 0)","v":0},{"$f":"IF('TT-1 Imports & Non-tax Memo '!H116 <> \"\", 'TT-1 Imports & Non-tax Memo '!H116, 0)","v":0},{"$f":"IF('TT-1 Imports & Non-tax Memo '!I116 <> \"\", 'TT-1 Imports & Non-tax Memo '!I116, 0)","v":0},{"$f":"IF('TT-1 Imports & Non-tax Memo '!J116 <> \"\", 'TT-1 Imports & Non-tax Memo '!J116, 0)","v":0},{"$f":"IF('TT-1 Imports & Non-tax Memo '!K116 <> \"\", 'TT-1 Imports & Non-tax Memo '!K116, 0)","v":0},{"$f":"IF('TT-1 Imports & Non-tax Memo '!L116 <> \"\", 'TT-1 Imports & Non-tax Memo '!L116, 0)","v":0},{"$f":"IF('TT-1 Imports & Non-tax Memo '!M116 <> \"\", 'TT-1 Imports & Non-tax Memo '!M116, 0)","v":0},{"$f":"IF('TT-1 Imports & Non-tax Memo '!N116 <> \"\", 'TT-1 Imports & Non-tax Memo '!N116, 0)","v":0},{"$f":"IF('TT-1 Imports & Non-tax Memo '!O116 <> \"\", 'TT-1 Imports & Non-tax Memo '!O116, 0)","v":0},{"$f":"IF('TT-1 Imports & Non-tax Memo '!P116 <> \"\", 'TT-1 Imports & Non-tax Memo '!P116, 0)","v":0},{"$f":"IF('TT-1 Imports & Non-tax Memo '!Q116 <> \"\", 'TT-1 Imports & Non-tax Memo '!Q116, 0)","v":0},{"$f":"IF('TT-1 Imports & Non-tax Memo '!R116 <> \"\", 'TT-1 Imports & Non-tax Memo '!R116, 0)","v":0},{"$f":"IF('TT-1 Imports & Non-tax Memo '!S116 <> \"\", 'TT-1 Imports & Non-tax Memo '!S116, 0)","v":0},{"$f":"IF('TT-1 Imports & Non-tax Memo '!T116 <> 0, 'TT-1 Imports & Non-tax Memo '!T116, \"\")","v":""}]
[{"$f":"IF('TT-1 Imports & Non-tax Memo '!A117 <> 0, 'TT-1 Imports & Non-tax Memo '!A117, \"\")","v":""},{"$f":"IF('TT-1 Imports & Non-tax Memo '!D117 <> 0, 'TT-1 Imports & Non-tax Memo '!D117, \"\")","v":""},{"$f":"IF('TT-1 Imports & Non-tax Memo '!E117 <> 0, 'TT-1 Imports & Non-tax Memo '!E117, \"\")","v":""},{"$f":"IF('TT-1 Imports & Non-tax Memo '!F117 <> \"\", 'TT-1 Imports & Non-tax Memo '!F117, 0)","v":0},{"$f":"IF('TT-1 Imports & Non-tax Memo '!G117 <> \"\", 'TT-1 Imports & Non-tax Memo '!G117, 0)","v":0},{"$f":"IF('TT-1 Imports & Non-tax Memo '!H117 <> \"\", 'TT-1 Imports & Non-tax Memo '!H117, 0)","v":0},{"$f":"IF('TT-1 Imports & Non-tax Memo '!I117 <> \"\", 'TT-1 Imports & Non-tax Memo '!I117, 0)","v":0},{"$f":"IF('TT-1 Imports & Non-tax Memo '!J117 <> \"\", 'TT-1 Imports & Non-tax Memo '!J117, 0)","v":0},{"$f":"IF('TT-1 Imports & Non-tax Memo '!K117 <> \"\", 'TT-1 Imports & Non-tax Memo '!K117, 0)","v":0},{"$f":"IF('TT-1 Imports & Non-tax Memo '!L117 <> \"\", 'TT-1 Imports & Non-tax Memo '!L117, 0)","v":0},{"$f":"IF('TT-1 Imports & Non-tax Memo '!M117 <> \"\", 'TT-1 Imports & Non-tax Memo '!M117, 0)","v":0},{"$f":"IF('TT-1 Imports & Non-tax Memo '!N117 <> \"\", 'TT-1 Imports & Non-tax Memo '!N117, 0)","v":0},{"$f":"IF('TT-1 Imports & Non-tax Memo '!O117 <> \"\", 'TT-1 Imports & Non-tax Memo '!O117, 0)","v":0},{"$f":"IF('TT-1 Imports & Non-tax Memo '!P117 <> \"\", 'TT-1 Imports & Non-tax Memo '!P117, 0)","v":0},{"$f":"IF('TT-1 Imports & Non-tax Memo '!Q117 <> \"\", 'TT-1 Imports & Non-tax Memo '!Q117, 0)","v":0},{"$f":"IF('TT-1 Imports & Non-tax Memo '!R117 <> \"\", 'TT-1 Imports & Non-tax Memo '!R117, 0)","v":0},{"$f":"IF('TT-1 Imports & Non-tax Memo '!S117 <> \"\", 'TT-1 Imports & Non-tax Memo '!S117, 0)","v":0},{"$f":"IF('TT-1 Imports & Non-tax Memo '!T117 <> 0, 'TT-1 Imports & Non-tax Memo '!T117, \"\")","v":""}]

{"sheet":"Map TT-1C","index":3,"n_rows":1,"n_cols":14,"rows_kept":1,"cut":false,"hidden":true,"merged":[]}
[{"$f":"IF('TT-1 Imports & Non-tax Memo '!F123 <> \"\", 'TT-1 Imports & Non-tax Memo '!F123, 0)","v":0},{"$f":"IF('TT-1 Imports & Non-tax Memo '!G123 <> \"\", 'TT-1 Imports & Non-tax Memo '!G123, 0)","v":0},{"$f":"IF('TT-1 Imports & Non-tax Memo '!H123 <> \"\", 'TT-1 Imports & Non-tax Memo '!H123, 0)","v":0},{"$f":"IF('TT-1 Imports & Non-tax Memo '!I123 <> \"\", 'TT-1 Imports & Non-tax Memo '!I123, 0)","v":0},{"$f":"IF('TT-1 Imports & Non-tax Memo '!J123 <> \"\", 'TT-1 Imports & Non-tax Memo '!J123, 0)","v":0},{"$f":"IF('TT-1 Imports & Non-tax Memo '!K123 <> \"\", 'TT-1 Imports & Non-tax Memo '!K123, 0)","v":0},{"$f":"IF('TT-1 Imports & Non-tax Memo '!L123 <> \"\", 'TT-1 Imports & Non-tax Memo '!L123, 0)","v":0},{"$f":"IF('TT-1 Imports & Non-tax Memo '!M123 <> \"\", 'TT-1 Imports & Non-tax Memo '!M123, 0)","v":0},{"$f":"IF('TT-1 Imports & Non-tax Memo '!N123 <> \"\", 'TT-1 Imports & Non-tax Memo '!N123, 0)","v":0},{"$f":"IF('TT-1 Imports & Non-tax Memo '!O123 <> \"\", 'TT-1 Imports & Non-tax Memo '!O123, 0)","v":0},{"$f":"IF('TT-1 Imports & Non-tax Memo '!P123 <> \"\", 'TT-1 Imports & Non-tax Memo '!P123, 0)","v":0},{"$f":"IF('TT-1 Imports & Non-tax Memo '!Q123 <> \"\", 'TT-1 Imports & Non-tax Memo '!Q123, 0)","v":0},{"$f":"IF('TT-1 Imports & Non-tax Memo '!R123 <> \"\", 'TT-1 Imports & Non-tax Memo '!R123, 0)","v":0},{"$f":"IF('TT-1 Imports & Non-tax Memo '!S123 <> \"\", 'TT-1 Imports & Non-tax Memo '!S123, 0)","v":0}]

{"sheet":"MapTT-2A","index":4,"n_rows":1,"n_cols":12,"rows_kept":1,"cut":false,"hidden":true,"merged":[]}
[{"$f":"IF('TT-2 Tax Memo Purchases'!D13 <> \"\", 'TT-2 Tax Memo Purchases'!D13, 0)","v":0},{"$f":"IF('TT-2 Tax Memo Purchases'!E13 <> 0, 'TT-2 Tax Memo Purchases'!E13, \"\")","v":""},{"$f":"IF('TT-2 Tax Memo Purchases'!F13 <> 0, 'TT-2 Tax Memo Purchases'!F13, \"\")","v":""},{"$f":"IF('TT-2 Tax Memo Purchases'!G13 <> 0, 'TT-2 Tax Memo Purchases'!G13, \"\")","v":""},{"$f":"IF('TT-2 Tax Memo Purchases'!H13 <> 0, 'TT-2 Tax Memo Purchases'!H13, \"\")","v":""},{"$f":"IF('TT-2 Tax Memo Purchases'!I13 <> 0, 'TT-2 Tax Memo Purchases'!I13, \"\")","v":""},{"$f":"IF('TT-2 Tax Memo Purchases'!J13 <> 0, 'TT-2 Tax Memo Purchases'!J13, \"\")","v":""},{"$f":"IF('TT-2 Tax Memo Purchases'!K13 <> 0, 'TT-2 Tax Memo Purchases'!K13, \"\")","v":""},{"$f":"IF('TT-2 Tax Memo Purchases'!L13 <> 0, 'TT-2 Tax Memo Purchases'!L13, \"\")","v":""},{"$f":"IF('TT-2 Tax Memo Purchases'!M13 <> 0, 'TT-2 Tax Memo Purchases'!M13, \"\")","v":""},{"$f":"IF('TT-2 Tax Memo Purchases'!N13 <> 0, 'TT-2 Tax Memo Purchases'!N13, \"\")","v":""},{"$f":"IF('TT-2 Tax Memo Purchases'!O13 <> 0, 'TT-2 Tax Memo Purchases'!O13, \"\")","v":""}]

{"sheet":"MapTT-2B","index":5,"n_rows":50,"n_cols":16,"rows_kept":50,"cut":false,"hidden":true,"merged":[]}
[{"$f":"IF('TT-2 Tax Memo Purchases'!A20 <> 0, 'TT-2 Tax Memo Purchases'!A20, \"\")","v":""},{"$f":"IF('TT-2 Tax Memo Purchases'!B20 <> 0, 'TT-2 Tax Memo Purchases'!B20, \"\")","v":""},{"$f":"IF('TT-2 Tax Memo Purchases'!C20 <> 0, 'TT-2 Tax Memo Purchases'!C20, \"\")","v":""},{"$f":"IF('TT-2 Tax Memo Purchases'!D20 <> \"\", 'TT-2 Tax Memo Purchases'!D20, 0)","v":0},{"$f":"IF('TT-2 Tax Memo Purchases'!E20 <> \"\", 'TT-2 Tax Memo Purchases'!E20, 0)","v":0},{"$f":"IF('TT-2 Tax Memo Purchases'!F20 <> \"\", 'TT-2 Tax Memo Purchases'!F20, 0)","v":0},{"$f":"IF('TT-2 Tax Memo Purchases'!G20 <> \"\", 'TT-2 Tax Memo Purchases'!G20, 0)","v":0},{"$f":"IF('TT-2 Tax Memo Purchases'!H20 <> \"\", 'TT-2 Tax Memo Purchases'!H20, 0)","v":0},{"$f":"IF('TT-2 Tax Memo Purchases'!I20 <> \"\", 'TT-2 Tax Memo Purchases'!I20, 0)","v":0},{"$f":"IF('TT-2 Tax Memo Purchases'!J20 <> \"\", 'TT-2 Tax Memo Purchases'!J20, 0)","v":0},{"$f":"IF('TT-2 Tax Memo Purchases'!K20 <> \"\", 'TT-2 Tax Memo Purchases'!K20, 0)","v":0},{"$f":"IF('TT-2 Tax Memo Purchases'!L20 <> \"\", 'TT-2 Tax Memo Purchases'!L20, 0)","v":0},{"$f":"IF('TT-2 Tax Memo Purchases'!M20 <> \"\", 'TT-2 Tax Memo Purchases'!M20, 0)","v":0},{"$f":"IF('TT-2 Tax Memo Purchases'!N20 <> \"\", 'TT-2 Tax Memo Purchases'!N20, 0)","v":0},{"$f":"IF('TT-2 Tax Memo Purchases'!O20 <> \"\", 'TT-2 Tax Memo Purchases'!O20, 0)","v":0},{"$f":"IF('TT-2 Tax Memo Purchases'!P20 = \"Product ordered and in transit\", \"Product ordered and in transit\", IF('TT-2 Tax Memo Purchases'!P20 = \"Product lost in transit\", \"Product lost in transit\", IF('TT-2 Tax Memo Purchases'!P20 = \"Product back ordered / shorted\", \"Product back ordered/shorted\", IF('TT-2 Tax Memo Purchases'!P20 = \"Product returned\", \"Product returned\", IF('TT-2 Tax Memo Purchases'!P20 = \"Other\", \"Other\", \"\")))))","v":""}]
[{"$f":"IF('TT-2 Tax Memo Purchases'!A21 <> 0, 'TT-2 Tax Memo Purchases'!A21, \"\")","v":""},{"$f":"IF('TT-2 Tax Memo Purchases'!B21 <> 0, 'TT-2 Tax Memo Purchases'!B21, \"\")","v":""},{"$f":"IF('TT-2 Tax Memo Purchases'!C21 <> 0, 'TT-2 Tax Memo Purchases'!C21, \"\")","v":""},{"$f":"IF('TT-2 Tax Memo Purchases'!D21 <> \"\", 'TT-2 Tax Memo Purchases'!D21, 0)","v":0},{"$f":"IF('TT-2 Tax Memo Purchases'!E21 <> \"\", 'TT-2 Tax Memo Purchases'!E21, 0)","v":0},{"$f":"IF('TT-2 Tax Memo Purchases'!F21 <> \"\", 'TT-2 Tax Memo Purchases'!F21, 0)","v":0},{"$f":"IF('TT-2 Tax Memo Purchases'!G21 <> \"\", 'TT-2 Tax Memo Purchases'!G21, 0)","v":0},{"$f":"IF('TT-2 Tax Memo Purchases'!H21 <> \"\", 'TT-2 Tax Memo Purchases'!H21, 0)","v":0},{"$f":"IF('TT-2 Tax Memo Purchases'!I21 <> \"\", 'TT-2 Tax Memo Purchases'!I21, 0)","v":0},{"$f":"IF('TT-2 Tax Memo Purchases'!J21 <> \"\", 'TT-2 Tax Memo Purchases'!J21, 0)","v":0},{"$f":"IF('TT-2 Tax Memo Purchases'!K21 <> \"\", 'TT-2 Tax Memo Purchases'!K21, 0)","v":0},{"$f":"IF('TT-2 Tax Memo Purchases'!L21 <> \"\", 'TT-2 Tax Memo Purchases'!L21, 0)","v":0},{"$f":"IF('TT-2 Tax Memo Purchases'!M21 <> \"\", 'TT-2 Tax Memo Purchases'!M21, 0)","v":0},{"$f":"IF('TT-2 Tax Memo Purchases'!N21 <> \"\", 'TT-2 Tax Memo Purchases'!N21, 0)","v":0},{"$f":"IF('TT-2 Tax Memo Purchases'!O21 <> \"\", 'TT-2 Tax Memo Purchases'!O21, 0)","v":0},{"$f":"IF('TT-2 Tax Memo Purchases'!P21 = \"Product ordered and in transit\", \"Product ordered and in transit\", IF('TT-2 Tax Memo Purchases'!P21 = \"Product lost in transit\", \"Product lost in transit\", IF('TT-2 Tax Memo Purchases'!P21 = \"Product back ordered / shorted\", \"Product back ordered/shorted\", IF('TT-2 Tax Memo Purchases'!P21 = \"Product returned\", \"Product returned\", IF('TT-2 Tax Memo Purchases'!P21 = \"Other\", \"Other\", \"\")))))","v":""}]
[{"$f":"IF('TT-2 Tax Memo Purchases'!A22 <> 0, 'TT-2 Tax Memo Purchases'!A22, \"\")","v":""},{"$f":"IF('TT-2 Tax Memo Purchases'!B22 <> 0, 'TT-2 Tax Memo Purchases'!B22, \"\")","v":""},{"$f":"IF('TT-2 Tax Memo Purchases'!C22 <> 0, 'TT-2 Tax Memo Purchases'!C22, \"\")","v":""},{"$f":"IF('TT-2 Tax Memo Purchases'!D22 <> \"\", 'TT-2 Tax Memo Purchases'!D22, 0)","v":0},{"$f":"IF('TT-2 Tax Memo Purchases'!E22 <> \"\", 'TT-2 Tax Memo Purchases'!E22, 0)","v":0},{"$f":"IF('TT-2 Tax Memo Purchases'!F22 <> \"\", 'TT-2 Tax Memo Purchases'!F22, 0)","v":0},{"$f":"IF('TT-2 Tax Memo Purchases'!G22 <> \"\", 'TT-2 Tax Memo Purchases'!G22, 0)","v":0},{"$f":"IF('TT-2 Tax Memo Purchases'!H22 <> \"\", 'TT-2 Tax Memo Purchases'!H22, 0)","v":0},{"$f":"IF('TT-2 Tax Memo Purchases'!I22 <> \"\", 'TT-2 Tax Memo Purchases'!I22, 0)","v":0},{"$f":"IF('TT-2 Tax Memo Purchases'!J22 <> \"\", 'TT-2 Tax Memo Purchases'!J22, 0)","v":0},{"$f":"IF('TT-2 Tax Memo Purchases'!K22 <> \"\", 'TT-2 Tax Memo Purchases'!K22, 0)","v":0},{"$f":"IF('TT-2 Tax Memo Purchases'!L22 <> \"\", 'TT-2 Tax Memo Purchases'!L22, 0)","v":0},{"$f":"IF('TT-2 Tax Memo Purchases'!M22 <> \"\", 'TT-2 Tax Memo Purchases'!M22, 0)","v":0},{"$f":"IF('TT-2 Tax Memo Purchases'!N22 <> \"\", 'TT-2 Tax Memo Purchases'!N22, 0)","v":0},{"$f":"IF('TT-2 Tax Memo Purchases'!O22 <> \"\", 'TT-2 Tax Memo Purchases'!O22, 0)","v":0},{"$f":"IF('TT-2 Tax Memo Purchases'!P22 = \"Product ordered and in transit\", \"Product ordered and in transit\", IF('TT-2 Tax Memo Purchases'!P22 = \"Product lost in transit\", \"Product lost in transit\", IF('TT-2 Tax Memo Purchases'!P22 = \"Product back ordered / shorted\", \"Product back ordered/shorted\", IF('TT-2 Tax Memo Purchases'!P22 = \"Product returned\", \"Product returned\", IF('TT-2 Tax Memo Purchases'!P22 = \"Other\", \"Other\", \"\")))))","v":""}]
[{"$f":"IF('TT-2 Tax Memo Purchases'!A23 <> 0, 'TT-2 Tax Memo Purchases'!A23, \"\")","v":""},{"$f":"IF('TT-2 Tax Memo Purchases'!B23 <> 0, 'TT-2 Tax Memo Purchases'!B23, \"\")","v":""},{"$f":"IF('TT-2 Tax Memo Purchases'!C23 <> 0, 'TT-2 Tax Memo Purchases'!C23, \"\")","v":""},{"$f":"IF('TT-2 Tax Memo Purchases'!D23 <> \"\", 'TT-2 Tax Memo Purchases'!D23, 0)","v":0},{"$f":"IF('TT-2 Tax Memo Purchases'!E23 <> \"\", 'TT-2 Tax Memo Purchases'!E23, 0)","v":0},{"$f":"IF('TT-2 Tax Memo Purchases'!F23 <> \"\", 'TT-2 Tax Memo Purchases'!F23, 0)","v":0},{"$f":"IF('TT-2 Tax Memo Purchases'!G23 <> \"\", 'TT-2 Tax Memo Purchases'!G23, 0)","v":0},{"$f":"IF('TT-2 Tax Memo Purchases'!H23 <> \"\", 'TT-2 Tax Memo Purchases'!H23, 0)","v":0},{"$f":"IF('TT-2 Tax Memo Purchases'!I23 <> \"\", 'TT-2 Tax Memo Purchases'!I23, 0)","v":0},{"$f":"IF('TT-2 Tax Memo Purchases'!J23 <> \"\", 'TT-2 Tax Memo Purchases'!J23, 0)","v":0},{"$f":"IF('TT-2 Tax Memo Purchases'!K23 <> \"\", 'TT-2 Tax Memo Purchases'!K23, 0)","v":0},{"$f":"IF('TT-2 Tax Memo Purchases'!L23 <> \"\", 'TT-2 Tax Memo Purchases'!L23, 0)","v":0},{"$f":"IF('TT-2 Tax Memo Purchases'!M23 <> \"\", 'TT-2 Tax Memo Purchases'!M23, 0)","v":0},{"$f":"IF('TT-2 Tax Memo Purchases'!N23 <> \"\", 'TT-2 Tax Memo Purchases'!N23, 0)","v":0},{"$f":"IF('TT-2 Tax Memo Purchases'!O23 <> \"\", 'TT-2 Tax Memo Purchases'!O23, 0)","v":0},{"$f":"IF('TT-2 Tax Memo Purchases'!P23 = \"Product ordered and in transit\", \"Product ordered and in transit\", IF('TT-2 Tax Memo Purchases'!P23 = \"Product lost in transit\", \"Product lost in transit\", IF('TT-2 Tax Memo Purchases'!P23 = \"Product back ordered / shorted\", \"Product back ordered/shorted\", IF('TT-2 Tax Memo Purchases'!P23 = \"Product returned\", \"Product returned\", IF('TT-2 Tax Memo Purchases'!P23 = \"Other\", \"Other\", \"\")))))","v":""}]
[{"$f":"IF('TT-2 Tax Memo Purchases'!A24 <> 0, 'TT-2 Tax Memo Purchases'!A24, \"\")","v":""},{"$f":"IF('TT-2 Tax Memo Purchases'!B24 <> 0, 'TT-2 Tax Memo Purchases'!B24, \"\")","v":""},{"$f":"IF('TT-2 Tax Memo Purchases'!C24 <> 0, 'TT-2 Tax Memo Purchases'!C24, \"\")","v":""},{"$f":"IF('TT-2 Tax Memo Purchases'!D24 <> \"\", 'TT-2 Tax Memo Purchases'!D24, 0)","v":0},{"$f":"IF('TT-2 Tax Memo Purchases'!E24 <> \"\", 'TT-2 Tax Memo Purchases'!E24, 0)","v":0},{"$f":"IF('TT-2 Tax Memo Purchases'!F24 <> \"\", 'TT-2 Tax Memo Purchases'!F24, 0)","v":0},{"$f":"IF('TT-2 Tax Memo Purchases'!G24 <> \"\", 'TT-2 Tax Memo Purchases'!G24, 0)","v":0},{"$f":"IF('TT-2 Tax Memo Purchases'!H24 <> \"\", 'TT-2 Tax Memo Purchases'!H24, 0)","v":0},{"$f":"IF('TT-2 Tax Memo Purchases'!I24 <> \"\", 'TT-2 Tax Memo Purchases'!I24, 0)","v":0},{"$f":"IF('TT-2 Tax Memo Purchases'!J24 <> \"\", 'TT-2 Tax Memo Purchases'!J24, 0)","v":0},{"$f":"IF('TT-2 Tax Memo Purchases'!K24 <> \"\", 'TT-2 Tax Memo Purchases'!K24, 0)","v":0},{"$f":"IF('TT-2 Tax Memo Purchases'!L24 <> \"\", 'TT-2 Tax Memo Purchases'!L24, 0)","v":0},{"$f":"IF('TT-2 Tax Memo Purchases'!M24 <> \"\", 'TT-2 Tax Memo Purchases'!M24, 0)","v":0},{"$f":"IF('TT-2 Tax Memo Purchases'!N24 <> \"\", 'TT-2 Tax Memo Purchases'!N24, 0)","v":0},{"$f":"IF('TT-2 Tax Memo Purchases'!O24 <> \"\", 'TT-2 Tax Memo Purchases'!O24, 0)","v":0},{"$f":"IF('TT-2 Tax Memo Purchases'!P24 = \"Product ordered and in transit\", \"Product ordered and in transit\", IF('TT-2 Tax Memo Purchases'!P24 = \"Product lost in transit\", \"Product lost in transit\", IF('TT-2 Tax Memo Purchases'!P24 = \"Product back ordered / shorted\", \"Product back ordered/shorted\", IF('TT-2 Tax Memo Purchases'!P24 = \"Product returned\", \"Product returned\", IF('TT-2 Tax Memo Purchases'!P24 = \"Other\", \"Other\", \"\")))))","v":""}]
[{"$f":"IF('TT-2 Tax Memo Purchases'!A25 <> 0, 'TT-2 Tax Memo Purchases'!A25, \"\")","v":""},{"$f":"IF('TT-2 Tax Memo Purchases'!B25 <> 0, 'TT-2 Tax Memo Purchases'!B25, \"\")","v":""},{"$f":"IF('TT-2 Tax Memo Purchases'!C25 <> 0, 'TT-2 Tax Memo Purchases'!C25, \"\")","v":""},{"$f":"IF('TT-2 Tax Memo Purchases'!D25 <> \"\", 'TT-2 Tax Memo Purchases'!D25, 0)","v":0},{"$f":"IF('TT-2 Tax Memo Purchases'!E25 <> \"\", 'TT-2 Tax Memo Purchases'!E25, 0)","v":0},{"$f":"IF('TT-2 Tax Memo Purchases'!F25 <> \"\", 'TT-2 Tax Memo Purchases'!F25, 0)","v":0},{"$f":"IF('TT-2 Tax Memo Purchases'!G25 <> \"\", 'TT-2 Tax Memo Purchases'!G25, 0)","v":0},{"$f":"IF('TT-2 Tax Memo Purchases'!H25 <> \"\", 'TT-2 Tax Memo Purchases'!H25, 0)","v":0},{"$f":"IF('TT-2 Tax Memo Purchases'!I25 <> \"\", 'TT-2 Tax Memo Purchases'!I25, 0)","v":0},{"$f":"IF('TT-2 Tax Memo Purchases'!J25 <> \"\", 'TT-2 Tax Memo Purchases'!J25, 0)","v":0},{"$f":"IF('TT-2 Tax Memo Purchases'!K25 <> \"\", 'TT-2 Tax Memo Purchases'!K25, 0)","v":0},{"$f":"IF('TT-2 Tax Memo Purchases'!L25 <> \"\", 'TT-2 Tax Memo Purchases'!L25, 0)","v":0},{"$f":"IF('TT-2 Tax Memo Purchases'!M25 <> \"\", 'TT-2 Tax Memo Purchases'!M25, 0)","v":0},{"$f":"IF('TT-2 Tax Memo Purchases'!N25 <> \"\", 'TT-2 Tax Memo Purchases'!N25, 0)","v":0},{"$f":"IF('TT-2 Tax Memo Purchases'!O25 <> \"\", 'TT-2 Tax Memo Purchases'!O25, 0)","v":0},{"$f":"IF('TT-2 Tax Memo Purchases'!P25 = \"Product ordered and in transit\", \"Product ordered and in transit\", IF('TT-2 Tax Memo Purchases'!P25 = \"Product lost in transit\", \"Product lost in transit\", IF('TT-2 Tax Memo Purchases'!P25 = \"Product back ordered / shorted\", \"Product back ordered/shorted\", IF('TT-2 Tax Memo Purchases'!P25 = \"Product returned\", \"Product returned\", IF('TT-2 Tax Memo Purchases'!P25 = \"Other\", \"Other\", \"\")))))","v":""}]
[{"$f":"IF('TT-2 Tax Memo Purchases'!A26 <> 0, 'TT-2 Tax Memo Purchases'!A26, \"\")","v":""},{"$f":"IF('TT-2 Tax Memo Purchases'!B26 <> 0, 'TT-2 Tax Memo Purchases'!B26, \"\")","v":""},{"$f":"IF('TT-2 Tax Memo Purchases'!C26 <> 0, 'TT-2 Tax Memo Purchases'!C26, \"\")","v":""},{"$f":"IF('TT-2 Tax Memo Purchases'!D26 <> \"\", 'TT-2 Tax Memo Purchases'!D26, 0)","v":0},{"$f":"IF('TT-2 Tax Memo Purchases'!E26 <> \"\", 'TT-2 Tax Memo Purchases'!E26, 0)","v":0},{"$f":"IF('TT-2 Tax Memo Purchases'!F26 <> \"\", 'TT-2 Tax Memo Purchases'!F26, 0)","v":0},{"$f":"IF('TT-2 Tax Memo Purchases'!G26 <> \"\", 'TT-2 Tax Memo Purchases'!G26, 0)","v":0},{"$f":"IF('TT-2 Tax Memo Purchases'!H26 <> \"\", 'TT-2 Tax Memo Purchases'!H26, 0)","v":0},{"$f":"IF('TT-2 Tax Memo Purchases'!I26 <> \"\", 'TT-2 Tax Memo Purchases'!I26, 0)","v":0},{"$f":"IF('TT-2 Tax Memo Purchases'!J26 <> \"\", 'TT-2 Tax Memo Purchases'!J26, 0)","v":0},{"$f":"IF('TT-2 Tax Memo Purchases'!K26 <> \"\", 'TT-2 Tax Memo Purchases'!K26, 0)","v":0},{"$f":"IF('TT-2 Tax Memo Purchases'!L26 <> \"\", 'TT-2 Tax Memo Purchases'!L26, 0)","v":0},{"$f":"IF('TT-2 Tax Memo Purchases'!M26 <> \"\", 'TT-2 Tax Memo Purchases'!M26, 0)","v":0},{"$f":"IF('TT-2 Tax Memo Purchases'!N26 <> \"\", 'TT-2 Tax Memo Purchases'!N26, 0)","v":0},{"$f":"IF('TT-2 Tax Memo Purchases'!O26 <> \"\", 'TT-2 Tax Memo Purchases'!O26, 0)","v":0},{"$f":"IF('TT-2 Tax Memo Purchases'!P26 = \"Product ordered and in transit\", \"Product ordered and in transit\", IF('TT-2 Tax Memo Purchases'!P26 = \"Product lost in transit\", \"Product lost in transit\", IF('TT-2 Tax Memo Purchases'!P26 = \"Product back ordered / shorted\", \"Product back ordered/shorted\", IF('TT-2 Tax Memo Purchases'!P26 = \"Product returned\", \"Product returned\", IF('TT-2 Tax Memo Purchases'!P26 = \"Other\", \"Other\", \"\")))))","v":""}]
[{"$f":"IF('TT-2 Tax Memo Purchases'!A27 <> 0, 'TT-2 Tax Memo Purchases'!A27, \"\")","v":""},{"$f":"IF('TT-2 Tax Memo Purchases'!B27 <> 0, 'TT-2 Tax Memo Purchases'!B27, \"\")","v":""},{"$f":"IF('TT-2 Tax Memo Purchases'!C27 <> 0, 'TT-2 Tax Memo Purchases'!C27, \"\")","v":""},{"$f":"IF('TT-2 Tax Memo Purchases'!D27 <> \"\", 'TT-2 Tax Memo Purchases'!D27, 0)","v":0},{"$f":"IF('TT-2 Tax Memo Purchases'!E27 <> \"\", 'TT-2 Tax Memo Purchases'!E27, 0)","v":0},{"$f":"IF('TT-2 Tax Memo Purchases'!F27 <> \"\", 'TT-2 Tax Memo Purchases'!F27, 0)","v":0},{"$f":"IF('TT-2 Tax Memo Purchases'!G27 <> \"\", 'TT-2 Tax Memo Purchases'!G27, 0)","v":0},{"$f":"IF('TT-2 Tax Memo Purchases'!H27 <> \"\", 'TT-2 Tax Memo Purchases'!H27, 0)","v":0},{"$f":"IF('TT-2 Tax Memo Purchases'!I27 <> \"\", 'TT-2 Tax Memo Purchases'!I27, 0)","v":0},{"$f":"IF('TT-2 Tax Memo Purchases'!J27 <> \"\", 'TT-2 Tax Memo Purchases'!J27, 0)","v":0},{"$f":"IF('TT-2 Tax Memo Purchases'!K27 <> \"\", 'TT-2 Tax Memo Purchases'!K27, 0)","v":0},{"$f":"IF('TT-2 Tax Memo Purchases'!L27 <> \"\", 'TT-2 Tax Memo Purchases'!L27, 0)","v":0},{"$f":"IF('TT-2 Tax Memo Purchases'!M27 <> \"\", 'TT-2 Tax Memo Purchases'!M27, 0)","v":0},{"$f":"IF('TT-2 Tax Memo Purchases'!N27 <> \"\", 'TT-2 Tax Memo Purchases'!N27, 0)","v":0},{"$f":"IF('TT-2 Tax Memo Purchases'!O27 <> \"\", 'TT-2 Tax Memo Purchases'!O27, 0)","v":0},{"$f":"IF('TT-2 Tax Memo Purchases'!P27 = \"Product ordered and in transit\", \"Product ordered and in transit\", IF('TT-2 Tax Memo Purchases'!P27 = \"Product lost in transit\", \"Product lost in transit\", IF('TT-2 Tax Memo Purchases'!P27 = \"Product back ordered / shorted\", \"Product back ordered/shorted\", IF('TT-2 Tax Memo Purchases'!P27 = \"Product returned\", \"Product returned\", IF('TT-2 Tax Memo Purchases'!P27 = \"Other\", \"Other\", \"\")))))","v":""}]
[{"$f":"IF('TT-2 Tax Memo Purchases'!A28 <> 0, 'TT-2 Tax Memo Purchases'!A28, \"\")","v":""},{"$f":"IF('TT-2 Tax Memo Purchases'!B28 <> 0, 'TT-2 Tax Memo Purchases'!B28, \"\")","v":""},{"$f":"IF('TT-2 Tax Memo Purchases'!C28 <> 0, 'TT-2 Tax Memo Purchases'!C28, \"\")","v":""},{"$f":"IF('TT-2 Tax Memo Purchases'!D28 <> \"\", 'TT-2 Tax Memo Purchases'!D28, 0)","v":0},{"$f":"IF('TT-2 Tax Memo Purchases'!E28 <> \"\", 'TT-2 Tax Memo Purchases'!E28, 0)","v":0},{"$f":"IF('TT-2 Tax Memo Purchases'!F28 <> \"\", 'TT-2 Tax Memo Purchases'!F28, 0)","v":0},{"$f":"IF('TT-2 Tax Memo Purchases'!G28 <> \"\", 'TT-2 Tax Memo Purchases'!G28, 0)","v":0},{"$f":"IF('TT-2 Tax Memo Purchases'!H28 <> \"\", 'TT-2 Tax Memo Purchases'!H28, 0)","v":0},{"$f":"IF('TT-2 Tax Memo Purchases'!I28 <> \"\", 'TT-2 Tax Memo Purchases'!I28, 0)","v":0},{"$f":"IF('TT-2 Tax Memo Purchases'!J28 <> \"\", 'TT-2 Tax Memo Purchases'!J28, 0)","v":0},{"$f":"IF('TT-2 Tax Memo Purchases'!K28 <> \"\", 'TT-2 Tax Memo Purchases'!K28, 0)","v":0},{"$f":"IF('TT-2 Tax Memo Purchases'!L28 <> \"\", 'TT-2 Tax Memo Purchases'!L28, 0)","v":0},{"$f":"IF('TT-2 Tax Memo Purchases'!M28 <> \"\", 'TT-2 Tax Memo Purchases'!M28, 0)","v":0},{"$f":"IF('TT-2 Tax Memo Purchases'!N28 <> \"\", 'TT-2 Tax Memo Purchases'!N28, 0)","v":0},{"$f":"IF('TT-2 Tax Memo Purchases'!O28 <> \"\", 'TT-2 Tax Memo Purchases'!O28, 0)","v":0},{"$f":"IF('TT-2 Tax Memo Purchases'!P28 = \"Product ordered and in transit\", \"Product ordered and in transit\", IF('TT-2 Tax Memo Purchases'!P28 = \"Product lost in transit\", \"Product lost in transit\", IF('TT-2 Tax Memo Purchases'!P28 = \"Product back ordered / shorted\", \"Product back ordered/shorted\", IF('TT-2 Tax Memo Purchases'!P28 = \"Product returned\", \"Product returned\", IF('TT-2 Tax Memo Purchases'!P28 = \"Other\", \"Other\", \"\")))))","v":""}]
[{"$f":"IF('TT-2 Tax Memo Purchases'!A29 <> 0, 'TT-2 Tax Memo Purchases'!A29, \"\")","v":""},{"$f":"IF('TT-2 Tax Memo Purchases'!B29 <> 0, 'TT-2 Tax Memo Purchases'!B29, \"\")","v":""},{"$f":"IF('TT-2 Tax Memo Purchases'!C29 <> 0, 'TT-2 Tax Memo Purchases'!C29, \"\")","v":""},{"$f":"IF('TT-2 Tax Memo Purchases'!D29 <> \"\", 'TT-2 Tax Memo Purchases'!D29, 0)","v":0},{"$f":"IF('TT-2 Tax Memo Purchases'!E29 <> \"\", 'TT-2 Tax Memo Purchases'!E29, 0)","v":0},{"$f":"IF('TT-2 Tax Memo Purchases'!F29 <> \"\", 'TT-2 Tax Memo Purchases'!F29, 0)","v":0},{"$f":"IF('TT-2 Tax Memo Purchases'!G29 <> \"\", 'TT-2 Tax Memo Purchases'!G29, 0)","v":0},{"$f":"IF('TT-2 Tax Memo Purchases'!H29 <> \"\", 'TT-2 Tax Memo Purchases'!H29, 0)","v":0},{"$f":"IF('TT-2 Tax Memo Purchases'!I29 <> \"\", 'TT-2 Tax Memo Purchases'!I29, 0)","v":0},{"$f":"IF('TT-2 Tax Memo Purchases'!J29 <> \"\", 'TT-2 Tax Memo Purchases'!J29, 0)","v":0},{"$f":"IF('TT-2 Tax Memo Purchases'!K29 <> \"\", 'TT-2 Tax Memo Purchases'!K29, 0)","v":0},{"$f":"IF('TT-2 Tax Memo Purchases'!L29 <> \"\", 'TT-2 Tax Memo Purchases'!L29, 0)","v":0},{"$f":"IF('TT-2 Tax Memo Purchases'!M29 <> \"\", 'TT-2 Tax Memo Purchases'!M29, 0)","v":0},{"$f":"IF('TT-2 Tax Memo Purchases'!N29 <> \"\", 'TT-2 Tax Memo Purchases'!N29, 0)","v":0},{"$f":"IF('TT-2 Tax Memo Purchases'!O29 <> \"\", 'TT-2 Tax Memo Purchases'!O29, 0)","v":0},{"$f":"IF('TT-2 Tax Memo Purchases'!P29 = \"Product ordered and in transit\", \"Product ordered and in transit\", IF('TT-2 Tax Memo Purchases'!P29 = \"Product lost in transit\", \"Product lost in transit\", IF('TT-2 Tax Memo Purchases'!P29 = \"Product back ordered / shorted\", \"Product back ordered/shorted\", IF('TT-2 Tax Memo Purchases'!P29 = \"Product returned\", \"Product returned\", IF('TT-2 Tax Memo Purchases'!P29 = \"Other\", \"Other\", \"\")))))","v":""}]
[{"$f":"IF('TT-2 Tax Memo Purchases'!A30 <> 0, 'TT-2 Tax Memo Purchases'!A30, \"\")","v":""},{"$f":"IF('TT-2 Tax Memo Purchases'!B30 <> 0, 'TT-2 Tax Memo Purchases'!B30, \"\")","v":""},{"$f":"IF('TT-2 Tax Memo Purchases'!C30 <> 0, 'TT-2 Tax Memo Purchases'!C30, \"\")","v":""},{"$f":"IF('TT-2 Tax Memo Purchases'!D30 <> \"\", 'TT-2 Tax Memo Purchases'!D30, 0)","v":0},{"$f":"IF('TT-2 Tax Memo Purchases'!E30 <> \"\", 'TT-2 Tax Memo Purchases'!E30, 0)","v":0},{"$f":"IF('TT-2 Tax Memo Purchases'!F30 <> \"\", 'TT-2 Tax Memo Purchases'!F30, 0)","v":0},{"$f":"IF('TT-2 Tax Memo Purchases'!G30 <> \"\", 'TT-2 Tax Memo Purchases'!G30, 0)","v":0},{"$f":"IF('TT-2 Tax Memo Purchases'!H30 <> \"\", 'TT-2 Tax Memo Purchases'!H30, 0)","v":0},{"$f":"IF('TT-2 Tax Memo Purchases'!I30 <> \"\", 'TT-2 Tax Memo Purchases'!I30, 0)","v":0},{"$f":"IF('TT-2 Tax Memo Purchases'!J30 <> \"\", 'TT-2 Tax Memo Purchases'!J30, 0)","v":0},{"$f":"IF('TT-2 Tax Memo Purchases'!K30 <> \"\", 'TT-2 Tax Memo Purchases'!K30, 0)","v":0},{"$f":"IF('TT-2 Tax Memo Purchases'!L30 <> \"\", 'TT-2 Tax Memo Purchases'!L30, 0)","v":0},{"$f":"IF('TT-2 Tax Memo Purchases'!M30 <> \"\", 'TT-2 Tax Memo Purchases'!M30, 0)","v":0},{"$f":"IF('TT-2 Tax Memo Purchases'!N30 <> \"\", 'TT-2 Tax Memo Purchases'!N30, 0)","v":0},{"$f":"IF('TT-2 Tax Memo Purchases'!O30 <> \"\", 'TT-2 Tax Memo Purchases'!O30, 0)","v":0},{"$f":"IF('TT-2 Tax Memo Purchases'!P30 = \"Product ordered and in transit\", \"Product ordered and in transit\", IF('TT-2 Tax Memo Purchases'!P30 = \"Product lost in transit\", \"Product lost in transit\", IF('TT-2 Tax Memo Purchases'!P30 = \"Product back ordered / shorted\", \"Product back ordered/shorted\", IF('TT-2 Tax Memo Purchases'!P30 = \"Product returned\", \"Product returned\", IF('TT-2 Tax Memo Purchases'!P30 = \"Other\", \"Other\", \"\")))))","v":""}]
[{"$f":"IF('TT-2 Tax Memo Purchases'!A31 <> 0, 'TT-2 Tax Memo Purchases'!A31, \"\")","v":""},{"$f":"IF('TT-2 Tax Memo Purchases'!B31 <> 0, 'TT-2 Tax Memo Purchases'!B31, \"\")","v":""},{"$f":"IF('TT-2 Tax Memo Purchases'!C31 <> 0, 'TT-2 Tax Memo Purchases'!C31, \"\")","v":""},{"$f":"IF('TT-2 Tax Memo Purchases'!D31 <> \"\", 'TT-2 Tax Memo Purchases'!D31, 0)","v":0},{"$f":"IF('TT-2 Tax Memo Purchases'!E31 <> \"\", 'TT-2 Tax Memo Purchases'!E31, 0)","v":0},{"$f":"IF('TT-2 Tax Memo Purchases'!F31 <> \"\", 'TT-2 Tax Memo Purchases'!F31, 0)","v":0},{"$f":"IF('TT-2 Tax Memo Purchases'!G31 <> \"\", 'TT-2 Tax Memo Purchases'!G31, 0)","v":0},{"$f":"IF('TT-2 Tax Memo Purchases'!H31 <> \"\", 'TT-2 Tax Memo Purchases'!H31, 0)","v":0},{"$f":"IF('TT-2 Tax Memo Purchases'!I31 <> \"\", 'TT-2 Tax Memo Purchases'!I31, 0)","v":0},{"$f":"IF('TT-2 Tax Memo Purchases'!J31 <> \"\", 'TT-2 Tax Memo Purchases'!J31, 0)","v":0},{"$f":"IF('TT-2 Tax Memo Purchases'!K31 <> \"\", 'TT-2 Tax Memo Purchases'!K31, 0)","v":0},{"$f":"IF('TT-2 Tax Memo Purchases'!L31 <> \"\", 'TT-2 Tax Memo Purchases'!L31, 0)","v":0},{"$f":"IF('TT-2 Tax Memo Purchases'!M31 <> \"\", 'TT-2 Tax Memo Purchases'!M31, 0)","v":0},{"$f":"IF('TT-2 Tax Memo Purchases'!N31 <> \"\", 'TT-2 Tax Memo Purchases'!N31, 0)","v":0},{"$f":"IF('TT-2 Tax Memo Purchases'!O31 <> \"\", 'TT-2 Tax Memo Purchases'!O31, 0)","v":0},{"$f":"IF('TT-2 Tax Memo Purchases'!P31 = \"Product ordered and in transit\", \"Product ordered and in transit\", IF('TT-2 Tax Memo Purchases'!P31 = \"Product lost in transit\", \"Product lost in transit\", IF('TT-2 Tax Memo Purchases'!P31 = \"Product back ordered / shorted\", \"Product back ordered/shorted\", IF('TT-2 Tax Memo Purchases'!P31 = \"Product returned\", \"Product returned\", IF('TT-2 Tax Memo Purchases'!P31 = \"Other\", \"Other\", \"\")))))","v":""}]
[{"$f":"IF('TT-2 Tax Memo Purchases'!A32 <> 0, 'TT-2 Tax Memo Purchases'!A32, \"\")","v":""},{"$f":"IF('TT-2 Tax Memo Purchases'!B32 <> 0, 'TT-2 Tax Memo Purchases'!B32, \"\")","v":""},{"$f":"IF('TT-2 Tax Memo Purchases'!C32 <> 0, 'TT-2 Tax Memo Purchases'!C32, \"\")","v":""},{"$f":"IF('TT-2 Tax Memo Purchases'!D32 <> \"\", 'TT-2 Tax Memo Purchases'!D32, 0)","v":0},{"$f":"IF('TT-2 Tax Memo Purchases'!E32 <> \"\", 'TT-2 Tax Memo Purchases'!E32, 0)","v":0},{"$f":"IF('TT-2 Tax Memo Purchases'!F32 <> \"\", 'TT-2 Tax Memo Purchases'!F32, 0)","v":0},{"$f":"IF('TT-2 Tax Memo Purchases'!G32 <> \"\", 'TT-2 Tax Memo Purchases'!G32, 0)","v":0},{"$f":"IF('TT-2 Tax Memo Purchases'!H32 <> \"\", 'TT-2 Tax Memo Purchases'!H32, 0)","v":0},{"$f":"IF('TT-2 Tax Memo Purchases'!I32 <> \"\", 'TT-2 Tax Memo Purchases'!I32, 0)","v":0},{"$f":"IF('TT-2 Tax Memo Purchases'!J32 <> \"\", 'TT-2 Tax Memo Purchases'!J32, 0)","v":0},{"$f":"IF('TT-2 Tax Memo Purchases'!K32 <> \"\", 'TT-2 Tax Memo Purchases'!K32, 0)","v":0},{"$f":"IF('TT-2 Tax Memo Purchases'!L32 <> \"\", 'TT-2 Tax Memo Purchases'!L32, 0)","v":0},{"$f":"IF('TT-2 Tax Memo Purchases'!M32 <> \"\", 'TT-2 Tax Memo Purchases'!M32, 0)","v":0},{"$f":"IF('TT-2 Tax Memo Purchases'!N32 <> \"\", 'TT-2 Tax Memo Purchases'!N32, 0)","v":0},{"$f":"IF('TT-2 Tax Memo Purchases'!O32 <> \"\", 'TT-2 Tax Memo Purchases'!O32, 0)","v":0},{"$f":"IF('TT-2 Tax Memo Purchases'!P32 = \"Product ordered and in transit\", \"Product ordered and in transit\", IF('TT-2 Tax Memo Purchases'!P32 = \"Product lost in transit\", \"Product lost in transit\", IF('TT-2 Tax Memo Purchases'!P32 = \"Product back ordered / shorted\", \"Product back ordered/shorted\", IF('TT-2 Tax Memo Purchases'!P32 = \"Product returned\", \"Product returned\", IF('TT-2 Tax Memo Purchases'!P32 = \"Other\", \"Other\", \"\")))))","v":""}]
[{"$f":"IF('TT-2 Tax Memo Purchases'!A33 <> 0, 'TT-2 Tax Memo Purchases'!A33, \"\")","v":""},{"$f":"IF('TT-2 Tax Memo Purchases'!B33 <> 0, 'TT-2 Tax Memo Purchases'!B33, \"\")","v":""},{"$f":"IF('TT-2 Tax Memo Purchases'!C33 <> 0, 'TT-2 Tax Memo Purchases'!C33, \"\")","v":""},{"$f":"IF('TT-2 Tax Memo Purchases'!D33 <> \"\", 'TT-2 Tax Memo Purchases'!D33, 0)","v":0},{"$f":"IF('TT-2 Tax Memo Purchases'!E33 <> \"\", 'TT-2 Tax Memo Purchases'!E33, 0)","v":0},{"$f":"IF('TT-2 Tax Memo Purchases'!F33 <> \"\", 'TT-2 Tax Memo Purchases'!F33, 0)","v":0},{"$f":"IF('TT-2 Tax Memo Purchases'!G33 <> \"\", 'TT-2 Tax Memo Purchases'!G33, 0)","v":0},{"$f":"IF('TT-2 Tax Memo Purchases'!H33 <> \"\", 'TT-2 Tax Memo Purchases'!H33, 0)","v":0},{"$f":"IF('TT-2 Tax Memo Purchases'!I33 <> \"\", 'TT-2 Tax Memo Purchases'!I33, 0)","v":0},{"$f":"IF('TT-2 Tax Memo Purchases'!J33 <> \"\", 'TT-2 Tax Memo Purchases'!J33, 0)","v":0},{"$f":"IF('TT-2 Tax Memo Purchases'!K33 <> \"\", 'TT-2 Tax Memo Purchases'!K33, 0)","v":0},{"$f":"IF('TT-2 Tax Memo Purchases'!L33 <> \"\", 'TT-2 Tax Memo Purchases'!L33, 0)","v":0},{"$f":"IF('TT-2 Tax Memo Purchases'!M33 <> \"\", 'TT-2 Tax Memo Purchases'!M33, 0)","v":0},{"$f":"IF('TT-2 Tax Memo Purchases'!N33 <> \"\", 'TT-2 Tax Memo Purchases'!N33, 0)","v":0},{"$f":"IF('TT-2 Tax Memo Purchases'!O33 <> \"\", 'TT-2 Tax Memo Purchases'!O33, 0)","v":0},{"$f":"IF('TT-2 Tax Memo Purchases'!P33 = \"Product ordered and in transit\", \"Product ordered and in transit\", IF('TT-2 Tax Memo Purchases'!P33 = \"Product lost in transit\", \"Product lost in transit\", IF('TT-2 Tax Memo Purchases'!P33 = \"Product back ordered / shorted\", \"Product back ordered/shorted\", IF('TT-2 Tax Memo Purchases'!P33 = \"Product returned\", \"Product returned\", IF('TT-2 Tax Memo Purchases'!P33 = \"Other\", \"Other\", \"\")))))","v":""}]
[{"$f":"IF('TT-2 Tax Memo Purchases'!A34 <> 0, 'TT-2 Tax Memo Purchases'!A34, \"\")","v":""},{"$f":"IF('TT-2 Tax Memo Purchases'!B34 <> 0, 'TT-2 Tax Memo Purchases'!B34, \"\")","v":""},{"$f":"IF('TT-2 Tax Memo Purchases'!C34 <> 0, 'TT-2 Tax Memo Purchases'!C34, \"\")","v":""},{"$f":"IF('TT-2 Tax Memo Purchases'!D34 <> \"\", 'TT-2 Tax Memo Purchases'!D34, 0)","v":0},{"$f":"IF('TT-2 Tax Memo Purchases'!E34 <> \"\", 'TT-2 Tax Memo Purchases'!E34, 0)","v":0},{"$f":"IF('TT-2 Tax Memo Purchases'!F34 <> \"\", 'TT-2 Tax Memo Purchases'!F34, 0)","v":0},{"$f":"IF('TT-2 Tax Memo Purchases'!G34 <> \"\", 'TT-2 Tax Memo Purchases'!G34, 0)","v":0},{"$f":"IF('TT-2 Tax Memo Purchases'!H34 <> \"\", 'TT-2 Tax Memo Purchases'!H34, 0)","v":0},{"$f":"IF('TT-2 Tax Memo Purchases'!I34 <> \"\", 'TT-2 Tax Memo Purchases'!I34, 0)","v":0},{"$f":"IF('TT-2 Tax Memo Purchases'!J34 <> \"\", 'TT-2 Tax Memo Purchases'!J34, 0)","v":0},{"$f":"IF('TT-2 Tax Memo Purchases'!K34 <> \"\", 'TT-2 Tax Memo Purchases'!K34, 0)","v":0},{"$f":"IF('TT-2 Tax Memo Purchases'!L34 <> \"\", 'TT-2 Tax Memo Purchases'!L34, 0)","v":0},{"$f":"IF('TT-2 Tax Memo Purchases'!M34 <> \"\", 'TT-2 Tax Memo Purchases'!M34, 0)","v":0},{"$f":"IF('TT-2 Tax Memo Purchases'!N34 <> \"\", 'TT-2 Tax Memo Purchases'!N34, 0)","v":0},{"$f":"IF('TT-2 Tax Memo Purchases'!O34 <> \"\", 'TT-2 Tax Memo Purchases'!O34, 0)","v":0},{"$f":"IF('TT-2 Tax Memo Purchases'!P34 = \"Product ordered and in transit\", \"Product ordered and in transit\", IF('TT-2 Tax Memo Purchases'!P34 = \"Product lost in transit\", \"Product lost in transit\", IF('TT-2 Tax Memo Purchases'!P34 = \"Product back ordered / shorted\", \"Product back ordered/shorted\", IF('TT-2 Tax Memo Purchases'!P34 = \"Product returned\", \"Product returned\", IF('TT-2 Tax Memo Purchases'!P34 = \"Other\", \"Other\", \"\")))))","v":""}]
[{"$f":"IF('TT-2 Tax Memo Purchases'!A35 <> 0, 'TT-2 Tax Memo Purchases'!A35, \"\")","v":""},{"$f":"IF('TT-2 Tax Memo Purchases'!B35 <> 0, 'TT-2 Tax Memo Purchases'!B35, \"\")","v":""},{"$f":"IF('TT-2 Tax Memo Purchases'!C35 <> 0, 'TT-2 Tax Memo Purchases'!C35, \"\")","v":""},{"$f":"IF('TT-2 Tax Memo Purchases'!D35 <> \"\", 'TT-2 Tax Memo Purchases'!D35, 0)","v":0},{"$f":"IF('TT-2 Tax Memo Purchases'!E35 <> \"\", 'TT-2 Tax Memo Purchases'!E35, 0)","v":0},{"$f":"IF('TT-2 Tax Memo Purchases'!F35 <> \"\", 'TT-2 Tax Memo Purchases'!F35, 0)","v":0},{"$f":"IF('TT-2 Tax Memo Purchases'!G35 <> \"\", 'TT-2 Tax Memo Purchases'!G35, 0)","v":0},{"$f":"IF('TT-2 Tax Memo Purchases'!H35 <> \"\", 'TT-2 Tax Memo Purchases'!H35, 0)","v":0},{"$f":"IF('TT-2 Tax Memo Purchases'!I35 <> \"\", 'TT-2 Tax Memo Purchases'!I35, 0)","v":0},{"$f":"IF('TT-2 Tax Memo Purchases'!J35 <> \"\", 'TT-2 Tax Memo Purchases'!J35, 0)","v":0},{"$f":"IF('TT-2 Tax Memo Purchases'!K35 <> \"\", 'TT-2 Tax Memo Purchases'!K35, 0)","v":0},{"$f":"IF('TT-2 Tax Memo Purchases'!L35 <> \"\", 'TT-2 Tax Memo Purchases'!L35, 0)","v":0},{"$f":"IF('TT-2 Tax Memo Purchases'!M35 <> \"\", 'TT-2 Tax Memo Purchases'!M35, 0)","v":0},{"$f":"IF('TT-2 Tax Memo Purchases'!N35 <> \"\", 'TT-2 Tax Memo Purchases'!N35, 0)","v":0},{"$f":"IF('TT-2 Tax Memo Purchases'!O35 <> \"\", 'TT-2 Tax Memo Purchases'!O35, 0)","v":0},{"$f":"IF('TT-2 Tax Memo Purchases'!P35 = \"Product ordered and in transit\", \"Product ordered and in transit\", IF('TT-2 Tax Memo Purchases'!P35 = \"Product lost in transit\", \"Product lost in transit\", IF('TT-2 Tax Memo Purchases'!P35 = \"Product back ordered / shorted\", \"Product back ordered/shorted\", IF('TT-2 Tax Memo Purchases'!P35 = \"Product returned\", \"Product returned\", IF('TT-2 Tax Memo Purchases'!P35 = \"Other\", \"Other\", \"\")))))","v":""}]
[{"$f":"IF('TT-2 Tax Memo Purchases'!A36 <> 0, 'TT-2 Tax Memo Purchases'!A36, \"\")","v":""},{"$f":"IF('TT-2 Tax Memo Purchases'!B36 <> 0, 'TT-2 Tax Memo Purchases'!B36, \"\")","v":""},{"$f":"IF('TT-2 Tax Memo Purchases'!C36 <> 0, 'TT-2 Tax Memo Purchases'!C36, \"\")","v":""},{"$f":"IF('TT-2 Tax Memo Purchases'!D36 <> \"\", 'TT-2 Tax Memo Purchases'!D36, 0)","v":0},{"$f":"IF('TT-2 Tax Memo Purchases'!E36 <> \"\", 'TT-2 Tax Memo Purchases'!E36, 0)","v":0},{"$f":"IF('TT-2 Tax Memo Purchases'!F36 <> \"\", 'TT-2 Tax Memo Purchases'!F36, 0)","v":0},{"$f":"IF('TT-2 Tax Memo Purchases'!G36 <> \"\", 'TT-2 Tax Memo Purchases'!G36, 0)","v":0},{"$f":"IF('TT-2 Tax Memo Purchases'!H36 <> \"\", 'TT-2 Tax Memo Purchases'!H36, 0)","v":0},{"$f":"IF('TT-2 Tax Memo Purchases'!I36 <> \"\", 'TT-2 Tax Memo Purchases'!I36, 0)","v":0},{"$f":"IF('TT-2 Tax Memo Purchases'!J36 <> \"\", 'TT-2 Tax Memo Purchases'!J36, 0)","v":0},{"$f":"IF('TT-2 Tax Memo Purchases'!K36 <> \"\", 'TT-2 Tax Memo Purchases'!K36, 0)","v":0},{"$f":"IF('TT-2 Tax Memo Purchases'!L36 <> \"\", 'TT-2 Tax Memo Purchases'!L36, 0)","v":0},{"$f":"IF('TT-2 Tax Memo Purchases'!M36 <> \"\", 'TT-2 Tax Memo Purchases'!M36, 0)","v":0},{"$f":"IF('TT-2 Tax Memo Purchases'!N36 <> \"\", 'TT-2 Tax Memo Purchases'!N36, 0)","v":0},{"$f":"IF('TT-2 Tax Memo Purchases'!O36 <> \"\", 'TT-2 Tax Memo Purchases'!O36, 0)","v":0},{"$f":"IF('TT-2 Tax Memo Purchases'!P36 = \"Product ordered and in transit\", \"Product ordered and in transit\", IF('TT-2 Tax Memo Purchases'!P36 = \"Product lost in transit\", \"Product lost in transit\", IF('TT-2 Tax Memo Purchases'!P36 = \"Product back ordered / shorted\", \"Product back ordered/shorted\", IF('TT-2 Tax Memo Purchases'!P36 = \"Product returned\", \"Product returned\", IF('TT-2 Tax Memo Purchases'!P36 = \"Other\", \"Other\", \"\")))))","v":""}]
[{"$f":"IF('TT-2 Tax Memo Purchases'!A37 <> 0, 'TT-2 Tax Memo Purchases'!A37, \"\")","v":""},{"$f":"IF('TT-2 Tax Memo Purchases'!B37 <> 0, 'TT-2 Tax Memo Purchases'!B37, \"\")","v":""},{"$f":"IF('TT-2 Tax Memo Purchases'!C37 <> 0, 'TT-2 Tax Memo Purchases'!C37, \"\")","v":""},{"$f":"IF('TT-2 Tax Memo Purchases'!D37 <> \"\", 'TT-2 Tax Memo Purchases'!D37, 0)","v":0},{"$f":"IF('TT-2 Tax Memo Purchases'!E37 <> \"\", 'TT-2 Tax Memo Purchases'!E37, 0)","v":0},{"$f":"IF('TT-2 Tax Memo Purchases'!F37 <> \"\", 'TT-2 Tax Memo Purchases'!F37, 0)","v":0},{"$f":"IF('TT-2 Tax Memo Purchases'!G37 <> \"\", 'TT-2 Tax Memo Purchases'!G37, 0)","v":0},{"$f":"IF('TT-2 Tax Memo Purchases'!H37 <> \"\", 'TT-2 Tax Memo Purchases'!H37, 0)","v":0},{"$f":"IF('TT-2 Tax Memo Purchases'!I37 <> \"\", 'TT-2 Tax Memo Purchases'!I37, 0)","v":0},{"$f":"IF('TT-2 Tax Memo Purchases'!J37 <> \"\", 'TT-2 Tax Memo Purchases'!J37, 0)","v":0},{"$f":"IF('TT-2 Tax Memo Purchases'!K37 <> \"\", 'TT-2 Tax Memo Purchases'!K37, 0)","v":0},{"$f":"IF('TT-2 Tax Memo Purchases'!L37 <> \"\", 'TT-2 Tax Memo Purchases'!L37, 0)","v":0},{"$f":"IF('TT-2 Tax Memo Purchases'!M37 <> \"\", 'TT-2 Tax Memo Purchases'!M37, 0)","v":0},{"$f":"IF('TT-2 Tax Memo Purchases'!N37 <> \"\", 'TT-2 Tax Memo Purchases'!N37, 0)","v":0},{"$f":"IF('TT-2 Tax Memo Purchases'!O37 <> \"\", 'TT-2 Tax Memo Purchases'!O37, 0)","v":0},{"$f":"IF('TT-2 Tax Memo Purchases'!P37 = \"Product ordered and in transit\", \"Product ordered and in transit\", IF('TT-2 Tax Memo Purchases'!P37 = \"Product lost in transit\", \"Product lost in transit\", IF('TT-2 Tax Memo Purchases'!P37 = \"Product back ordered / shorted\", \"Product back ordered/shorted\", IF('TT-2 Tax Memo Purchases'!P37 = \"Product returned\", \"Product returned\", IF('TT-2 Tax Memo Purchases'!P37 = \"Other\", \"Other\", \"\")))))","v":""}]
[{"$f":"IF('TT-2 Tax Memo Purchases'!A38 <> 0, 'TT-2 Tax Memo Purchases'!A38, \"\")","v":""},{"$f":"IF('TT-2 Tax Memo Purchases'!B38 <> 0, 'TT-2 Tax Memo Purchases'!B38, \"\")","v":""},{"$f":"IF('TT-2 Tax Memo Purchases'!C38 <> 0, 'TT-2 Tax Memo Purchases'!C38, \"\")","v":""},{"$f":"IF('TT-2 Tax Memo Purchases'!D38 <> \"\", 'TT-2 Tax Memo Purchases'!D38, 0)","v":0},{"$f":"IF('TT-2 Tax Memo Purchases'!E38 <> \"\", 'TT-2 Tax Memo Purchases'!E38, 0)","v":0},{"$f":"IF('TT-2 Tax Memo Purchases'!F38 <> \"\", 'TT-2 Tax Memo Purchases'!F38, 0)","v":0},{"$f":"IF('TT-2 Tax Memo Purchases'!G38 <> \"\", 'TT-2 Tax Memo Purchases'!G38, 0)","v":0},{"$f":"IF('TT-2 Tax Memo Purchases'!H38 <> \"\", 'TT-2 Tax Memo Purchases'!H38, 0)","v":0},{"$f":"IF('TT-2 Tax Memo Purchases'!I38 <> \"\", 'TT-2 Tax Memo Purchases'!I38, 0)","v":0},{"$f":"IF('TT-2 Tax Memo Purchases'!J38 <> \"\", 'TT-2 Tax Memo Purchases'!J38, 0)","v":0},{"$f":"IF('TT-2 Tax Memo Purchases'!K38 <> \"\", 'TT-2 Tax Memo Purchases'!K38, 0)","v":0},{"$f":"IF('TT-2 Tax Memo Purchases'!L38 <> \"\", 'TT-2 Tax Memo Purchases'!L38, 0)","v":0},{"$f":"IF('TT-2 Tax Memo Purchases'!M38 <> \"\", 'TT-2 Tax Memo Purchases'!M38, 0)","v":0},{"$f":"IF('TT-2 Tax Memo Purchases'!N38 <> \"\", 'TT-2 Tax Memo Purchases'!N38, 0)","v":0},{"$f":"IF('TT-2 Tax Memo Purchases'!O38 <> \"\", 'TT-2 Tax Memo Purchases'!O38, 0)","v":0},{"$f":"IF('TT-2 Tax Memo Purchases'!P38 = \"Product ordered and in transit\", \"Product ordered and in transit\", IF('TT-2 Tax Memo Purchases'!P38 = \"Product lost in transit\", \"Product lost in transit\", IF('TT-2 Tax Memo Purchases'!P38 = \"Product back ordered / shorted\", \"Product back ordered/shorted\", IF('TT-2 Tax Memo Purchases'!P38 = \"Product returned\", \"Product returned\", IF('TT-2 Tax Memo Purchases'!P38 = \"Other\", \"Other\", \"\")))))","v":""}]
[{"$f":"IF('TT-2 Tax Memo Purchases'!A39 <> 0, 'TT-2 Tax Memo Purchases'!A39, \"\")","v":""},{"$f":"IF('TT-2 Tax Memo Purchases'!B39 <> 0, 'TT-2 Tax Memo Purchases'!B39, \"\")","v":""},{"$f":"IF('TT-2 Tax Memo Purchases'!C39 <> 0, 'TT-2 Tax Memo Purchases'!C39, \"\")","v":""},{"$f":"IF('TT-2 Tax Memo Purchases'!D39 <> \"\", 'TT-2 Tax Memo Purchases'!D39, 0)","v":0},{"$f":"IF('TT-2 Tax Memo Purchases'!E39 <> \"\", 'TT-2 Tax Memo Purchases'!E39, 0)","v":0},{"$f":"IF('TT-2 Tax Memo Purchases'!F39 <> \"\", 'TT-2 Tax Memo Purchases'!F39, 0)","v":0},{"$f":"IF('TT-2 Tax Memo Purchases'!G39 <> \"\", 'TT-2 Tax Memo Purchases'!G39, 0)","v":0},{"$f":"IF('TT-2 Tax Memo Purchases'!H39 <> \"\", 'TT-2 Tax Memo Purchases'!H39, 0)","v":0},{"$f":"IF('TT-2 Tax Memo Purchases'!I39 <> \"\", 'TT-2 Tax Memo Purchases'!I39, 0)","v":0},{"$f":"IF('TT-2 Tax Memo Purchases'!J39 <> \"\", 'TT-2 Tax Memo Purchases'!J39, 0)","v":0},{"$f":"IF('TT-2 Tax Memo Purchases'!K39 <> \"\", 'TT-2 Tax Memo Purchases'!K39, 0)","v":0},{"$f":"IF('TT-2 Tax Memo Purchases'!L39 <> \"\", 'TT-2 Tax Memo Purchases'!L39, 0)","v":0},{"$f":"IF('TT-2 Tax Memo Purchases'!M39 <> \"\", 'TT-2 Tax Memo Purchases'!M39, 0)","v":0},{"$f":"IF('TT-2 Tax Memo Purchases'!N39 <> \"\", 'TT-2 Tax Memo Purchases'!N39, 0)","v":0},{"$f":"IF('TT-2 Tax Memo Purchases'!O39 <> \"\", 'TT-2 Tax Memo Purchases'!O39, 0)","v":0},{"$f":"IF('TT-2 Tax Memo Purchases'!P39 = \"Product ordered and in transit\", \"Product ordered and in transit\", IF('TT-2 Tax Memo Purchases'!P39 = \"Product lost in transit\", \"Product lost in transit\", IF('TT-2 Tax Memo Purchases'!P39 = \"Product back ordered / shorted\", \"Product back ordered/shorted\", IF('TT-2 Tax Memo Purchases'!P39 = \"Product returned\", \"Product returned\", IF('TT-2 Tax Memo Purchases'!P39 = \"Other\", \"Other\", \"\")))))","v":""}]
[{"$f":"IF('TT-2 Tax Memo Purchases'!A40 <> 0, 'TT-2 Tax Memo Purchases'!A40, \"\")","v":""},{"$f":"IF('TT-2 Tax Memo Purchases'!B40 <> 0, 'TT-2 Tax Memo Purchases'!B40, \"\")","v":""},{"$f":"IF('TT-2 Tax Memo Purchases'!C40 <> 0, 'TT-2 Tax Memo Purchases'!C40, \"\")","v":""},{"$f":"IF('TT-2 Tax Memo Purchases'!D40 <> \"\", 'TT-2 Tax Memo Purchases'!D40, 0)","v":0},{"$f":"IF('TT-2 Tax Memo Purchases'!E40 <> \"\", 'TT-2 Tax Memo Purchases'!E40, 0)","v":0},{"$f":"IF('TT-2 Tax Memo Purchases'!F40 <> \"\", 'TT-2 Tax Memo Purchases'!F40, 0)","v":0},{"$f":"IF('TT-2 Tax Memo Purchases'!G40 <> \"\", 'TT-2 Tax Memo Purchases'!G40, 0)","v":0},{"$f":"IF('TT-2 Tax Memo Purchases'!H40 <> \"\", 'TT-2 Tax Memo Purchases'!H40, 0)","v":0},{"$f":"IF('TT-2 Tax Memo Purchases'!I40 <> \"\", 'TT-2 Tax Memo Purchases'!I40, 0)","v":0},{"$f":"IF('TT-2 Tax Memo Purchases'!J40 <> \"\", 'TT-2 Tax Memo Purchases'!J40, 0)","v":0},{"$f":"IF('TT-2 Tax Memo Purchases'!K40 <> \"\", 'TT-2 Tax Memo Purchases'!K40, 0)","v":0},{"$f":"IF('TT-2 Tax Memo Purchases'!L40 <> \"\", 'TT-2 Tax Memo Purchases'!L40, 0)","v":0},{"$f":"IF('TT-2 Tax Memo Purchases'!M40 <> \"\", 'TT-2 Tax Memo Purchases'!M40, 0)","v":0},{"$f":"IF('TT-2 Tax Memo Purchases'!N40 <> \"\", 'TT-2 Tax Memo Purchases'!N40, 0)","v":0},{"$f":"IF('TT-2 Tax Memo Purchases'!O40 <> \"\", 'TT-2 Tax Memo Purchases'!O40, 0)","v":0},{"$f":"IF('TT-2 Tax Memo Purchases'!P40 = \"Product ordered and in transit\", \"Product ordered and in transit\", IF('TT-2 Tax Memo Purchases'!P40 = \"Product lost in transit\", \"Product lost in transit\", IF('TT-2 Tax Memo Purchases'!P40 = \"Product back ordered / shorted\", \"Product back ordered/shorted\", IF('TT-2 Tax Memo Purchases'!P40 = \"Product returned\", \"Product returned\", IF('TT-2 Tax Memo Purchases'!P40 = \"Other\", \"Other\", \"\")))))","v":""}]
[{"$f":"IF('TT-2 Tax Memo Purchases'!A41 <> 0, 'TT-2 Tax Memo Purchases'!A41, \"\")","v":""},{"$f":"IF('TT-2 Tax Memo Purchases'!B41 <> 0, 'TT-2 Tax Memo Purchases'!B41, \"\")","v":""},{"$f":"IF('TT-2 Tax Memo Purchases'!C41 <> 0, 'TT-2 Tax Memo Purchases'!C41, \"\")","v":""},{"$f":"IF('TT-2 Tax Memo Purchases'!D41 <> \"\", 'TT-2 Tax Memo Purchases'!D41, 0)","v":0},{"$f":"IF('TT-2 Tax Memo Purchases'!E41 <> \"\", 'TT-2 Tax Memo Purchases'!E41, 0)","v":0},{"$f":"IF('TT-2 Tax Memo Purchases'!F41 <> \"\", 'TT-2 Tax Memo Purchases'!F41, 0)","v":0},{"$f":"IF('TT-2 Tax Memo Purchases'!G41 <> \"\", 'TT-2 Tax Memo Purchases'!G41, 0)","v":0},{"$f":"IF('TT-2 Tax Memo Purchases'!H41 <> \"\", 'TT-2 Tax Memo Purchases'!H41, 0)","v":0},{"$f":"IF('TT-2 Tax Memo Purchases'!I41 <> \"\", 'TT-2 Tax Memo Purchases'!I41, 0)","v":0},{"$f":"IF('TT-2 Tax Memo Purchases'!J41 <> \"\", 'TT-2 Tax Memo Purchases'!J41, 0)","v":0},{"$f":"IF('TT-2 Tax Memo Purchases'!K41 <> \"\", 'TT-2 Tax Memo Purchases'!K41, 0)","v":0},{"$f":"IF('TT-2 Tax Memo Purchases'!L41 <> \"\", 'TT-2 Tax Memo Purchases'!L41, 0)","v":0},{"$f":"IF('TT-2 Tax Memo Purchases'!M41 <> \"\", 'TT-2 Tax Memo Purchases'!M41, 0)","v":0},{"$f":"IF('TT-2 Tax Memo Purchases'!N41 <> \"\", 'TT-2 Tax Memo Purchases'!N41, 0)","v":0},{"$f":"IF('TT-2 Tax Memo Purchases'!O41 <> \"\", 'TT-2 Tax Memo Purchases'!O41, 0)","v":0},{"$f":"IF('TT-2 Tax Memo Purchases'!P41 = \"Product ordered and in transit\", \"Product ordered and in transit\", IF('TT-2 Tax Memo Purchases'!P41 = \"Product lost in transit\", \"Product lost in transit\", IF('TT-2 Tax Memo Purchases'!P41 = \"Product back ordered / shorted\", \"Product back ordered/shorted\", IF('TT-2 Tax Memo Purchases'!P41 = \"Product returned\", \"Product returned\", IF('TT-2 Tax Memo Purchases'!P41 = \"Other\", \"Other\", \"\")))))","v":""}]
[{"$f":"IF('TT-2 Tax Memo Purchases'!A42 <> 0, 'TT-2 Tax Memo Purchases'!A42, \"\")","v":""},{"$f":"IF('TT-2 Tax Memo Purchases'!B42 <> 0, 'TT-2 Tax Memo Purchases'!B42, \"\")","v":""},{"$f":"IF('TT-2 Tax Memo Purchases'!C42 <> 0, 'TT-2 Tax Memo Purchases'!C42, \"\")","v":""},{"$f":"IF('TT-2 Tax Memo Purchases'!D42 <> \"\", 'TT-2 Tax Memo Purchases'!D42, 0)","v":0},{"$f":"IF('TT-2 Tax Memo Purchases'!E42 <> \"\", 'TT-2 Tax Memo Purchases'!E42, 0)","v":0},{"$f":"IF('TT-2 Tax Memo Purchases'!F42 <> \"\", 'TT-2 Tax Memo Purchases'!F42, 0)","v":0},{"$f":"IF('TT-2 Tax Memo Purchases'!G42 <> \"\", 'TT-2 Tax Memo Purchases'!G42, 0)","v":0},{"$f":"IF('TT-2 Tax Memo Purchases'!H42 <> \"\", 'TT-2 Tax Memo Purchases'!H42, 0)","v":0},{"$f":"IF('TT-2 Tax Memo Purchases'!I42 <> \"\", 'TT-2 Tax Memo Purchases'!I42, 0)","v":0},{"$f":"IF('TT-2 Tax Memo Purchases'!J42 <> \"\", 'TT-2 Tax Memo Purchases'!J42, 0)","v":0},{"$f":"IF('TT-2 Tax Memo Purchases'!K42 <> \"\", 'TT-2 Tax Memo Purchases'!K42, 0)","v":0},{"$f":"IF('TT-2 Tax Memo Purchases'!L42 <> \"\", 'TT-2 Tax Memo Purchases'!L42, 0)","v":0},{"$f":"IF('TT-2 Tax Memo Purchases'!M42 <> \"\", 'TT-2 Tax Memo Purchases'!M42, 0)","v":0},{"$f":"IF('TT-2 Tax Memo Purchases'!N42 <> \"\", 'TT-2 Tax Memo Purchases'!N42, 0)","v":0},{"$f":"IF('TT-2 Tax Memo Purchases'!O42 <> \"\", 'TT-2 Tax Memo Purchases'!O42, 0)","v":0},{"$f":"IF('TT-2 Tax Memo Purchases'!P42 = \"Product ordered and in transit\", \"Product ordered and in transit\", IF('TT-2 Tax Memo Purchases'!P42 = \"Product lost in transit\", \"Product lost in transit\", IF('TT-2 Tax Memo Purchases'!P42 = \"Product back ordered / shorted\", \"Product back ordered/shorted\", IF('TT-2 Tax Memo Purchases'!P42 = \"Product returned\", \"Product returned\", IF('TT-2 Tax Memo Purchases'!P42 = \"Other\", \"Other\", \"\")))))","v":""}]
[{"$f":"IF('TT-2 Tax Memo Purchases'!A43 <> 0, 'TT-2 Tax Memo Purchases'!A43, \"\")","v":""},{"$f":"IF('TT-2 Tax Memo Purchases'!B43 <> 0, 'TT-2 Tax Memo Purchases'!B43, \"\")","v":""},{"$f":"IF('TT-2 Tax Memo Purchases'!C43 <> 0, 'TT-2 Tax Memo Purchases'!C43, \"\")","v":""},{"$f":"IF('TT-2 Tax Memo Purchases'!D43 <> \"\", 'TT-2 Tax Memo Purchases'!D43, 0)","v":0},{"$f":"IF('TT-2 Tax Memo Purchases'!E43 <> \"\", 'TT-2 Tax Memo Purchases'!E43, 0)","v":0},{"$f":"IF('TT-2 Tax Memo Purchases'!F43 <> \"\", 'TT-2 Tax Memo Purchases'!F43, 0)","v":0},{"$f":"IF('TT-2 Tax Memo Purchases'!G43 <> \"\", 'TT-2 Tax Memo Purchases'!G43, 0)","v":0},{"$f":"IF('TT-2 Tax Memo Purchases'!H43 <> \"\", 'TT-2 Tax Memo Purchases'!H43, 0)","v":0},{"$f":"IF('TT-2 Tax Memo Purchases'!I43 <> \"\", 'TT-2 Tax Memo Purchases'!I43, 0)","v":0},{"$f":"IF('TT-2 Tax Memo Purchases'!J43 <> \"\", 'TT-2 Tax Memo Purchases'!J43, 0)","v":0},{"$f":"IF('TT-2 Tax Memo Purchases'!K43 <> \"\", 'TT-2 Tax Memo Purchases'!K43, 0)","v":0},{"$f":"IF('TT-2 Tax Memo Purchases'!L43 <> \"\", 'TT-2 Tax Memo Purchases'!L43, 0)","v":0},{"$f":"IF('TT-2 Tax Memo Purchases'!M43 <> \"\", 'TT-2 Tax Memo Purchases'!M43, 0)","v":0},{"$f":"IF('TT-2 Tax Memo Purchases'!N43 <> \"\", 'TT-2 Tax Memo Purchases'!N43, 0)","v":0},{"$f":"IF('TT-2 Tax Memo Purchases'!O43 <> \"\", 'TT-2 Tax Memo Purchases'!O43, 0)","v":0},{"$f":"IF('TT-2 Tax Memo Purchases'!P43 = \"Product ordered and in transit\", \"Product ordered and in transit\", IF('TT-2 Tax Memo Purchases'!P43 = \"Product lost in transit\", \"Product lost in transit\", IF('TT-2 Tax Memo Purchases'!P43 = \"Product back ordered / shorted\", \"Product back ordered/shorted\", IF('TT-2 Tax Memo Purchases'!P43 = \"Product returned\", \"Product returned\", IF('TT-2 Tax Memo Purchases'!P43 = \"Other\", \"Other\", \"\")))))","v":""}]
[{"$f":"IF('TT-2 Tax Memo Purchases'!A44 <> 0, 'TT-2 Tax Memo Purchases'!A44, \"\")","v":""},{"$f":"IF('TT-2 Tax Memo Purchases'!B44 <> 0, 'TT-2 Tax Memo Purchases'!B44, \"\")","v":""},{"$f":"IF('TT-2 Tax Memo Purchases'!C44 <> 0, 'TT-2 Tax Memo Purchases'!C44, \"\")","v":""},{"$f":"IF('TT-2 Tax Memo Purchases'!D44 <> \"\", 'TT-2 Tax Memo Purchases'!D44, 0)","v":0},{"$f":"IF('TT-2 Tax Memo Purchases'!E44 <> \"\", 'TT-2 Tax Memo Purchases'!E44, 0)","v":0},{"$f":"IF('TT-2 Tax Memo Purchases'!F44 <> \"\", 'TT-2 Tax Memo Purchases'!F44, 0)","v":0},{"$f":"IF('TT-2 Tax Memo Purchases'!G44 <> \"\", 'TT-2 Tax Memo Purchases'!G44, 0)","v":0},{"$f":"IF('TT-2 Tax Memo Purchases'!H44 <> \"\", 'TT-2 Tax Memo Purchases'!H44, 0)","v":0},{"$f":"IF('TT-2 Tax Memo Purchases'!I44 <> \"\", 'TT-2 Tax Memo Purchases'!I44, 0)","v":0},{"$f":"IF('TT-2 Tax Memo Purchases'!J44 <> \"\", 'TT-2 Tax Memo Purchases'!J44, 0)","v":0},{"$f":"IF('TT-2 Tax Memo Purchases'!K44 <> \"\", 'TT-2 Tax Memo Purchases'!K44, 0)","v":0},{"$f":"IF('TT-2 Tax Memo Purchases'!L44 <> \"\", 'TT-2 Tax Memo Purchases'!L44, 0)","v":0},{"$f":"IF('TT-2 Tax Memo Purchases'!M44 <> \"\", 'TT-2 Tax Memo Purchases'!M44, 0)","v":0},{"$f":"IF('TT-2 Tax Memo Purchases'!N44 <> \"\", 'TT-2 Tax Memo Purchases'!N44, 0)","v":0},{"$f":"IF('TT-2 Tax Memo Purchases'!O44 <> \"\", 'TT-2 Tax Memo Purchases'!O44, 0)","v":0},{"$f":"IF('TT-2 Tax Memo Purchases'!P44 = \"Product ordered and in transit\", \"Product ordered and in transit\", IF('TT-2 Tax Memo Purchases'!P44 = \"Product lost in transit\", \"Product lost in transit\", IF('TT-2 Tax Memo Purchases'!P44 = \"Product back ordered / shorted\", \"Product back ordered/shorted\", IF('TT-2 Tax Memo Purchases'!P44 = \"Product returned\", \"Product returned\", IF('TT-2 Tax Memo Purchases'!P44 = \"Other\", \"Other\", \"\")))))","v":""}]
[{"$f":"IF('TT-2 Tax Memo Purchases'!A45 <> 0, 'TT-2 Tax Memo Purchases'!A45, \"\")","v":""},{"$f":"IF('TT-2 Tax Memo Purchases'!B45 <> 0, 'TT-2 Tax Memo Purchases'!B45, \"\")","v":""},{"$f":"IF('TT-2 Tax Memo Purchases'!C45 <> 0, 'TT-2 Tax Memo Purchases'!C45, \"\")","v":""},{"$f":"IF('TT-2 Tax Memo Purchases'!D45 <> \"\", 'TT-2 Tax Memo Purchases'!D45, 0)","v":0},{"$f":"IF('TT-2 Tax Memo Purchases'!E45 <> \"\", 'TT-2 Tax Memo Purchases'!E45, 0)","v":0},{"$f":"IF('TT-2 Tax Memo Purchases'!F45 <> \"\", 'TT-2 Tax Memo Purchases'!F45, 0)","v":0},{"$f":"IF('TT-2 Tax Memo Purchases'!G45 <> \"\", 'TT-2 Tax Memo Purchases'!G45, 0)","v":0},{"$f":"IF('TT-2 Tax Memo Purchases'!H45 <> \"\", 'TT-2 Tax Memo Purchases'!H45, 0)","v":0},{"$f":"IF('TT-2 Tax Memo Purchases'!I45 <> \"\", 'TT-2 Tax Memo Purchases'!I45, 0)","v":0},{"$f":"IF('TT-2 Tax Memo Purchases'!J45 <> \"\", 'TT-2 Tax Memo Purchases'!J45, 0)","v":0},{"$f":"IF('TT-2 Tax Memo Purchases'!K45 <> \"\", 'TT-2 Tax Memo Purchases'!K45, 0)","v":0},{"$f":"IF('TT-2 Tax Memo Purchases'!L45 <> \"\", 'TT-2 Tax Memo Purchases'!L45, 0)","v":0},{"$f":"IF('TT-2 Tax Memo Purchases'!M45 <> \"\", 'TT-2 Tax Memo Purchases'!M45, 0)","v":0},{"$f":"IF('TT-2 Tax Memo Purchases'!N45 <> \"\", 'TT-2 Tax Memo Purchases'!N45, 0)","v":0},{"$f":"IF('TT-2 Tax Memo Purchases'!O45 <> \"\", 'TT-2 Tax Memo Purchases'!O45, 0)","v":0},{"$f":"IF('TT-2 Tax Memo Purchases'!P45 = \"Product ordered and in transit\", \"Product ordered and in transit\", IF('TT-2 Tax Memo Purchases'!P45 = \"Product lost in transit\", \"Product lost in transit\", IF('TT-2 Tax Memo Purchases'!P45 = \"Product back ordered / shorted\", \"Product back ordered/shorted\", IF('TT-2 Tax Memo Purchases'!P45 = \"Product returned\", \"Product returned\", IF('TT-2 Tax Memo Purchases'!P45 = \"Other\", \"Other\", \"\")))))","v":""}]
[{"$f":"IF('TT-2 Tax Memo Purchases'!A46 <> 0, 'TT-2 Tax Memo Purchases'!A46, \"\")","v":""},{"$f":"IF('TT-2 Tax Memo Purchases'!B46 <> 0, 'TT-2 Tax Memo Purchases'!B46, \"\")","v":""},{"$f":"IF('TT-2 Tax Memo Purchases'!C46 <> 0, 'TT-2 Tax Memo Purchases'!C46, \"\")","v":""},{"$f":"IF('TT-2 Tax Memo Purchases'!D46 <> \"\", 'TT-2 Tax Memo Purchases'!D46, 0)","v":0},{"$f":"IF('TT-2 Tax Memo Purchases'!E46 <> \"\", 'TT-2 Tax Memo Purchases'!E46, 0)","v":0},{"$f":"IF('TT-2 Tax Memo Purchases'!F46 <> \"\", 'TT-2 Tax Memo Purchases'!F46, 0)","v":0},{"$f":"IF('TT-2 Tax Memo Purchases'!G46 <> \"\", 'TT-2 Tax Memo Purchases'!G46, 0)","v":0},{"$f":"IF('TT-2 Tax Memo Purchases'!H46 <> \"\", 'TT-2 Tax Memo Purchases'!H46, 0)","v":0},{"$f":"IF('TT-2 Tax Memo Purchases'!I46 <> \"\", 'TT-2 Tax Memo Purchases'!I46, 0)","v":0},{"$f":"IF('TT-2 Tax Memo Purchases'!J46 <> \"\", 'TT-2 Tax Memo Purchases'!J46, 0)","v":0},{"$f":"IF('TT-2 Tax Memo Purchases'!K46 <> \"\", 'TT-2 Tax Memo Purchases'!K46, 0)","v":0},{"$f":"IF('TT-2 Tax Memo Purchases'!L46 <> \"\", 'TT-2 Tax Memo Purchases'!L46, 0)","v":0},{"$f":"IF('TT-2 Tax Memo Purchases'!M46 <> \"\", 'TT-2 Tax Memo Purchases'!M46, 0)","v":0},{"$f":"IF('TT-2 Tax Memo Purchases'!N46 <> \"\", 'TT-2 Tax Memo Purchases'!N46, 0)","v":0},{"$f":"IF('TT-2 Tax Memo Purchases'!O46 <> \"\", 'TT-2 Tax Memo Purchases'!O46, 0)","v":0},{"$f":"IF('TT-2 Tax Memo Purchases'!P46 = \"Product ordered and in transit\", \"Product ordered and in transit\", IF('TT-2 Tax Memo Purchases'!P46 = \"Product lost in transit\", \"Product lost in transit\", IF('TT-2 Tax Memo Purchases'!P46 = \"Product back ordered / shorted\", \"Product back ordered/shorted\", IF('TT-2 Tax Memo Purchases'!P46 = \"Product returned\", \"Product returned\", IF('TT-2 Tax Memo Purchases'!P46 = \"Other\", \"Other\", \"\")))))","v":""}]
[{"$f":"IF('TT-2 Tax Memo Purchases'!A47 <> 0, 'TT-2 Tax Memo Purchases'!A47, \"\")","v":""},{"$f":"IF('TT-2 Tax Memo Purchases'!B47 <> 0, 'TT-2 Tax Memo Purchases'!B47, \"\")","v":""},{"$f":"IF('TT-2 Tax Memo Purchases'!C47 <> 0, 'TT-2 Tax Memo Purchases'!C47, \"\")","v":""},{"$f":"IF('TT-2 Tax Memo Purchases'!D47 <> \"\", 'TT-2 Tax Memo Purchases'!D47, 0)","v":0},{"$f":"IF('TT-2 Tax Memo Purchases'!E47 <> \"\", 'TT-2 Tax Memo Purchases'!E47, 0)","v":0},{"$f":"IF('TT-2 Tax Memo Purchases'!F47 <> \"\", 'TT-2 Tax Memo Purchases'!F47, 0)","v":0},{"$f":"IF('TT-2 Tax Memo Purchases'!G47 <> \"\", 'TT-2 Tax Memo Purchases'!G47, 0)","v":0},{"$f":"IF('TT-2 Tax Memo Purchases'!H47 <> \"\", 'TT-2 Tax Memo Purchases'!H47, 0)","v":0},{"$f":"IF('TT-2 Tax Memo Purchases'!I47 <> \"\", 'TT-2 Tax Memo Purchases'!I47, 0)","v":0},{"$f":"IF('TT-2 Tax Memo Purchases'!J47 <> \"\", 'TT-2 Tax Memo Purchases'!J47, 0)","v":0},{"$f":"IF('TT-2 Tax Memo Purchases'!K47 <> \"\", 'TT-2 Tax Memo Purchases'!K47, 0)","v":0},{"$f":"IF('TT-2 Tax Memo Purchases'!L47 <> \"\", 'TT-2 Tax Memo Purchases'!L47, 0)","v":0},{"$f":"IF('TT-2 Tax Memo Purchases'!M47 <> \"\", 'TT-2 Tax Memo Purchases'!M47, 0)","v":0},{"$f":"IF('TT-2 Tax Memo Purchases'!N47 <> \"\", 'TT-2 Tax Memo Purchases'!N47, 0)","v":0},{"$f":"IF('TT-2 Tax Memo Purchases'!O47 <> \"\", 'TT-2 Tax Memo Purchases'!O47, 0)","v":0},{"$f":"IF('TT-2 Tax Memo Purchases'!P47 = \"Product ordered and in transit\", \"Product ordered and in transit\", IF('TT-2 Tax Memo Purchases'!P47 = \"Product lost in transit\", \"Product lost in transit\", IF('TT-2 Tax Memo Purchases'!P47 = \"Product back ordered / shorted\", \"Product back ordered/shorted\", IF('TT-2 Tax Memo Purchases'!P47 = \"Product returned\", \"Product returned\", IF('TT-2 Tax Memo Purchases'!P47 = \"Other\", \"Other\", \"\")))))","v":""}]
[{"$f":"IF('TT-2 Tax Memo Purchases'!A48 <> 0, 'TT-2 Tax Memo Purchases'!A48, \"\")","v":""},{"$f":"IF('TT-2 Tax Memo Purchases'!B48 <> 0, 'TT-2 Tax Memo Purchases'!B48, \"\")","v":""},{"$f":"IF('TT-2 Tax Memo Purchases'!C48 <> 0, 'TT-2 Tax Memo Purchases'!C48, \"\")","v":""},{"$f":"IF('TT-2 Tax Memo Purchases'!D48 <> \"\", 'TT-2 Tax Memo Purchases'!D48, 0)","v":0},{"$f":"IF('TT-2 Tax Memo Purchases'!E48 <> \"\", 'TT-2 Tax Memo Purchases'!E48, 0)","v":0},{"$f":"IF('TT-2 Tax Memo Purchases'!F48 <> \"\", 'TT-2 Tax Memo Purchases'!F48, 0)","v":0},{"$f":"IF('TT-2 Tax Memo Purchases'!G48 <> \"\", 'TT-2 Tax Memo Purchases'!G48, 0)","v":0},{"$f":"IF('TT-2 Tax Memo Purchases'!H48 <> \"\", 'TT-2 Tax Memo Purchases'!H48, 0)","v":0},{"$f":"IF('TT-2 Tax Memo Purchases'!I48 <> \"\", 'TT-2 Tax Memo Purchases'!I48, 0)","v":0},{"$f":"IF('TT-2 Tax Memo Purchases'!J48 <> \"\", 'TT-2 Tax Memo Purchases'!J48, 0)","v":0},{"$f":"IF('TT-2 Tax Memo Purchases'!K48 <> \"\", 'TT-2 Tax Memo Purchases'!K48, 0)","v":0},{"$f":"IF('TT-2 Tax Memo Purchases'!L48 <> \"\", 'TT-2 Tax Memo Purchases'!L48, 0)","v":0},{"$f":"IF('TT-2 Tax Memo Purchases'!M48 <> \"\", 'TT-2 Tax Memo Purchases'!M48, 0)","v":0},{"$f":"IF('TT-2 Tax Memo Purchases'!N48 <> \"\", 'TT-2 Tax Memo Purchases'!N48, 0)","v":0},{"$f":"IF('TT-2 Tax Memo Purchases'!O48 <> \"\", 'TT-2 Tax Memo Purchases'!O48, 0)","v":0},{"$f":"IF('TT-2 Tax Memo Purchases'!P48 = \"Product ordered and in transit\", \"Product ordered and in transit\", IF('TT-2 Tax Memo Purchases'!P48 = \"Product lost in transit\", \"Product lost in transit\", IF('TT-2 Tax Memo Purchases'!P48 = \"Product back ordered / shorted\", \"Product back ordered/shorted\", IF('TT-2 Tax Memo Purchases'!P48 = \"Product returned\", \"Product returned\", IF('TT-2 Tax Memo Purchases'!P48 = \"Other\", \"Other\", \"\")))))","v":""}]
[{"$f":"IF('TT-2 Tax Memo Purchases'!A49 <> 0, 'TT-2 Tax Memo Purchases'!A49, \"\")","v":""},{"$f":"IF('TT-2 Tax Memo Purchases'!B49 <> 0, 'TT-2 Tax Memo Purchases'!B49, \"\")","v":""},{"$f":"IF('TT-2 Tax Memo Purchases'!C49 <> 0, 'TT-2 Tax Memo Purchases'!C49, \"\")","v":""},{"$f":"IF('TT-2 Tax Memo Purchases'!D49 <> \"\", 'TT-2 Tax Memo Purchases'!D49, 0)","v":0},{"$f":"IF('TT-2 Tax Memo Purchases'!E49 <> \"\", 'TT-2 Tax Memo Purchases'!E49, 0)","v":0},{"$f":"IF('TT-2 Tax Memo Purchases'!F49 <> \"\", 'TT-2 Tax Memo Purchases'!F49, 0)","v":0},{"$f":"IF('TT-2 Tax Memo Purchases'!G49 <> \"\", 'TT-2 Tax Memo Purchases'!G49, 0)","v":0},{"$f":"IF('TT-2 Tax Memo Purchases'!H49 <> \"\", 'TT-2 Tax Memo Purchases'!H49, 0)","v":0},{"$f":"IF('TT-2 Tax Memo Purchases'!I49 <> \"\", 'TT-2 Tax Memo Purchases'!I49, 0)","v":0},{"$f":"IF('TT-2 Tax Memo Purchases'!J49 <> \"\", 'TT-2 Tax Memo Purchases'!J49, 0)","v":0},{"$f":"IF('TT-2 Tax Memo Purchases'!K49 <> \"\", 'TT-2 Tax Memo Purchases'!K49, 0)","v":0},{"$f":"IF('TT-2 Tax Memo Purchases'!L49 <> \"\", 'TT-2 Tax Memo Purchases'!L49, 0)","v":0},{"$f":"IF('TT-2 Tax Memo Purchases'!M49 <> \"\", 'TT-2 Tax Memo Purchases'!M49, 0)","v":0},{"$f":"IF('TT-2 Tax Memo Purchases'!N49 <> \"\", 'TT-2 Tax Memo Purchases'!N49, 0)","v":0},{"$f":"IF('TT-2 Tax Memo Purchases'!O49 <> \"\", 'TT-2 Tax Memo Purchases'!O49, 0)","v":0},{"$f":"IF('TT-2 Tax Memo Purchases'!P49 = \"Product ordered and in transit\", \"Product ordered and in transit\", IF('TT-2 Tax Memo Purchases'!P49 = \"Product lost in transit\", \"Product lost in transit\", IF('TT-2 Tax Memo Purchases'!P49 = \"Product back ordered / shorted\", \"Product back ordered/shorted\", IF('TT-2 Tax Memo Purchases'!P49 = \"Product returned\", \"Product returned\", IF('TT-2 Tax Memo Purchases'!P49 = \"Other\", \"Other\", \"\")))))","v":""}]
[{"$f":"IF('TT-2 Tax Memo Purchases'!A50 <> 0, 'TT-2 Tax Memo Purchases'!A50, \"\")","v":""},{"$f":"IF('TT-2 Tax Memo Purchases'!B50 <> 0, 'TT-2 Tax Memo Purchases'!B50, \"\")","v":""},{"$f":"IF('TT-2 Tax Memo Purchases'!C50 <> 0, 'TT-2 Tax Memo Purchases'!C50, \"\")","v":""},{"$f":"IF('TT-2 Tax Memo Purchases'!D50 <> \"\", 'TT-2 Tax Memo Purchases'!D50, 0)","v":0},{"$f":"IF('TT-2 Tax Memo Purchases'!E50 <> \"\", 'TT-2 Tax Memo Purchases'!E50, 0)","v":0},{"$f":"IF('TT-2 Tax Memo Purchases'!F50 <> \"\", 'TT-2 Tax Memo Purchases'!F50, 0)","v":0},{"$f":"IF('TT-2 Tax Memo Purchases'!G50 <> \"\", 'TT-2 Tax Memo Purchases'!G50, 0)","v":0},{"$f":"IF('TT-2 Tax Memo Purchases'!H50 <> \"\", 'TT-2 Tax Memo Purchases'!H50, 0)","v":0},{"$f":"IF('TT-2 Tax Memo Purchases'!I50 <> \"\", 'TT-2 Tax Memo Purchases'!I50, 0)","v":0},{"$f":"IF('TT-2 Tax Memo Purchases'!J50 <> \"\", 'TT-2 Tax Memo Purchases'!J50, 0)","v":0},{"$f":"IF('TT-2 Tax Memo Purchases'!K50 <> \"\", 'TT-2 Tax Memo Purchases'!K50, 0)","v":0},{"$f":"IF('TT-2 Tax Memo Purchases'!L50 <> \"\", 'TT-2 Tax Memo Purchases'!L50, 0)","v":0},{"$f":"IF('TT-2 Tax Memo Purchases'!M50 <> \"\", 'TT-2 Tax Memo Purchases'!M50, 0)","v":0},{"$f":"IF('TT-2 Tax Memo Purchases'!N50 <> \"\", 'TT-2 Tax Memo Purchases'!N50, 0)","v":0},{"$f":"IF('TT-2 Tax Memo Purchases'!O50 <> \"\", 'TT-2 Tax Memo Purchases'!O50, 0)","v":0},{"$f":"IF('TT-2 Tax Memo Purchases'!P50 = \"Product ordered and in transit\", \"Product ordered and in transit\", IF('TT-2 Tax Memo Purchases'!P50 = \"Product lost in transit\", \"Product lost in transit\", IF('TT-2 Tax Memo Purchases'!P50 = \"Product back ordered / shorted\", \"Product back ordered/shorted\", IF('TT-2 Tax Memo Purchases'!P50 = \"Product returned\", \"Product returned\", IF('TT-2 Tax Memo Purchases'!P50 = \"Other\", \"Other\", \"\")))))","v":""}]
[{"$f":"IF('TT-2 Tax Memo Purchases'!A51 <> 0, 'TT-2 Tax Memo Purchases'!A51, \"\")","v":""},{"$f":"IF('TT-2 Tax Memo Purchases'!B51 <> 0, 'TT-2 Tax Memo Purchases'!B51, \"\")","v":""},{"$f":"IF('TT-2 Tax Memo Purchases'!C51 <> 0, 'TT-2 Tax Memo Purchases'!C51, \"\")","v":""},{"$f":"IF('TT-2 Tax Memo Purchases'!D51 <> \"\", 'TT-2 Tax Memo Purchases'!D51, 0)","v":0},{"$f":"IF('TT-2 Tax Memo Purchases'!E51 <> \"\", 'TT-2 Tax Memo Purchases'!E51, 0)","v":0},{"$f":"IF('TT-2 Tax Memo Purchases'!F51 <> \"\", 'TT-2 Tax Memo Purchases'!F51, 0)","v":0},{"$f":"IF('TT-2 Tax Memo Purchases'!G51 <> \"\", 'TT-2 Tax Memo Purchases'!G51, 0)","v":0},{"$f":"IF('TT-2 Tax Memo Purchases'!H51 <> \"\", 'TT-2 Tax Memo Purchases'!H51, 0)","v":0},{"$f":"IF('TT-2 Tax Memo Purchases'!I51 <> \"\", 'TT-2 Tax Memo Purchases'!I51, 0)","v":0},{"$f":"IF('TT-2 Tax Memo Purchases'!J51 <> \"\", 'TT-2 Tax Memo Purchases'!J51, 0)","v":0},{"$f":"IF('TT-2 Tax Memo Purchases'!K51 <> \"\", 'TT-2 Tax Memo Purchases'!K51, 0)","v":0},{"$f":"IF('TT-2 Tax Memo Purchases'!L51 <> \"\", 'TT-2 Tax Memo Purchases'!L51, 0)","v":0},{"$f":"IF('TT-2 Tax Memo Purchases'!M51 <> \"\", 'TT-2 Tax Memo Purchases'!M51, 0)","v":0},{"$f":"IF('TT-2 Tax Memo Purchases'!N51 <> \"\", 'TT-2 Tax Memo Purchases'!N51, 0)","v":0},{"$f":"IF('TT-2 Tax Memo Purchases'!O51 <> \"\", 'TT-2 Tax Memo Purchases'!O51, 0)","v":0},{"$f":"IF('TT-2 Tax Memo Purchases'!P51 = \"Product ordered and in transit\", \"Product ordered and in transit\", IF('TT-2 Tax Memo Purchases'!P51 = \"Product lost in transit\", \"Product lost in transit\", IF('TT-2 Tax Memo Purchases'!P51 = \"Product back ordered / shorted\", \"Product back ordered/shorted\", IF('TT-2 Tax Memo Purchases'!P51 = \"Product returned\", \"Product returned\", IF('TT-2 Tax Memo Purchases'!P51 = \"Other\", \"Other\", \"\")))))","v":""}]
[{"$f":"IF('TT-2 Tax Memo Purchases'!A52 <> 0, 'TT-2 Tax Memo Purchases'!A52, \"\")","v":""},{"$f":"IF('TT-2 Tax Memo Purchases'!B52 <> 0, 'TT-2 Tax Memo Purchases'!B52, \"\")","v":""},{"$f":"IF('TT-2 Tax Memo Purchases'!C52 <> 0, 'TT-2 Tax Memo Purchases'!C52, \"\")","v":""},{"$f":"IF('TT-2 Tax Memo Purchases'!D52 <> \"\", 'TT-2 Tax Memo Purchases'!D52, 0)","v":0},{"$f":"IF('TT-2 Tax Memo Purchases'!E52 <> \"\", 'TT-2 Tax Memo Purchases'!E52, 0)","v":0},{"$f":"IF('TT-2 Tax Memo Purchases'!F52 <> \"\", 'TT-2 Tax Memo Purchases'!F52, 0)","v":0},{"$f":"IF('TT-2 Tax Memo Purchases'!G52 <> \"\", 'TT-2 Tax Memo Purchases'!G52, 0)","v":0},{"$f":"IF('TT-2 Tax Memo Purchases'!H52 <> \"\", 'TT-2 Tax Memo Purchases'!H52, 0)","v":0},{"$f":"IF('TT-2 Tax Memo Purchases'!I52 <> \"\", 'TT-2 Tax Memo Purchases'!I52, 0)","v":0},{"$f":"IF('TT-2 Tax Memo Purchases'!J52 <> \"\", 'TT-2 Tax Memo Purchases'!J52, 0)","v":0},{"$f":"IF('TT-2 Tax Memo Purchases'!K52 <> \"\", 'TT-2 Tax Memo Purchases'!K52, 0)","v":0},{"$f":"IF('TT-2 Tax Memo Purchases'!L52 <> \"\", 'TT-2 Tax Memo Purchases'!L52, 0)","v":0},{"$f":"IF('TT-2 Tax Memo Purchases'!M52 <> \"\", 'TT-2 Tax Memo Purchases'!M52, 0)","v":0},{"$f":"IF('TT-2 Tax Memo Purchases'!N52 <> \"\", 'TT-2 Tax Memo Purchases'!N52, 0)","v":0},{"$f":"IF('TT-2 Tax Memo Purchases'!O52 <> \"\", 'TT-2 Tax Memo Purchases'!O52, 0)","v":0},{"$f":"IF('TT-2 Tax Memo Purchases'!P52 = \"Product ordered and in transit\", \"Product ordered and in transit\", IF('TT-2 Tax Memo Purchases'!P52 = \"Product lost in transit\", \"Product lost in transit\", IF('TT-2 Tax Memo Purchases'!P52 = \"Product back ordered / shorted\", \"Product back ordered/shorted\", IF('TT-2 Tax Memo Purchases'!P52 = \"Product returned\", \"Product returned\", IF('TT-2 Tax Memo Purchases'!P52 = \"Other\", \"Other\", \"\")))))","v":""}]
[{"$f":"IF('TT-2 Tax Memo Purchases'!A53 <> 0, 'TT-2 Tax Memo Purchases'!A53, \"\")","v":""},{"$f":"IF('TT-2 Tax Memo Purchases'!B53 <> 0, 'TT-2 Tax Memo Purchases'!B53, \"\")","v":""},{"$f":"IF('TT-2 Tax Memo Purchases'!C53 <> 0, 'TT-2 Tax Memo Purchases'!C53, \"\")","v":""},{"$f":"IF('TT-2 Tax Memo Purchases'!D53 <> \"\", 'TT-2 Tax Memo Purchases'!D53, 0)","v":0},{"$f":"IF('TT-2 Tax Memo Purchases'!E53 <> \"\", 'TT-2 Tax Memo Purchases'!E53, 0)","v":0},{"$f":"IF('TT-2 Tax Memo Purchases'!F53 <> \"\", 'TT-2 Tax Memo Purchases'!F53, 0)","v":0},{"$f":"IF('TT-2 Tax Memo Purchases'!G53 <> \"\", 'TT-2 Tax Memo Purchases'!G53, 0)","v":0},{"$f":"IF('TT-2 Tax Memo Purchases'!H53 <> \"\", 'TT-2 Tax Memo Purchases'!H53, 0)","v":0},{"$f":"IF('TT-2 Tax Memo Purchases'!I53 <> \"\", 'TT-2 Tax Memo Purchases'!I53, 0)","v":0},{"$f":"IF('TT-2 Tax Memo Purchases'!J53 <> \"\", 'TT-2 Tax Memo Purchases'!J53, 0)","v":0},{"$f":"IF('TT-2 Tax Memo Purchases'!K53 <> \"\", 'TT-2 Tax Memo Purchases'!K53, 0)","v":0},{"$f":"IF('TT-2 Tax Memo Purchases'!L53 <> \"\", 'TT-2 Tax Memo Purchases'!L53, 0)","v":0},{"$f":"IF('TT-2 Tax Memo Purchases'!M53 <> \"\", 'TT-2 Tax Memo Purchases'!M53, 0)","v":0},{"$f":"IF('TT-2 Tax Memo Purchases'!N53 <> \"\", 'TT-2 Tax Memo Purchases'!N53, 0)","v":0},{"$f":"IF('TT-2 Tax Memo Purchases'!O53 <> \"\", 'TT-2 Tax Memo Purchases'!O53, 0)","v":0},{"$f":"IF('TT-2 Tax Memo Purchases'!P53 = \"Product ordered and in transit\", \"Product ordered and in transit\", IF('TT-2 Tax Memo Purchases'!P53 = \"Product lost in transit\", \"Product lost in transit\", IF('TT-2 Tax Memo Purchases'!P53 = \"Product back ordered / shorted\", \"Product back ordered/shorted\", IF('TT-2 Tax Memo Purchases'!P53 = \"Product returned\", \"Product returned\", IF('TT-2 Tax Memo Purchases'!P53 = \"Other\", \"Other\", \"\")))))","v":""}]
[{"$f":"IF('TT-2 Tax Memo Purchases'!A54 <> 0, 'TT-2 Tax Memo Purchases'!A54, \"\")","v":""},{"$f":"IF('TT-2 Tax Memo Purchases'!B54 <> 0, 'TT-2 Tax Memo Purchases'!B54, \"\")","v":""},{"$f":"IF('TT-2 Tax Memo Purchases'!C54 <> 0, 'TT-2 Tax Memo Purchases'!C54, \"\")","v":""},{"$f":"IF('TT-2 Tax Memo Purchases'!D54 <> \"\", 'TT-2 Tax Memo Purchases'!D54, 0)","v":0},{"$f":"IF('TT-2 Tax Memo Purchases'!E54 <> \"\", 'TT-2 Tax Memo Purchases'!E54, 0)","v":0},{"$f":"IF('TT-2 Tax Memo Purchases'!F54 <> \"\", 'TT-2 Tax Memo Purchases'!F54, 0)","v":0},{"$f":"IF('TT-2 Tax Memo Purchases'!G54 <> \"\", 'TT-2 Tax Memo Purchases'!G54, 0)","v":0},{"$f":"IF('TT-2 Tax Memo Purchases'!H54 <> \"\", 'TT-2 Tax Memo Purchases'!H54, 0)","v":0},{"$f":"IF('TT-2 Tax Memo Purchases'!I54 <> \"\", 'TT-2 Tax Memo Purchases'!I54, 0)","v":0},{"$f":"IF('TT-2 Tax Memo Purchases'!J54 <> \"\", 'TT-2 Tax Memo Purchases'!J54, 0)","v":0},{"$f":"IF('TT-2 Tax Memo Purchases'!K54 <> \"\", 'TT-2 Tax Memo Purchases'!K54, 0)","v":0},{"$f":"IF('TT-2 Tax Memo Purchases'!L54 <> \"\", 'TT-2 Tax Memo Purchases'!L54, 0)","v":0},{"$f":"IF('TT-2 Tax Memo Purchases'!M54 <> \"\", 'TT-2 Tax Memo Purchases'!M54, 0)","v":0},{"$f":"IF('TT-2 Tax Memo Purchases'!N54 <> \"\", 'TT-2 Tax Memo Purchases'!N54, 0)","v":0},{"$f":"IF('TT-2 Tax Memo Purchases'!O54 <> \"\", 'TT-2 Tax Memo Purchases'!O54, 0)","v":0},{"$f":"IF('TT-2 Tax Memo Purchases'!P54 = \"Product ordered and in transit\", \"Product ordered and in transit\", IF('TT-2 Tax Memo Purchases'!P54 = \"Product lost in transit\", \"Product lost in transit\", IF('TT-2 Tax Memo Purchases'!P54 = \"Product back ordered / shorted\", \"Product back ordered/shorted\", IF('TT-2 Tax Memo Purchases'!P54 = \"Product returned\", \"Product returned\", IF('TT-2 Tax Memo Purchases'!P54 = \"Other\", \"Other\", \"\")))))","v":""}]
[{"$f":"IF('TT-2 Tax Memo Purchases'!A55 <> 0, 'TT-2 Tax Memo Purchases'!A55, \"\")","v":""},{"$f":"IF('TT-2 Tax Memo Purchases'!B55 <> 0, 'TT-2 Tax Memo Purchases'!B55, \"\")","v":""},{"$f":"IF('TT-2 Tax Memo Purchases'!C55 <> 0, 'TT-2 Tax Memo Purchases'!C55, \"\")","v":""},{"$f":"IF('TT-2 Tax Memo Purchases'!D55 <> \"\", 'TT-2 Tax Memo Purchases'!D55, 0)","v":0},{"$f":"IF('TT-2 Tax Memo Purchases'!E55 <> \"\", 'TT-2 Tax Memo Purchases'!E55, 0)","v":0},{"$f":"IF('TT-2 Tax Memo Purchases'!F55 <> \"\", 'TT-2 Tax Memo Purchases'!F55, 0)","v":0},{"$f":"IF('TT-2 Tax Memo Purchases'!G55 <> \"\", 'TT-2 Tax Memo Purchases'!G55, 0)","v":0},{"$f":"IF('TT-2 Tax Memo Purchases'!H55 <> \"\", 'TT-2 Tax Memo Purchases'!H55, 0)","v":0},{"$f":"IF('TT-2 Tax Memo Purchases'!I55 <> \"\", 'TT-2 Tax Memo Purchases'!I55, 0)","v":0},{"$f":"IF('TT-2 Tax Memo Purchases'!J55 <> \"\", 'TT-2 Tax Memo Purchases'!J55, 0)","v":0},{"$f":"IF('TT-2 Tax Memo Purchases'!K55 <> \"\", 'TT-2 Tax Memo Purchases'!K55, 0)","v":0},{"$f":"IF('TT-2 Tax Memo Purchases'!L55 <> \"\", 'TT-2 Tax Memo Purchases'!L55, 0)","v":0},{"$f":"IF('TT-2 Tax Memo Purchases'!M55 <> \"\", 'TT-2 Tax Memo Purchases'!M55, 0)","v":0},{"$f":"IF('TT-2 Tax Memo Purchases'!N55 <> \"\", 'TT-2 Tax Memo Purchases'!N55, 0)","v":0},{"$f":"IF('TT-2 Tax Memo Purchases'!O55 <> \"\", 'TT-2 Tax Memo Purchases'!O55, 0)","v":0},{"$f":"IF('TT-2 Tax Memo Purchases'!P55 = \"Product ordered and in transit\", \"Product ordered and in transit\", IF('TT-2 Tax Memo Purchases'!P55 = \"Product lost in transit\", \"Product lost in transit\", IF('TT-2 Tax Memo Purchases'!P55 = \"Product back ordered / shorted\", \"Product back ordered/shorted\", IF('TT-2 Tax Memo Purchases'!P55 = \"Product returned\", \"Product returned\", IF('TT-2 Tax Memo Purchases'!P55 = \"Other\", \"Other\", \"\")))))","v":""}]
[{"$f":"IF('TT-2 Tax Memo Purchases'!A56 <> 0, 'TT-2 Tax Memo Purchases'!A56, \"\")","v":""},{"$f":"IF('TT-2 Tax Memo Purchases'!B56 <> 0, 'TT-2 Tax Memo Purchases'!B56, \"\")","v":""},{"$f":"IF('TT-2 Tax Memo Purchases'!C56 <> 0, 'TT-2 Tax Memo Purchases'!C56, \"\")","v":""},{"$f":"IF('TT-2 Tax Memo Purchases'!D56 <> \"\", 'TT-2 Tax Memo Purchases'!D56, 0)","v":0},{"$f":"IF('TT-2 Tax Memo Purchases'!E56 <> \"\", 'TT-2 Tax Memo Purchases'!E56, 0)","v":0},{"$f":"IF('TT-2 Tax Memo Purchases'!F56 <> \"\", 'TT-2 Tax Memo Purchases'!F56, 0)","v":0},{"$f":"IF('TT-2 Tax Memo Purchases'!G56 <> \"\", 'TT-2 Tax Memo Purchases'!G56, 0)","v":0},{"$f":"IF('TT-2 Tax Memo Purchases'!H56 <> \"\", 'TT-2 Tax Memo Purchases'!H56, 0)","v":0},{"$f":"IF('TT-2 Tax Memo Purchases'!I56 <> \"\", 'TT-2 Tax Memo Purchases'!I56, 0)","v":0},{"$f":"IF('TT-2 Tax Memo Purchases'!J56 <> \"\", 'TT-2 Tax Memo Purchases'!J56, 0)","v":0},{"$f":"IF('TT-2 Tax Memo Purchases'!K56 <> \"\", 'TT-2 Tax Memo Purchases'!K56, 0)","v":0},{"$f":"IF('TT-2 Tax Memo Purchases'!L56 <> \"\", 'TT-2 Tax Memo Purchases'!L56, 0)","v":0},{"$f":"IF('TT-2 Tax Memo Purchases'!M56 <> \"\", 'TT-2 Tax Memo Purchases'!M56, 0)","v":0},{"$f":"IF('TT-2 Tax Memo Purchases'!N56 <> \"\", 'TT-2 Tax Memo Purchases'!N56, 0)","v":0},{"$f":"IF('TT-2 Tax Memo Purchases'!O56 <> \"\", 'TT-2 Tax Memo Purchases'!O56, 0)","v":0},{"$f":"IF('TT-2 Tax Memo Purchases'!P56 = \"Product ordered and in transit\", \"Product ordered and in transit\", IF('TT-2 Tax Memo Purchases'!P56 = \"Product lost in transit\", \"Product lost in transit\", IF('TT-2 Tax Memo Purchases'!P56 = \"Product back ordered / shorted\", \"Product back ordered/shorted\", IF('TT-2 Tax Memo Purchases'!P56 = \"Product returned\", \"Product returned\", IF('TT-2 Tax Memo Purchases'!P56 = \"Other\", \"Other\", \"\")))))","v":""}]
[{"$f":"IF('TT-2 Tax Memo Purchases'!A57 <> 0, 'TT-2 Tax Memo Purchases'!A57, \"\")","v":""},{"$f":"IF('TT-2 Tax Memo Purchases'!B57 <> 0, 'TT-2 Tax Memo Purchases'!B57, \"\")","v":""},{"$f":"IF('TT-2 Tax Memo Purchases'!C57 <> 0, 'TT-2 Tax Memo Purchases'!C57, \"\")","v":""},{"$f":"IF('TT-2 Tax Memo Purchases'!D57 <> \"\", 'TT-2 Tax Memo Purchases'!D57, 0)","v":0},{"$f":"IF('TT-2 Tax Memo Purchases'!E57 <> \"\", 'TT-2 Tax Memo Purchases'!E57, 0)","v":0},{"$f":"IF('TT-2 Tax Memo Purchases'!F57 <> \"\", 'TT-2 Tax Memo Purchases'!F57, 0)","v":0},{"$f":"IF('TT-2 Tax Memo Purchases'!G57 <> \"\", 'TT-2 Tax Memo Purchases'!G57, 0)","v":0},{"$f":"IF('TT-2 Tax Memo Purchases'!H57 <> \"\", 'TT-2 Tax Memo Purchases'!H57, 0)","v":0},{"$f":"IF('TT-2 Tax Memo Purchases'!I57 <> \"\", 'TT-2 Tax Memo Purchases'!I57, 0)","v":0},{"$f":"IF('TT-2 Tax Memo Purchases'!J57 <> \"\", 'TT-2 Tax Memo Purchases'!J57, 0)","v":0},{"$f":"IF('TT-2 Tax Memo Purchases'!K57 <> \"\", 'TT-2 Tax Memo Purchases'!K57, 0)","v":0},{"$f":"IF('TT-2 Tax Memo Purchases'!L57 <> \"\", 'TT-2 Tax Memo Purchases'!L57, 0)","v":0},{"$f":"IF('TT-2 Tax Memo Purchases'!M57 <> \"\", 'TT-2 Tax Memo Purchases'!M57, 0)","v":0},{"$f":"IF('TT-2 Tax Memo Purchases'!N57 <> \"\", 'TT-2 Tax Memo Purchases'!N57, 0)","v":0},{"$f":"IF('TT-2 Tax Memo Purchases'!O57 <> \"\", 'TT-2 Tax Memo Purchases'!O57, 0)","v":0},{"$f":"IF('TT-2 Tax Memo Purchases'!P57 = \"Product ordered and in transit\", \"Product ordered and in transit\", IF('TT-2 Tax Memo Purchases'!P57 = \"Product lost in transit\", \"Product lost in transit\", IF('TT-2 Tax Memo Purchases'!P57 = \"Product back ordered / shorted\", \"Product back ordered/shorted\", IF('TT-2 Tax Memo Purchases'!P57 = \"Product returned\", \"Product returned\", IF('TT-2 Tax Memo Purchases'!P57 = \"Other\", \"Other\", \"\")))))","v":""}]
[{"$f":"IF('TT-2 Tax Memo Purchases'!A58 <> 0, 'TT-2 Tax Memo Purchases'!A58, \"\")","v":""},{"$f":"IF('TT-2 Tax Memo Purchases'!B58 <> 0, 'TT-2 Tax Memo Purchases'!B58, \"\")","v":""},{"$f":"IF('TT-2 Tax Memo Purchases'!C58 <> 0, 'TT-2 Tax Memo Purchases'!C58, \"\")","v":""},{"$f":"IF('TT-2 Tax Memo Purchases'!D58 <> \"\", 'TT-2 Tax Memo Purchases'!D58, 0)","v":0},{"$f":"IF('TT-2 Tax Memo Purchases'!E58 <> \"\", 'TT-2 Tax Memo Purchases'!E58, 0)","v":0},{"$f":"IF('TT-2 Tax Memo Purchases'!F58 <> \"\", 'TT-2 Tax Memo Purchases'!F58, 0)","v":0},{"$f":"IF('TT-2 Tax Memo Purchases'!G58 <> \"\", 'TT-2 Tax Memo Purchases'!G58, 0)","v":0},{"$f":"IF('TT-2 Tax Memo Purchases'!H58 <> \"\", 'TT-2 Tax Memo Purchases'!H58, 0)","v":0},{"$f":"IF('TT-2 Tax Memo Purchases'!I58 <> \"\", 'TT-2 Tax Memo Purchases'!I58, 0)","v":0},{"$f":"IF('TT-2 Tax Memo Purchases'!J58 <> \"\", 'TT-2 Tax Memo Purchases'!J58, 0)","v":0},{"$f":"IF('TT-2 Tax Memo Purchases'!K58 <> \"\", 'TT-2 Tax Memo Purchases'!K58, 0)","v":0},{"$f":"IF('TT-2 Tax Memo Purchases'!L58 <> \"\", 'TT-2 Tax Memo Purchases'!L58, 0)","v":0},{"$f":"IF('TT-2 Tax Memo Purchases'!M58 <> \"\", 'TT-2 Tax Memo Purchases'!M58, 0)","v":0},{"$f":"IF('TT-2 Tax Memo Purchases'!N58 <> \"\", 'TT-2 Tax Memo Purchases'!N58, 0)","v":0},{"$f":"IF('TT-2 Tax Memo Purchases'!O58 <> \"\", 'TT-2 Tax Memo Purchases'!O58, 0)","v":0},{"$f":"IF('TT-2 Tax Memo Purchases'!P58 = \"Product ordered and in transit\", \"Product ordered and in transit\", IF('TT-2 Tax Memo Purchases'!P58 = \"Product lost in transit\", \"Product lost in transit\", IF('TT-2 Tax Memo Purchases'!P58 = \"Product back ordered / shorted\", \"Product back ordered/shorted\", IF('TT-2 Tax Memo Purchases'!P58 = \"Product returned\", \"Product returned\", IF('TT-2 Tax Memo Purchases'!P58 = \"Other\", \"Other\", \"\")))))","v":""}]
[{"$f":"IF('TT-2 Tax Memo Purchases'!A59 <> 0, 'TT-2 Tax Memo Purchases'!A59, \"\")","v":""},{"$f":"IF('TT-2 Tax Memo Purchases'!B59 <> 0, 'TT-2 Tax Memo Purchases'!B59, \"\")","v":""},{"$f":"IF('TT-2 Tax Memo Purchases'!C59 <> 0, 'TT-2 Tax Memo Purchases'!C59, \"\")","v":""},{"$f":"IF('TT-2 Tax Memo Purchases'!D59 <> \"\", 'TT-2 Tax Memo Purchases'!D59, 0)","v":0},{"$f":"IF('TT-2 Tax Memo Purchases'!E59 <> \"\", 'TT-2 Tax Memo Purchases'!E59, 0)","v":0},{"$f":"IF('TT-2 Tax Memo Purchases'!F59 <> \"\", 'TT-2 Tax Memo Purchases'!F59, 0)","v":0},{"$f":"IF('TT-2 Tax Memo Purchases'!G59 <> \"\", 'TT-2 Tax Memo Purchases'!G59, 0)","v":0},{"$f":"IF('TT-2 Tax Memo Purchases'!H59 <> \"\", 'TT-2 Tax Memo Purchases'!H59, 0)","v":0},{"$f":"IF('TT-2 Tax Memo Purchases'!I59 <> \"\", 'TT-2 Tax Memo Purchases'!I59, 0)","v":0},{"$f":"IF('TT-2 Tax Memo Purchases'!J59 <> \"\", 'TT-2 Tax Memo Purchases'!J59, 0)","v":0},{"$f":"IF('TT-2 Tax Memo Purchases'!K59 <> \"\", 'TT-2 Tax Memo Purchases'!K59, 0)","v":0},{"$f":"IF('TT-2 Tax Memo Purchases'!L59 <> \"\", 'TT-2 Tax Memo Purchases'!L59, 0)","v":0},{"$f":"IF('TT-2 Tax Memo Purchases'!M59 <> \"\", 'TT-2 Tax Memo Purchases'!M59, 0)","v":0},{"$f":"IF('TT-2 Tax Memo Purchases'!N59 <> \"\", 'TT-2 Tax Memo Purchases'!N59, 0)","v":0},{"$f":"IF('TT-2 Tax Memo Purchases'!O59 <> \"\", 'TT-2 Tax Memo Purchases'!O59, 0)","v":0},{"$f":"IF('TT-2 Tax Memo Purchases'!P59 = \"Product ordered and in transit\", \"Product ordered and in transit\", IF('TT-2 Tax Memo Purchases'!P59 = \"Product lost in transit\", \"Product lost in transit\", IF('TT-2 Tax Memo Purchases'!P59 = \"Product back ordered / shorted\", \"Product back ordered/shorted\", IF('TT-2 Tax Memo Purchases'!P59 = \"Product returned\", \"Product returned\", IF('TT-2 Tax Memo Purchases'!P59 = \"Other\", \"Other\", \"\")))))","v":""}]
[{"$f":"IF('TT-2 Tax Memo Purchases'!A60 <> 0, 'TT-2 Tax Memo Purchases'!A60, \"\")","v":""},{"$f":"IF('TT-2 Tax Memo Purchases'!B60 <> 0, 'TT-2 Tax Memo Purchases'!B60, \"\")","v":""},{"$f":"IF('TT-2 Tax Memo Purchases'!C60 <> 0, 'TT-2 Tax Memo Purchases'!C60, \"\")","v":""},{"$f":"IF('TT-2 Tax Memo Purchases'!D60 <> \"\", 'TT-2 Tax Memo Purchases'!D60, 0)","v":0},{"$f":"IF('TT-2 Tax Memo Purchases'!E60 <> \"\", 'TT-2 Tax Memo Purchases'!E60, 0)","v":0},{"$f":"IF('TT-2 Tax Memo Purchases'!F60 <> \"\", 'TT-2 Tax Memo Purchases'!F60, 0)","v":0},{"$f":"IF('TT-2 Tax Memo Purchases'!G60 <> \"\", 'TT-2 Tax Memo Purchases'!G60, 0)","v":0},{"$f":"IF('TT-2 Tax Memo Purchases'!H60 <> \"\", 'TT-2 Tax Memo Purchases'!H60, 0)","v":0},{"$f":"IF('TT-2 Tax Memo Purchases'!I60 <> \"\", 'TT-2 Tax Memo Purchases'!I60, 0)","v":0},{"$f":"IF('TT-2 Tax Memo Purchases'!J60 <> \"\", 'TT-2 Tax Memo Purchases'!J60, 0)","v":0},{"$f":"IF('TT-2 Tax Memo Purchases'!K60 <> \"\", 'TT-2 Tax Memo Purchases'!K60, 0)","v":0},{"$f":"IF('TT-2 Tax Memo Purchases'!L60 <> \"\", 'TT-2 Tax Memo Purchases'!L60, 0)","v":0},{"$f":"IF('TT-2 Tax Memo Purchases'!M60 <> \"\", 'TT-2 Tax Memo Purchases'!M60, 0)","v":0},{"$f":"IF('TT-2 Tax Memo Purchases'!N60 <> \"\", 'TT-2 Tax Memo Purchases'!N60, 0)","v":0},{"$f":"IF('TT-2 Tax Memo Purchases'!O60 <> \"\", 'TT-2 Tax Memo Purchases'!O60, 0)","v":0},{"$f":"IF('TT-2 Tax Memo Purchases'!P60 = \"Product ordered and in transit\", \"Product ordered and in transit\", IF('TT-2 Tax Memo Purchases'!P60 = \"Product lost in transit\", \"Product lost in transit\", IF('TT-2 Tax Memo Purchases'!P60 = \"Product back ordered / shorted\", \"Product back ordered/shorted\", IF('TT-2 Tax Memo Purchases'!P60 = \"Product returned\", \"Product returned\", IF('TT-2 Tax Memo Purchases'!P60 = \"Other\", \"Other\", \"\")))))","v":""}]
[{"$f":"IF('TT-2 Tax Memo Purchases'!A61 <> 0, 'TT-2 Tax Memo Purchases'!A61, \"\")","v":""},{"$f":"IF('TT-2 Tax Memo Purchases'!B61 <> 0, 'TT-2 Tax Memo Purchases'!B61, \"\")","v":""},{"$f":"IF('TT-2 Tax Memo Purchases'!C61 <> 0, 'TT-2 Tax Memo Purchases'!C61, \"\")","v":""},{"$f":"IF('TT-2 Tax Memo Purchases'!D61 <> \"\", 'TT-2 Tax Memo Purchases'!D61, 0)","v":0},{"$f":"IF('TT-2 Tax Memo Purchases'!E61 <> \"\", 'TT-2 Tax Memo Purchases'!E61, 0)","v":0},{"$f":"IF('TT-2 Tax Memo Purchases'!F61 <> \"\", 'TT-2 Tax Memo Purchases'!F61, 0)","v":0},{"$f":"IF('TT-2 Tax Memo Purchases'!G61 <> \"\", 'TT-2 Tax Memo Purchases'!G61, 0)","v":0},{"$f":"IF('TT-2 Tax Memo Purchases'!H61 <> \"\", 'TT-2 Tax Memo Purchases'!H61, 0)","v":0},{"$f":"IF('TT-2 Tax Memo Purchases'!I61 <> \"\", 'TT-2 Tax Memo Purchases'!I61, 0)","v":0},{"$f":"IF('TT-2 Tax Memo Purchases'!J61 <> \"\", 'TT-2 Tax Memo Purchases'!J61, 0)","v":0},{"$f":"IF('TT-2 Tax Memo Purchases'!K61 <> \"\", 'TT-2 Tax Memo Purchases'!K61, 0)","v":0},{"$f":"IF('TT-2 Tax Memo Purchases'!L61 <> \"\", 'TT-2 Tax Memo Purchases'!L61, 0)","v":0},{"$f":"IF('TT-2 Tax Memo Purchases'!M61 <> \"\", 'TT-2 Tax Memo Purchases'!M61, 0)","v":0},{"$f":"IF('TT-2 Tax Memo Purchases'!N61 <> \"\", 'TT-2 Tax Memo Purchases'!N61, 0)","v":0},{"$f":"IF('TT-2 Tax Memo Purchases'!O61 <> \"\", 'TT-2 Tax Memo Purchases'!O61, 0)","v":0},{"$f":"IF('TT-2 Tax Memo Purchases'!P61 = \"Product ordered and in transit\", \"Product ordered and in transit\", IF('TT-2 Tax Memo Purchases'!P61 = \"Product lost in transit\", \"Product lost in transit\", IF('TT-2 Tax Memo Purchases'!P61 = \"Product back ordered / shorted\", \"Product back ordered/shorted\", IF('TT-2 Tax Memo Purchases'!P61 = \"Product returned\", \"Product returned\", IF('TT-2 Tax Memo Purchases'!P61 = \"Other\", \"Other\", \"\")))))","v":""}]
[{"$f":"IF('TT-2 Tax Memo Purchases'!A62 <> 0, 'TT-2 Tax Memo Purchases'!A62, \"\")","v":""},{"$f":"IF('TT-2 Tax Memo Purchases'!B62 <> 0, 'TT-2 Tax Memo Purchases'!B62, \"\")","v":""},{"$f":"IF('TT-2 Tax Memo Purchases'!C62 <> 0, 'TT-2 Tax Memo Purchases'!C62, \"\")","v":""},{"$f":"IF('TT-2 Tax Memo Purchases'!D62 <> \"\", 'TT-2 Tax Memo Purchases'!D62, 0)","v":0},{"$f":"IF('TT-2 Tax Memo Purchases'!E62 <> \"\", 'TT-2 Tax Memo Purchases'!E62, 0)","v":0},{"$f":"IF('TT-2 Tax Memo Purchases'!F62 <> \"\", 'TT-2 Tax Memo Purchases'!F62, 0)","v":0},{"$f":"IF('TT-2 Tax Memo Purchases'!G62 <> \"\", 'TT-2 Tax Memo Purchases'!G62, 0)","v":0},{"$f":"IF('TT-2 Tax Memo Purchases'!H62 <> \"\", 'TT-2 Tax Memo Purchases'!H62, 0)","v":0},{"$f":"IF('TT-2 Tax Memo Purchases'!I62 <> \"\", 'TT-2 Tax Memo Purchases'!I62, 0)","v":0},{"$f":"IF('TT-2 Tax Memo Purchases'!J62 <> \"\", 'TT-2 Tax Memo Purchases'!J62, 0)","v":0},{"$f":"IF('TT-2 Tax Memo Purchases'!K62 <> \"\", 'TT-2 Tax Memo Purchases'!K62, 0)","v":0},{"$f":"IF('TT-2 Tax Memo Purchases'!L62 <> \"\", 'TT-2 Tax Memo Purchases'!L62, 0)","v":0},{"$f":"IF('TT-2 Tax Memo Purchases'!M62 <> \"\", 'TT-2 Tax Memo Purchases'!M62, 0)","v":0},{"$f":"IF('TT-2 Tax Memo Purchases'!N62 <> \"\", 'TT-2 Tax Memo Purchases'!N62, 0)","v":0},{"$f":"IF('TT-2 Tax Memo Purchases'!O62 <> \"\", 'TT-2 Tax Memo Purchases'!O62, 0)","v":0},{"$f":"IF('TT-2 Tax Memo Purchases'!P62 = \"Product ordered and in transit\", \"Product ordered and in transit\", IF('TT-2 Tax Memo Purchases'!P62 = \"Product lost in transit\", \"Product lost in transit\", IF('TT-2 Tax Memo Purchases'!P62 = \"Product back ordered / shorted\", \"Product back ordered/shorted\", IF('TT-2 Tax Memo Purchases'!P62 = \"Product returned\", \"Product returned\", IF('TT-2 Tax Memo Purchases'!P62 = \"Other\", \"Other\", \"\")))))","v":""}]
[{"$f":"IF('TT-2 Tax Memo Purchases'!A63 <> 0, 'TT-2 Tax Memo Purchases'!A63, \"\")","v":""},{"$f":"IF('TT-2 Tax Memo Purchases'!B63 <> 0, 'TT-2 Tax Memo Purchases'!B63, \"\")","v":""},{"$f":"IF('TT-2 Tax Memo Purchases'!C63 <> 0, 'TT-2 Tax Memo Purchases'!C63, \"\")","v":""},{"$f":"IF('TT-2 Tax Memo Purchases'!D63 <> \"\", 'TT-2 Tax Memo Purchases'!D63, 0)","v":0},{"$f":"IF('TT-2 Tax Memo Purchases'!E63 <> \"\", 'TT-2 Tax Memo Purchases'!E63, 0)","v":0},{"$f":"IF('TT-2 Tax Memo Purchases'!F63 <> \"\", 'TT-2 Tax Memo Purchases'!F63, 0)","v":0},{"$f":"IF('TT-2 Tax Memo Purchases'!G63 <> \"\", 'TT-2 Tax Memo Purchases'!G63, 0)","v":0},{"$f":"IF('TT-2 Tax Memo Purchases'!H63 <> \"\", 'TT-2 Tax Memo Purchases'!H63, 0)","v":0},{"$f":"IF('TT-2 Tax Memo Purchases'!I63 <> \"\", 'TT-2 Tax Memo Purchases'!I63, 0)","v":0},{"$f":"IF('TT-2 Tax Memo Purchases'!J63 <> \"\", 'TT-2 Tax Memo Purchases'!J63, 0)","v":0},{"$f":"IF('TT-2 Tax Memo Purchases'!K63 <> \"\", 'TT-2 Tax Memo Purchases'!K63, 0)","v":0},{"$f":"IF('TT-2 Tax Memo Purchases'!L63 <> \"\", 'TT-2 Tax Memo Purchases'!L63, 0)","v":0},{"$f":"IF('TT-2 Tax Memo Purchases'!M63 <> \"\", 'TT-2 Tax Memo Purchases'!M63, 0)","v":0},{"$f":"IF('TT-2 Tax Memo Purchases'!N63 <> \"\", 'TT-2 Tax Memo Purchases'!N63, 0)","v":0},{"$f":"IF('TT-2 Tax Memo Purchases'!O63 <> \"\", 'TT-2 Tax Memo Purchases'!O63, 0)","v":0},{"$f":"IF('TT-2 Tax Memo Purchases'!P63 = \"Product ordered and in transit\", \"Product ordered and in transit\", IF('TT-2 Tax Memo Purchases'!P63 = \"Product lost in transit\", \"Product lost in transit\", IF('TT-2 Tax Memo Purchases'!P63 = \"Product back ordered / shorted\", \"Product back ordered/shorted\", IF('TT-2 Tax Memo Purchases'!P63 = \"Product returned\", \"Product returned\", IF('TT-2 Tax Memo Purchases'!P63 = \"Other\", \"Other\", \"\")))))","v":""}]
[{"$f":"IF('TT-2 Tax Memo Purchases'!A64 <> 0, 'TT-2 Tax Memo Purchases'!A64, \"\")","v":""},{"$f":"IF('TT-2 Tax Memo Purchases'!B64 <> 0, 'TT-2 Tax Memo Purchases'!B64, \"\")","v":""},{"$f":"IF('TT-2 Tax Memo Purchases'!C64 <> 0, 'TT-2 Tax Memo Purchases'!C64, \"\")","v":""},{"$f":"IF('TT-2 Tax Memo Purchases'!D64 <> \"\", 'TT-2 Tax Memo Purchases'!D64, 0)","v":0},{"$f":"IF('TT-2 Tax Memo Purchases'!E64 <> \"\", 'TT-2 Tax Memo Purchases'!E64, 0)","v":0},{"$f":"IF('TT-2 Tax Memo Purchases'!F64 <> \"\", 'TT-2 Tax Memo Purchases'!F64, 0)","v":0},{"$f":"IF('TT-2 Tax Memo Purchases'!G64 <> \"\", 'TT-2 Tax Memo Purchases'!G64, 0)","v":0},{"$f":"IF('TT-2 Tax Memo Purchases'!H64 <> \"\", 'TT-2 Tax Memo Purchases'!H64, 0)","v":0},{"$f":"IF('TT-2 Tax Memo Purchases'!I64 <> \"\", 'TT-2 Tax Memo Purchases'!I64, 0)","v":0},{"$f":"IF('TT-2 Tax Memo Purchases'!J64 <> \"\", 'TT-2 Tax Memo Purchases'!J64, 0)","v":0},{"$f":"IF('TT-2 Tax Memo Purchases'!K64 <> \"\", 'TT-2 Tax Memo Purchases'!K64, 0)","v":0},{"$f":"IF('TT-2 Tax Memo Purchases'!L64 <> \"\", 'TT-2 Tax Memo Purchases'!L64, 0)","v":0},{"$f":"IF('TT-2 Tax Memo Purchases'!M64 <> \"\", 'TT-2 Tax Memo Purchases'!M64, 0)","v":0},{"$f":"IF('TT-2 Tax Memo Purchases'!N64 <> \"\", 'TT-2 Tax Memo Purchases'!N64, 0)","v":0},{"$f":"IF('TT-2 Tax Memo Purchases'!O64 <> \"\", 'TT-2 Tax Memo Purchases'!O64, 0)","v":0},{"$f":"IF('TT-2 Tax Memo Purchases'!P64 = \"Product ordered and in transit\", \"Product ordered and in transit\", IF('TT-2 Tax Memo Purchases'!P64 = \"Product lost in transit\", \"Product lost in transit\", IF('TT-2 Tax Memo Purchases'!P64 = \"Product back ordered / shorted\", \"Product back ordered/shorted\", IF('TT-2 Tax Memo Purchases'!P64 = \"Product returned\", \"Product returned\", IF('TT-2 Tax Memo Purchases'!P64 = \"Other\", \"Other\", \"\")))))","v":""}]
[{"$f":"IF('TT-2 Tax Memo Purchases'!A65 <> 0, 'TT-2 Tax Memo Purchases'!A65, \"\")","v":""},{"$f":"IF('TT-2 Tax Memo Purchases'!B65 <> 0, 'TT-2 Tax Memo Purchases'!B65, \"\")","v":""},{"$f":"IF('TT-2 Tax Memo Purchases'!C65 <> 0, 'TT-2 Tax Memo Purchases'!C65, \"\")","v":""},{"$f":"IF('TT-2 Tax Memo Purchases'!D65 <> \"\", 'TT-2 Tax Memo Purchases'!D65, 0)","v":0},{"$f":"IF('TT-2 Tax Memo Purchases'!E65 <> \"\", 'TT-2 Tax Memo Purchases'!E65, 0)","v":0},{"$f":"IF('TT-2 Tax Memo Purchases'!F65 <> \"\", 'TT-2 Tax Memo Purchases'!F65, 0)","v":0},{"$f":"IF('TT-2 Tax Memo Purchases'!G65 <> \"\", 'TT-2 Tax Memo Purchases'!G65, 0)","v":0},{"$f":"IF('TT-2 Tax Memo Purchases'!H65 <> \"\", 'TT-2 Tax Memo Purchases'!H65, 0)","v":0},{"$f":"IF('TT-2 Tax Memo Purchases'!I65 <> \"\", 'TT-2 Tax Memo Purchases'!I65, 0)","v":0},{"$f":"IF('TT-2 Tax Memo Purchases'!J65 <> \"\", 'TT-2 Tax Memo Purchases'!J65, 0)","v":0},{"$f":"IF('TT-2 Tax Memo Purchases'!K65 <> \"\", 'TT-2 Tax Memo Purchases'!K65, 0)","v":0},{"$f":"IF('TT-2 Tax Memo Purchases'!L65 <> \"\", 'TT-2 Tax Memo Purchases'!L65, 0)","v":0},{"$f":"IF('TT-2 Tax Memo Purchases'!M65 <> \"\", 'TT-2 Tax Memo Purchases'!M65, 0)","v":0},{"$f":"IF('TT-2 Tax Memo Purchases'!N65 <> \"\", 'TT-2 Tax Memo Purchases'!N65, 0)","v":0},{"$f":"IF('TT-2 Tax Memo Purchases'!O65 <> \"\", 'TT-2 Tax Memo Purchases'!O65, 0)","v":0},{"$f":"IF('TT-2 Tax Memo Purchases'!P65 = \"Product ordered and in transit\", \"Product ordered and in transit\", IF('TT-2 Tax Memo Purchases'!P65 = \"Product lost in transit\", \"Product lost in transit\", IF('TT-2 Tax Memo Purchases'!P65 = \"Product back ordered / shorted\", \"Product back ordered/shorted\", IF('TT-2 Tax Memo Purchases'!P65 = \"Product returned\", \"Product returned\", IF('TT-2 Tax Memo Purchases'!P65 = \"Other\", \"Other\", \"\")))))","v":""}]
[{"$f":"IF('TT-2 Tax Memo Purchases'!A66 <> 0, 'TT-2 Tax Memo Purchases'!A66, \"\")","v":""},{"$f":"IF('TT-2 Tax Memo Purchases'!B66 <> 0, 'TT-2 Tax Memo Purchases'!B66, \"\")","v":""},{"$f":"IF('TT-2 Tax Memo Purchases'!C66 <> 0, 'TT-2 Tax Memo Purchases'!C66, \"\")","v":""},{"$f":"IF('TT-2 Tax Memo Purchases'!D66 <> \"\", 'TT-2 Tax Memo Purchases'!D66, 0)","v":0},{"$f":"IF('TT-2 Tax Memo Purchases'!E66 <> \"\", 'TT-2 Tax Memo Purchases'!E66, 0)","v":0},{"$f":"IF('TT-2 Tax Memo Purchases'!F66 <> \"\", 'TT-2 Tax Memo Purchases'!F66, 0)","v":0},{"$f":"IF('TT-2 Tax Memo Purchases'!G66 <> \"\", 'TT-2 Tax Memo Purchases'!G66, 0)","v":0},{"$f":"IF('TT-2 Tax Memo Purchases'!H66 <> \"\", 'TT-2 Tax Memo Purchases'!H66, 0)","v":0},{"$f":"IF('TT-2 Tax Memo Purchases'!I66 <> \"\", 'TT-2 Tax Memo Purchases'!I66, 0)","v":0},{"$f":"IF('TT-2 Tax Memo Purchases'!J66 <> \"\", 'TT-2 Tax Memo Purchases'!J66, 0)","v":0},{"$f":"IF('TT-2 Tax Memo Purchases'!K66 <> \"\", 'TT-2 Tax Memo Purchases'!K66, 0)","v":0},{"$f":"IF('TT-2 Tax Memo Purchases'!L66 <> \"\", 'TT-2 Tax Memo Purchases'!L66, 0)","v":0},{"$f":"IF('TT-2 Tax Memo Purchases'!M66 <> \"\", 'TT-2 Tax Memo Purchases'!M66, 0)","v":0},{"$f":"IF('TT-2 Tax Memo Purchases'!N66 <> \"\", 'TT-2 Tax Memo Purchases'!N66, 0)","v":0},{"$f":"IF('TT-2 Tax Memo Purchases'!O66 <> \"\", 'TT-2 Tax Memo Purchases'!O66, 0)","v":0},{"$f":"IF('TT-2 Tax Memo Purchases'!P66 = \"Product ordered and in transit\", \"Product ordered and in transit\", IF('TT-2 Tax Memo Purchases'!P66 = \"Product lost in transit\", \"Product lost in transit\", IF('TT-2 Tax Memo Purchases'!P66 = \"Product back ordered / shorted\", \"Product back ordered/shorted\", IF('TT-2 Tax Memo Purchases'!P66 = \"Product returned\", \"Product returned\", IF('TT-2 Tax Memo Purchases'!P66 = \"Other\", \"Other\", \"\")))))","v":""}]
[{"$f":"IF('TT-2 Tax Memo Purchases'!A67 <> 0, 'TT-2 Tax Memo Purchases'!A67, \"\")","v":""},{"$f":"IF('TT-2 Tax Memo Purchases'!B67 <> 0, 'TT-2 Tax Memo Purchases'!B67, \"\")","v":""},{"$f":"IF('TT-2 Tax Memo Purchases'!C67 <> 0, 'TT-2 Tax Memo Purchases'!C67, \"\")","v":""},{"$f":"IF('TT-2 Tax Memo Purchases'!D67 <> \"\", 'TT-2 Tax Memo Purchases'!D67, 0)","v":0},{"$f":"IF('TT-2 Tax Memo Purchases'!E67 <> \"\", 'TT-2 Tax Memo Purchases'!E67, 0)","v":0},{"$f":"IF('TT-2 Tax Memo Purchases'!F67 <> \"\", 'TT-2 Tax Memo Purchases'!F67, 0)","v":0},{"$f":"IF('TT-2 Tax Memo Purchases'!G67 <> \"\", 'TT-2 Tax Memo Purchases'!G67, 0)","v":0},{"$f":"IF('TT-2 Tax Memo Purchases'!H67 <> \"\", 'TT-2 Tax Memo Purchases'!H67, 0)","v":0},{"$f":"IF('TT-2 Tax Memo Purchases'!I67 <> \"\", 'TT-2 Tax Memo Purchases'!I67, 0)","v":0},{"$f":"IF('TT-2 Tax Memo Purchases'!J67 <> \"\", 'TT-2 Tax Memo Purchases'!J67, 0)","v":0},{"$f":"IF('TT-2 Tax Memo Purchases'!K67 <> \"\", 'TT-2 Tax Memo Purchases'!K67, 0)","v":0},{"$f":"IF('TT-2 Tax Memo Purchases'!L67 <> \"\", 'TT-2 Tax Memo Purchases'!L67, 0)","v":0},{"$f":"IF('TT-2 Tax Memo Purchases'!M67 <> \"\", 'TT-2 Tax Memo Purchases'!M67, 0)","v":0},{"$f":"IF('TT-2 Tax Memo Purchases'!N67 <> \"\", 'TT-2 Tax Memo Purchases'!N67, 0)","v":0},{"$f":"IF('TT-2 Tax Memo Purchases'!O67 <> \"\", 'TT-2 Tax Memo Purchases'!O67, 0)","v":0},{"$f":"IF('TT-2 Tax Memo Purchases'!P67 = \"Product ordered and in transit\", \"Product ordered and in transit\", IF('TT-2 Tax Memo Purchases'!P67 = \"Product lost in transit\", \"Product lost in transit\", IF('TT-2 Tax Memo Purchases'!P67 = \"Product back ordered / shorted\", \"Product back ordered/shorted\", IF('TT-2 Tax Memo Purchases'!P67 = \"Product returned\", \"Product returned\", IF('TT-2 Tax Memo Purchases'!P67 = \"Other\", \"Other\", \"\")))))","v":""}]
[{"$f":"IF('TT-2 Tax Memo Purchases'!A68 <> 0, 'TT-2 Tax Memo Purchases'!A68, \"\")","v":""},{"$f":"IF('TT-2 Tax Memo Purchases'!B68 <> 0, 'TT-2 Tax Memo Purchases'!B68, \"\")","v":""},{"$f":"IF('TT-2 Tax Memo Purchases'!C68 <> 0, 'TT-2 Tax Memo Purchases'!C68, \"\")","v":""},{"$f":"IF('TT-2 Tax Memo Purchases'!D68 <> \"\", 'TT-2 Tax Memo Purchases'!D68, 0)","v":0},{"$f":"IF('TT-2 Tax Memo Purchases'!E68 <> \"\", 'TT-2 Tax Memo Purchases'!E68, 0)","v":0},{"$f":"IF('TT-2 Tax Memo Purchases'!F68 <> \"\", 'TT-2 Tax Memo Purchases'!F68, 0)","v":0},{"$f":"IF('TT-2 Tax Memo Purchases'!G68 <> \"\", 'TT-2 Tax Memo Purchases'!G68, 0)","v":0},{"$f":"IF('TT-2 Tax Memo Purchases'!H68 <> \"\", 'TT-2 Tax Memo Purchases'!H68, 0)","v":0},{"$f":"IF('TT-2 Tax Memo Purchases'!I68 <> \"\", 'TT-2 Tax Memo Purchases'!I68, 0)","v":0},{"$f":"IF('TT-2 Tax Memo Purchases'!J68 <> \"\", 'TT-2 Tax Memo Purchases'!J68, 0)","v":0},{"$f":"IF('TT-2 Tax Memo Purchases'!K68 <> \"\", 'TT-2 Tax Memo Purchases'!K68, 0)","v":0},{"$f":"IF('TT-2 Tax Memo Purchases'!L68 <> \"\", 'TT-2 Tax Memo Purchases'!L68, 0)","v":0},{"$f":"IF('TT-2 Tax Memo Purchases'!M68 <> \"\", 'TT-2 Tax Memo Purchases'!M68, 0)","v":0},{"$f":"IF('TT-2 Tax Memo Purchases'!N68 <> \"\", 'TT-2 Tax Memo Purchases'!N68, 0)","v":0},{"$f":"IF('TT-2 Tax Memo Purchases'!O68 <> \"\", 'TT-2 Tax Memo Purchases'!O68, 0)","v":0},{"$f":"IF('TT-2 Tax Memo Purchases'!P68 = \"Product ordered and in transit\", \"Product ordered and in transit\", IF('TT-2 Tax Memo Purchases'!P68 = \"Product lost in transit\", \"Product lost in transit\", IF('TT-2 Tax Memo Purchases'!P68 = \"Product back ordered / shorted\", \"Product back ordered/shorted\", IF('TT-2 Tax Memo Purchases'!P68 = \"Product returned\", \"Product returned\", IF('TT-2 Tax Memo Purchases'!P68 = \"Other\", \"Other\", \"\")))))","v":""}]
[{"$f":"IF('TT-2 Tax Memo Purchases'!A69 <> 0, 'TT-2 Tax Memo Purchases'!A69, \"\")","v":""},{"$f":"IF('TT-2 Tax Memo Purchases'!B69 <> 0, 'TT-2 Tax Memo Purchases'!B69, \"\")","v":""},{"$f":"IF('TT-2 Tax Memo Purchases'!C69 <> 0, 'TT-2 Tax Memo Purchases'!C69, \"\")","v":""},{"$f":"IF('TT-2 Tax Memo Purchases'!D69 <> \"\", 'TT-2 Tax Memo Purchases'!D69, 0)","v":0},{"$f":"IF('TT-2 Tax Memo Purchases'!E69 <> \"\", 'TT-2 Tax Memo Purchases'!E69, 0)","v":0},{"$f":"IF('TT-2 Tax Memo Purchases'!F69 <> \"\", 'TT-2 Tax Memo Purchases'!F69, 0)","v":0},{"$f":"IF('TT-2 Tax Memo Purchases'!G69 <> \"\", 'TT-2 Tax Memo Purchases'!G69, 0)","v":0},{"$f":"IF('TT-2 Tax Memo Purchases'!H69 <> \"\", 'TT-2 Tax Memo Purchases'!H69, 0)","v":0},{"$f":"IF('TT-2 Tax Memo Purchases'!I69 <> \"\", 'TT-2 Tax Memo Purchases'!I69, 0)","v":0},{"$f":"IF('TT-2 Tax Memo Purchases'!J69 <> \"\", 'TT-2 Tax Memo Purchases'!J69, 0)","v":0},{"$f":"IF('TT-2 Tax Memo Purchases'!K69 <> \"\", 'TT-2 Tax Memo Purchases'!K69, 0)","v":0},{"$f":"IF('TT-2 Tax Memo Purchases'!L69 <> \"\", 'TT-2 Tax Memo Purchases'!L69, 0)","v":0},{"$f":"IF('TT-2 Tax Memo Purchases'!M69 <> \"\", 'TT-2 Tax Memo Purchases'!M69, 0)","v":0},{"$f":"IF('TT-2 Tax Memo Purchases'!N69 <> \"\", 'TT-2 Tax Memo Purchases'!N69, 0)","v":0},{"$f":"IF('TT-2 Tax Memo Purchases'!O69 <> \"\", 'TT-2 Tax Memo Purchases'!O69, 0)","v":0},{"$f":"IF('TT-2 Tax Memo Purchases'!P69 = \"Product ordered and in transit\", \"Product ordered and in transit\", IF('TT-2 Tax Memo Purchases'!P69 = \"Product lost in transit\", \"Product lost in transit\", IF('TT-2 Tax Memo Purchases'!P69 = \"Product back ordered / shorted\", \"Product back ordered/shorted\", IF('TT-2 Tax Memo Purchases'!P69 = \"Product returned\", \"Product returned\", IF('TT-2 Tax Memo Purchases'!P69 = \"Other\", \"Other\", \"\")))))","v":""}]

{"sheet":"MapTT-2C","index":6,"n_rows":1,"n_cols":12,"rows_kept":1,"cut":false,"hidden":true,"merged":[]}
[{"$f":"IF('TT-2 Tax Memo Purchases'!D75 <> \"\", 'TT-2 Tax Memo Purchases'!D75, 0)","v":0},{"$f":"IF('TT-2 Tax Memo Purchases'!E75 <> \"\", 'TT-2 Tax Memo Purchases'!E75, 0)","v":0},{"$f":"IF('TT-2 Tax Memo Purchases'!F75 <> \"\", 'TT-2 Tax Memo Purchases'!F75, 0)","v":0},{"$f":"IF('TT-2 Tax Memo Purchases'!G75 <> \"\", 'TT-2 Tax Memo Purchases'!G75, 0)","v":0},{"$f":"IF('TT-2 Tax Memo Purchases'!H75 <> \"\", 'TT-2 Tax Memo Purchases'!H75, 0)","v":0},{"$f":"IF('TT-2 Tax Memo Purchases'!I75 <> \"\", 'TT-2 Tax Memo Purchases'!I75, 0)","v":0},{"$f":"IF('TT-2 Tax Memo Purchases'!J75 <> \"\", 'TT-2 Tax Memo Purchases'!J75, 0)","v":0},{"$f":"IF('TT-2 Tax Memo Purchases'!K75 <> \"\", 'TT-2 Tax Memo Purchases'!K75, 0)","v":0},{"$f":"IF('TT-2 Tax Memo Purchases'!L75 <> \"\", 'TT-2 Tax Memo Purchases'!L75, 0)","v":0},{"$f":"IF('TT-2 Tax Memo Purchases'!M75 <> \"\", 'TT-2 Tax Memo Purchases'!M75, 0)","v":0},{"$f":"IF('TT-2 Tax Memo Purchases'!N75 <> \"\", 'TT-2 Tax Memo Purchases'!N75, 0)","v":0},{"$f":"IF('TT-2 Tax Memo Purchases'!O75 <> \"\", 'TT-2 Tax Memo Purchases'!O75, 0)","v":0}]

{"sheet":"MapTT-3","index":7,"n_rows":50,"n_cols":17,"rows_kept":50,"cut":false,"hidden":true,"merged":[]}
[{"$f":"IF('TT-3 Exports'!A11 <> 0, 'TT-3 Exports'!A11, \"\")","v":""},{"$f":"IF('TT-3 Exports'!D11 <> 0, 'TT-3 Exports'!D11, \"\")","v":""},{"$f":"IF('TT-3 Exports'!E11 <> 0, 'TT-3 Exports'!E11, \"\")","v":""},{"$f":"IF('TT-3 Exports'!F11 <> \"\", 'TT-3 Exports'!F11, 0)","v":0},{"$f":"IF('TT-3 Exports'!G11 <> \"\", 'TT-3 Exports'!G11, 0)","v":0},{"$f":"IF('TT-3 Exports'!H11 <> \"\", 'TT-3 Exports'!H11, 0)","v":0},{"$f":"IF('TT-3 Exports'!I11 <> \"\", 'TT-3 Exports'!I11, 0)","v":0},{"$f":"IF('TT-3 Exports'!J11 <> \"\", 'TT-3 Exports'!J11, 0)","v":0},{"$f":"IF('TT-3 Exports'!K11 <> \"\", 'TT-3 Exports'!K11, 0)","v":0},{"$f":"IF('TT-3 Exports'!L11 <> \"\", 'TT-3 Exports'!L11, 0)","v":0},{"$f":"IF('TT-3 Exports'!M11 <> \"\", 'TT-3 Exports'!M11, 0)","v":0},{"$f":"IF('TT-3 Exports'!N11 <> \"\", 'TT-3 Exports'!N11, 0)","v":0},{"$f":"IF('TT-3 Exports'!O11 <> \"\", 'TT-3 Exports'!O11, 0)","v":0},{"$f":"IF('TT-3 Exports'!P11 <> \"\", 'TT-3 Exports'!P11, 0)","v":0},{"$f":"IF('TT-3 Exports'!Q11 <> \"\", 'TT-3 Exports'!Q11, 0)","v":0},{"$f":"IF('TT-3 Exports'!R11 <> \"\", 'TT-3 Exports'!R11, 0)","v":0},{"$f":"IF('TT-3 Exports'!S11 <> \"\", 'TT-3 Exports'!S11, 0)","v":0}]
[{"$f":"IF('TT-3 Exports'!A12 <> 0, 'TT-3 Exports'!A12, \"\")","v":""},{"$f":"IF('TT-3 Exports'!D12 <> 0, 'TT-3 Exports'!D12, \"\")","v":""},{"$f":"IF('TT-3 Exports'!E12 <> 0, 'TT-3 Exports'!E12, \"\")","v":""},{"$f":"IF('TT-3 Exports'!F12 <> \"\", 'TT-3 Exports'!F12, 0)","v":0},{"$f":"IF('TT-3 Exports'!G12 <> \"\", 'TT-3 Exports'!G12, 0)","v":0},{"$f":"IF('TT-3 Exports'!H12 <> \"\", 'TT-3 Exports'!H12, 0)","v":0},{"$f":"IF('TT-3 Exports'!I12 <> \"\", 'TT-3 Exports'!I12, 0)","v":0},{"$f":"IF('TT-3 Exports'!J12 <> \"\", 'TT-3 Exports'!J12, 0)","v":0},{"$f":"IF('TT-3 Exports'!K12 <> \"\", 'TT-3 Exports'!K12, 0)","v":0},{"$f":"IF('TT-3 Exports'!L12 <> \"\", 'TT-3 Exports'!L12, 0)","v":0},{"$f":"IF('TT-3 Exports'!M12 <> \"\", 'TT-3 Exports'!M12, 0)","v":0},{"$f":"IF('TT-3 Exports'!N12 <> \"\", 'TT-3 Exports'!N12, 0)","v":0},{"$f":"IF('TT-3 Exports'!O12 <> \"\", 'TT-3 Exports'!O12, 0)","v":0},{"$f":"IF('TT-3 Exports'!P12 <> \"\", 'TT-3 Exports'!P12, 0)","v":0},{"$f":"IF('TT-3 Exports'!Q12 <> \"\", 'TT-3 Exports'!Q12, 0)","v":0},{"$f":"IF('TT-3 Exports'!R12 <> \"\", 'TT-3 Exports'!R12, 0)","v":0},{"$f":"IF('TT-3 Exports'!S12 <> \"\", 'TT-3 Exports'!S12, 0)","v":0}]
[{"$f":"IF('TT-3 Exports'!A13 <> 0, 'TT-3 Exports'!A13, \"\")","v":""},{"$f":"IF('TT-3 Exports'!D13 <> 0, 'TT-3 Exports'!D13, \"\")","v":""},{"$f":"IF('TT-3 Exports'!E13 <> 0, 'TT-3 Exports'!E13, \"\")","v":""},{"$f":"IF('TT-3 Exports'!F13 <> \"\", 'TT-3 Exports'!F13, 0)","v":0},{"$f":"IF('TT-3 Exports'!G13 <> \"\", 'TT-3 Exports'!G13, 0)","v":0},{"$f":"IF('TT-3 Exports'!H13 <> \"\", 'TT-3 Exports'!H13, 0)","v":0},{"$f":"IF('TT-3 Exports'!I13 <> \"\", 'TT-3 Exports'!I13, 0)","v":0},{"$f":"IF('TT-3 Exports'!J13 <> \"\", 'TT-3 Exports'!J13, 0)","v":0},{"$f":"IF('TT-3 Exports'!K13 <> \"\", 'TT-3 Exports'!K13, 0)","v":0},{"$f":"IF('TT-3 Exports'!L13 <> \"\", 'TT-3 Exports'!L13, 0)","v":0},{"$f":"IF('TT-3 Exports'!M13 <> \"\", 'TT-3 Exports'!M13, 0)","v":0},{"$f":"IF('TT-3 Exports'!N13 <> \"\", 'TT-3 Exports'!N13, 0)","v":0},{"$f":"IF('TT-3 Exports'!O13 <> \"\", 'TT-3 Exports'!O13, 0)","v":0},{"$f":"IF('TT-3 Exports'!P13 <> \"\", 'TT-3 Exports'!P13, 0)","v":0},{"$f":"IF('TT-3 Exports'!Q13 <> \"\", 'TT-3 Exports'!Q13, 0)","v":0},{"$f":"IF('TT-3 Exports'!R13 <> \"\", 'TT-3 Exports'!R13, 0)","v":0},{"$f":"IF('TT-3 Exports'!S13 <> \"\", 'TT-3 Exports'!S13, 0)","v":0}]
[{"$f":"IF('TT-3 Exports'!A14 <> 0, 'TT-3 Exports'!A14, \"\")","v":""},{"$f":"IF('TT-3 Exports'!D14 <> 0, 'TT-3 Exports'!D14, \"\")","v":""},{"$f":"IF('TT-3 Exports'!E14 <> 0, 'TT-3 Exports'!E14, \"\")","v":""},{"$f":"IF('TT-3 Exports'!F14 <> \"\", 'TT-3 Exports'!F14, 0)","v":0},{"$f":"IF('TT-3 Exports'!G14 <> \"\", 'TT-3 Exports'!G14, 0)","v":0},{"$f":"IF('TT-3 Exports'!H14 <> \"\", 'TT-3 Exports'!H14, 0)","v":0},{"$f":"IF('TT-3 Exports'!I14 <> \"\", 'TT-3 Exports'!I14, 0)","v":0},{"$f":"IF('TT-3 Exports'!J14 <> \"\", 'TT-3 Exports'!J14, 0)","v":0},{"$f":"IF('TT-3 Exports'!K14 <> \"\", 'TT-3 Exports'!K14, 0)","v":0},{"$f":"IF('TT-3 Exports'!L14 <> \"\", 'TT-3 Exports'!L14, 0)","v":0},{"$f":"IF('TT-3 Exports'!M14 <> \"\", 'TT-3 Exports'!M14, 0)","v":0},{"$f":"IF('TT-3 Exports'!N14 <> \"\", 'TT-3 Exports'!N14, 0)","v":0},{"$f":"IF('TT-3 Exports'!O14 <> \"\", 'TT-3 Exports'!O14, 0)","v":0},{"$f":"IF('TT-3 Exports'!P14 <> \"\", 'TT-3 Exports'!P14, 0)","v":0},{"$f":"IF('TT-3 Exports'!Q14 <> \"\", 'TT-3 Exports'!Q14, 0)","v":0},{"$f":"IF('TT-3 Exports'!R14 <> \"\", 'TT-3 Exports'!R14, 0)","v":0},{"$f":"IF('TT-3 Exports'!S14 <> \"\", 'TT-3 Exports'!S14, 0)","v":0}]
[{"$f":"IF('TT-3 Exports'!A15 <> 0, 'TT-3 Exports'!A15, \"\")","v":""},{"$f":"IF('TT-3 Exports'!D15 <> 0, 'TT-3 Exports'!D15, \"\")","v":""},{"$f":"IF('TT-3 Exports'!E15 <> 0, 'TT-3 Exports'!E15, \"\")","v":""},{"$f":"IF('TT-3 Exports'!F15 <> \"\", 'TT-3 Exports'!F15, 0)","v":0},{"$f":"IF('TT-3 Exports'!G15 <> \"\", 'TT-3 Exports'!G15, 0)","v":0},{"$f":"IF('TT-3 Exports'!H15 <> \"\", 'TT-3 Exports'!H15, 0)","v":0},{"$f":"IF('TT-3 Exports'!I15 <> \"\", 'TT-3 Exports'!I15, 0)","v":0},{"$f":"IF('TT-3 Exports'!J15 <> \"\", 'TT-3 Exports'!J15, 0)","v":0},{"$f":"IF('TT-3 Exports'!K15 <> \"\", 'TT-3 Exports'!K15, 0)","v":0},{"$f":"IF('TT-3 Exports'!L15 <> \"\", 'TT-3 Exports'!L15, 0)","v":0},{"$f":"IF('TT-3 Exports'!M15 <> \"\", 'TT-3 Exports'!M15, 0)","v":0},{"$f":"IF('TT-3 Exports'!N15 <> \"\", 'TT-3 Exports'!N15, 0)","v":0},{"$f":"IF('TT-3 Exports'!O15 <> \"\", 'TT-3 Exports'!O15, 0)","v":0},{"$f":"IF('TT-3 Exports'!P15 <> \"\", 'TT-3 Exports'!P15, 0)","v":0},{"$f":"IF('TT-3 Exports'!Q15 <> \"\", 'TT-3 Exports'!Q15, 0)","v":0},{"$f":"IF('TT-3 Exports'!R15 <> \"\", 'TT-3 Exports'!R15, 0)","v":0},{"$f":"IF('TT-3 Exports'!S15 <> \"\", 'TT-3 Exports'!S15, 0)","v":0}]
[{"$f":"IF('TT-3 Exports'!A16 <> 0, 'TT-3 Exports'!A16, \"\")","v":""},{"$f":"IF('TT-3 Exports'!D16 <> 0, 'TT-3 Exports'!D16, \"\")","v":""},{"$f":"IF('TT-3 Exports'!E16 <> 0, 'TT-3 Exports'!E16, \"\")","v":""},{"$f":"IF('TT-3 Exports'!F16 <> \"\", 'TT-3 Exports'!F16, 0)","v":0},{"$f":"IF('TT-3 Exports'!G16 <> \"\", 'TT-3 Exports'!G16, 0)","v":0},{"$f":"IF('TT-3 Exports'!H16 <> \"\", 'TT-3 Exports'!H16, 0)","v":0},{"$f":"IF('TT-3 Exports'!I16 <> \"\", 'TT-3 Exports'!I16, 0)","v":0},{"$f":"IF('TT-3 Exports'!J16 <> \"\", 'TT-3 Exports'!J16, 0)","v":0},{"$f":"IF('TT-3 Exports'!K16 <> \"\", 'TT-3 Exports'!K16, 0)","v":0},{"$f":"IF('TT-3 Exports'!L16 <> \"\", 'TT-3 Exports'!L16, 0)","v":0},{"$f":"IF('TT-3 Exports'!M16 <> \"\", 'TT-3 Exports'!M16, 0)","v":0},{"$f":"IF('TT-3 Exports'!N16 <> \"\", 'TT-3 Exports'!N16, 0)","v":0},{"$f":"IF('TT-3 Exports'!O16 <> \"\", 'TT-3 Exports'!O16, 0)","v":0},{"$f":"IF('TT-3 Exports'!P16 <> \"\", 'TT-3 Exports'!P16, 0)","v":0},{"$f":"IF('TT-3 Exports'!Q16 <> \"\", 'TT-3 Exports'!Q16, 0)","v":0},{"$f":"IF('TT-3 Exports'!R16 <> \"\", 'TT-3 Exports'!R16, 0)","v":0},{"$f":"IF('TT-3 Exports'!S16 <> \"\", 'TT-3 Exports'!S16, 0)","v":0}]
[{"$f":"IF('TT-3 Exports'!A17 <> 0, 'TT-3 Exports'!A17, \"\")","v":""},{"$f":"IF('TT-3 Exports'!D17 <> 0, 'TT-3 Exports'!D17, \"\")","v":""},{"$f":"IF('TT-3 Exports'!E17 <> 0, 'TT-3 Exports'!E17, \"\")","v":""},{"$f":"IF('TT-3 Exports'!F17 <> \"\", 'TT-3 Exports'!F17, 0)","v":0},{"$f":"IF('TT-3 Exports'!G17 <> \"\", 'TT-3 Exports'!G17, 0)","v":0},{"$f":"IF('TT-3 Exports'!H17 <> \"\", 'TT-3 Exports'!H17, 0)","v":0},{"$f":"IF('TT-3 Exports'!I17 <> \"\", 'TT-3 Exports'!I17, 0)","v":0},{"$f":"IF('TT-3 Exports'!J17 <> \"\", 'TT-3 Exports'!J17, 0)","v":0},{"$f":"IF('TT-3 Exports'!K17 <> \"\", 'TT-3 Exports'!K17, 0)","v":0},{"$f":"IF('TT-3 Exports'!L17 <> \"\", 'TT-3 Exports'!L17, 0)","v":0},{"$f":"IF('TT-3 Exports'!M17 <> \"\", 'TT-3 Exports'!M17, 0)","v":0},{"$f":"IF('TT-3 Exports'!N17 <> \"\", 'TT-3 Exports'!N17, 0)","v":0},{"$f":"IF('TT-3 Exports'!O17 <> \"\", 'TT-3 Exports'!O17, 0)","v":0},{"$f":"IF('TT-3 Exports'!P17 <> \"\", 'TT-3 Exports'!P17, 0)","v":0},{"$f":"IF('TT-3 Exports'!Q17 <> \"\", 'TT-3 Exports'!Q17, 0)","v":0},{"$f":"IF('TT-3 Exports'!R17 <> \"\", 'TT-3 Exports'!R17, 0)","v":0},{"$f":"IF('TT-3 Exports'!S17 <> \"\", 'TT-3 Exports'!S17, 0)","v":0}]
[{"$f":"IF('TT-3 Exports'!A18 <> 0, 'TT-3 Exports'!A18, \"\")","v":""},{"$f":"IF('TT-3 Exports'!D18 <> 0, 'TT-3 Exports'!D18, \"\")","v":""},{"$f":"IF('TT-3 Exports'!E18 <> 0, 'TT-3 Exports'!E18, \"\")","v":""},{"$f":"IF('TT-3 Exports'!F18 <> \"\", 'TT-3 Exports'!F18, 0)","v":0},{"$f":"IF('TT-3 Exports'!G18 <> \"\", 'TT-3 Exports'!G18, 0)","v":0},{"$f":"IF('TT-3 Exports'!H18 <> \"\", 'TT-3 Exports'!H18, 0)","v":0},{"$f":"IF('TT-3 Exports'!I18 <> \"\", 'TT-3 Exports'!I18, 0)","v":0},{"$f":"IF('TT-3 Exports'!J18 <> \"\", 'TT-3 Exports'!J18, 0)","v":0},{"$f":"IF('TT-3 Exports'!K18 <> \"\", 'TT-3 Exports'!K18, 0)","v":0},{"$f":"IF('TT-3 Exports'!L18 <> \"\", 'TT-3 Exports'!L18, 0)","v":0},{"$f":"IF('TT-3 Exports'!M18 <> \"\", 'TT-3 Exports'!M18, 0)","v":0},{"$f":"IF('TT-3 Exports'!N18 <> \"\", 'TT-3 Exports'!N18, 0)","v":0},{"$f":"IF('TT-3 Exports'!O18 <> \"\", 'TT-3 Exports'!O18, 0)","v":0},{"$f":"IF('TT-3 Exports'!P18 <> \"\", 'TT-3 Exports'!P18, 0)","v":0},{"$f":"IF('TT-3 Exports'!Q18 <> \"\", 'TT-3 Exports'!Q18, 0)","v":0},{"$f":"IF('TT-3 Exports'!R18 <> \"\", 'TT-3 Exports'!R18, 0)","v":0},{"$f":"IF('TT-3 Exports'!S18 <> \"\", 'TT-3 Exports'!S18, 0)","v":0}]
[{"$f":"IF('TT-3 Exports'!A19 <> 0, 'TT-3 Exports'!A19, \"\")","v":""},{"$f":"IF('TT-3 Exports'!D19 <> 0, 'TT-3 Exports'!D19, \"\")","v":""},{"$f":"IF('TT-3 Exports'!E19 <> 0, 'TT-3 Exports'!E19, \"\")","v":""},{"$f":"IF('TT-3 Exports'!F19 <> \"\", 'TT-3 Exports'!F19, 0)","v":0},{"$f":"IF('TT-3 Exports'!G19 <> \"\", 'TT-3 Exports'!G19, 0)","v":0},{"$f":"IF('TT-3 Exports'!H19 <> \"\", 'TT-3 Exports'!H19, 0)","v":0},{"$f":"IF('TT-3 Exports'!I19 <> \"\", 'TT-3 Exports'!I19, 0)","v":0},{"$f":"IF('TT-3 Exports'!J19 <> \"\", 'TT-3 Exports'!J19, 0)","v":0},{"$f":"IF('TT-3 Exports'!K19 <> \"\", 'TT-3 Exports'!K19, 0)","v":0},{"$f":"IF('TT-3 Exports'!L19 <> \"\", 'TT-3 Exports'!L19, 0)","v":0},{"$f":"IF('TT-3 Exports'!M19 <> \"\", 'TT-3 Exports'!M19, 0)","v":0},{"$f":"IF('TT-3 Exports'!N19 <> \"\", 'TT-3 Exports'!N19, 0)","v":0},{"$f":"IF('TT-3 Exports'!O19 <> \"\", 'TT-3 Exports'!O19, 0)","v":0},{"$f":"IF('TT-3 Exports'!P19 <> \"\", 'TT-3 Exports'!P19, 0)","v":0},{"$f":"IF('TT-3 Exports'!Q19 <> \"\", 'TT-3 Exports'!Q19, 0)","v":0},{"$f":"IF('TT-3 Exports'!R19 <> \"\", 'TT-3 Exports'!R19, 0)","v":0},{"$f":"IF('TT-3 Exports'!S19 <> \"\", 'TT-3 Exports'!S19, 0)","v":0}]
[{"$f":"IF('TT-3 Exports'!A20 <> 0, 'TT-3 Exports'!A20, \"\")","v":""},{"$f":"IF('TT-3 Exports'!D20 <> 0, 'TT-3 Exports'!D20, \"\")","v":""},{"$f":"IF('TT-3 Exports'!E20 <> 0, 'TT-3 Exports'!E20, \"\")","v":""},{"$f":"IF('TT-3 Exports'!F20 <> \"\", 'TT-3 Exports'!F20, 0)","v":0},{"$f":"IF('TT-3 Exports'!G20 <> \"\", 'TT-3 Exports'!G20, 0)","v":0},{"$f":"IF('TT-3 Exports'!H20 <> \"\", 'TT-3 Exports'!H20, 0)","v":0},{"$f":"IF('TT-3 Exports'!I20 <> \"\", 'TT-3 Exports'!I20, 0)","v":0},{"$f":"IF('TT-3 Exports'!J20 <> \"\", 'TT-3 Exports'!J20, 0)","v":0},{"$f":"IF('TT-3 Exports'!K20 <> \"\", 'TT-3 Exports'!K20, 0)","v":0},{"$f":"IF('TT-3 Exports'!L20 <> \"\", 'TT-3 Exports'!L20, 0)","v":0},{"$f":"IF('TT-3 Exports'!M20 <> \"\", 'TT-3 Exports'!M20, 0)","v":0},{"$f":"IF('TT-3 Exports'!N20 <> \"\", 'TT-3 Exports'!N20, 0)","v":0},{"$f":"IF('TT-3 Exports'!O20 <> \"\", 'TT-3 Exports'!O20, 0)","v":0},{"$f":"IF('TT-3 Exports'!P20 <> \"\", 'TT-3 Exports'!P20, 0)","v":0},{"$f":"IF('TT-3 Exports'!Q20 <> \"\", 'TT-3 Exports'!Q20, 0)","v":0},{"$f":"IF('TT-3 Exports'!R20 <> \"\", 'TT-3 Exports'!R20, 0)","v":0},{"$f":"IF('TT-3 Exports'!S20 <> \"\", 'TT-3 Exports'!S20, 0)","v":0}]
[{"$f":"IF('TT-3 Exports'!A21 <> 0, 'TT-3 Exports'!A21, \"\")","v":""},{"$f":"IF('TT-3 Exports'!D21 <> 0, 'TT-3 Exports'!D21, \"\")","v":""},{"$f":"IF('TT-3 Exports'!E21 <> 0, 'TT-3 Exports'!E21, \"\")","v":""},{"$f":"IF('TT-3 Exports'!F21 <> \"\", 'TT-3 Exports'!F21, 0)","v":0},{"$f":"IF('TT-3 Exports'!G21 <> \"\", 'TT-3 Exports'!G21, 0)","v":0},{"$f":"IF('TT-3 Exports'!H21 <> \"\", 'TT-3 Exports'!H21, 0)","v":0},{"$f":"IF('TT-3 Exports'!I21 <> \"\", 'TT-3 Exports'!I21, 0)","v":0},{"$f":"IF('TT-3 Exports'!J21 <> \"\", 'TT-3 Exports'!J21, 0)","v":0},{"$f":"IF('TT-3 Exports'!K21 <> \"\", 'TT-3 Exports'!K21, 0)","v":0},{"$f":"IF('TT-3 Exports'!L21 <> \"\", 'TT-3 Exports'!L21, 0)","v":0},{"$f":"IF('TT-3 Exports'!M21 <> \"\", 'TT-3 Exports'!M21, 0)","v":0},{"$f":"IF('TT-3 Exports'!N21 <> \"\", 'TT-3 Exports'!N21, 0)","v":0},{"$f":"IF('TT-3 Exports'!O21 <> \"\", 'TT-3 Exports'!O21, 0)","v":0},{"$f":"IF('TT-3 Exports'!P21 <> \"\", 'TT-3 Exports'!P21, 0)","v":0},{"$f":"IF('TT-3 Exports'!Q21 <> \"\", 'TT-3 Exports'!Q21, 0)","v":0},{"$f":"IF('TT-3 Exports'!R21 <> \"\", 'TT-3 Exports'!R21, 0)","v":0},{"$f":"IF('TT-3 Exports'!S21 <> \"\", 'TT-3 Exports'!S21, 0)","v":0}]
[{"$f":"IF('TT-3 Exports'!A22 <> 0, 'TT-3 Exports'!A22, \"\")","v":""},{"$f":"IF('TT-3 Exports'!D22 <> 0, 'TT-3 Exports'!D22, \"\")","v":""},{"$f":"IF('TT-3 Exports'!E22 <> 0, 'TT-3 Exports'!E22, \"\")","v":""},{"$f":"IF('TT-3 Exports'!F22 <> \"\", 'TT-3 Exports'!F22, 0)","v":0},{"$f":"IF('TT-3 Exports'!G22 <> \"\", 'TT-3 Exports'!G22, 0)","v":0},{"$f":"IF('TT-3 Exports'!H22 <> \"\", 'TT-3 Exports'!H22, 0)","v":0},{"$f":"IF('TT-3 Exports'!I22 <> \"\", 'TT-3 Exports'!I22, 0)","v":0},{"$f":"IF('TT-3 Exports'!J22 <> \"\", 'TT-3 Exports'!J22, 0)","v":0},{"$f":"IF('TT-3 Exports'!K22 <> \"\", 'TT-3 Exports'!K22, 0)","v":0},{"$f":"IF('TT-3 Exports'!L22 <> \"\", 'TT-3 Exports'!L22, 0)","v":0},{"$f":"IF('TT-3 Exports'!M22 <> \"\", 'TT-3 Exports'!M22, 0)","v":0},{"$f":"IF('TT-3 Exports'!N22 <> \"\", 'TT-3 Exports'!N22, 0)","v":0},{"$f":"IF('TT-3 Exports'!O22 <> \"\", 'TT-3 Exports'!O22, 0)","v":0},{"$f":"IF('TT-3 Exports'!P22 <> \"\", 'TT-3 Exports'!P22, 0)","v":0},{"$f":"IF('TT-3 Exports'!Q22 <> \"\", 'TT-3 Exports'!Q22, 0)","v":0},{"$f":"IF('TT-3 Exports'!R22 <> \"\", 'TT-3 Exports'!R22, 0)","v":0},{"$f":"IF('TT-3 Exports'!S22 <> \"\", 'TT-3 Exports'!S22, 0)","v":0}]
[{"$f":"IF('TT-3 Exports'!A23 <> 0, 'TT-3 Exports'!A23, \"\")","v":""},{"$f":"IF('TT-3 Exports'!D23 <> 0, 'TT-3 Exports'!D23, \"\")","v":""},{"$f":"IF('TT-3 Exports'!E23 <> 0, 'TT-3 Exports'!E23, \"\")","v":""},{"$f":"IF('TT-3 Exports'!F23 <> \"\", 'TT-3 Exports'!F23, 0)","v":0},{"$f":"IF('TT-3 Exports'!G23 <> \"\", 'TT-3 Exports'!G23, 0)","v":0},{"$f":"IF('TT-3 Exports'!H23 <> \"\", 'TT-3 Exports'!H23, 0)","v":0},{"$f":"IF('TT-3 Exports'!I23 <> \"\", 'TT-3 Exports'!I23, 0)","v":0},{"$f":"IF('TT-3 Exports'!J23 <> \"\", 'TT-3 Exports'!J23, 0)","v":0},{"$f":"IF('TT-3 Exports'!K23 <> \"\", 'TT-3 Exports'!K23, 0)","v":0},{"$f":"IF('TT-3 Exports'!L23 <> \"\", 'TT-3 Exports'!L23, 0)","v":0},{"$f":"IF('TT-3 Exports'!M23 <> \"\", 'TT-3 Exports'!M23, 0)","v":0},{"$f":"IF('TT-3 Exports'!N23 <> \"\", 'TT-3 Exports'!N23, 0)","v":0},{"$f":"IF('TT-3 Exports'!O23 <> \"\", 'TT-3 Exports'!O23, 0)","v":0},{"$f":"IF('TT-3 Exports'!P23 <> \"\", 'TT-3 Exports'!P23, 0)","v":0},{"$f":"IF('TT-3 Exports'!Q23 <> \"\", 'TT-3 Exports'!Q23, 0)","v":0},{"$f":"IF('TT-3 Exports'!R23 <> \"\", 'TT-3 Exports'!R23, 0)","v":0},{"$f":"IF('TT-3 Exports'!S23 <> \"\", 'TT-3 Exports'!S23, 0)","v":0}]
[{"$f":"IF('TT-3 Exports'!A24 <> 0, 'TT-3 Exports'!A24, \"\")","v":""},{"$f":"IF('TT-3 Exports'!D24 <> 0, 'TT-3 Exports'!D24, \"\")","v":""},{"$f":"IF('TT-3 Exports'!E24 <> 0, 'TT-3 Exports'!E24, \"\")","v":""},{"$f":"IF('TT-3 Exports'!F24 <> \"\", 'TT-3 Exports'!F24, 0)","v":0},{"$f":"IF('TT-3 Exports'!G24 <> \"\", 'TT-3 Exports'!G24, 0)","v":0},{"$f":"IF('TT-3 Exports'!H24 <> \"\", 'TT-3 Exports'!H24, 0)","v":0},{"$f":"IF('TT-3 Exports'!I24 <> \"\", 'TT-3 Exports'!I24, 0)","v":0},{"$f":"IF('TT-3 Exports'!J24 <> \"\", 'TT-3 Exports'!J24, 0)","v":0},{"$f":"IF('TT-3 Exports'!K24 <> \"\", 'TT-3 Exports'!K24, 0)","v":0},{"$f":"IF('TT-3 Exports'!L24 <> \"\", 'TT-3 Exports'!L24, 0)","v":0},{"$f":"IF('TT-3 Exports'!M24 <> \"\", 'TT-3 Exports'!M24, 0)","v":0},{"$f":"IF('TT-3 Exports'!N24 <> \"\", 'TT-3 Exports'!N24, 0)","v":0},{"$f":"IF('TT-3 Exports'!O24 <> \"\", 'TT-3 Exports'!O24, 0)","v":0},{"$f":"IF('TT-3 Exports'!P24 <> \"\", 'TT-3 Exports'!P24, 0)","v":0},{"$f":"IF('TT-3 Exports'!Q24 <> \"\", 'TT-3 Exports'!Q24, 0)","v":0},{"$f":"IF('TT-3 Exports'!R24 <> \"\", 'TT-3 Exports'!R24, 0)","v":0},{"$f":"IF('TT-3 Exports'!S24 <> \"\", 'TT-3 Exports'!S24, 0)","v":0}]
[{"$f":"IF('TT-3 Exports'!A25 <> 0, 'TT-3 Exports'!A25, \"\")","v":""},{"$f":"IF('TT-3 Exports'!D25 <> 0, 'TT-3 Exports'!D25, \"\")","v":""},{"$f":"IF('TT-3 Exports'!E25 <> 0, 'TT-3 Exports'!E25, \"\")","v":""},{"$f":"IF('TT-3 Exports'!F25 <> \"\", 'TT-3 Exports'!F25, 0)","v":0},{"$f":"IF('TT-3 Exports'!G25 <> \"\", 'TT-3 Exports'!G25, 0)","v":0},{"$f":"IF('TT-3 Exports'!H25 <> \"\", 'TT-3 Exports'!H25, 0)","v":0},{"$f":"IF('TT-3 Exports'!I25 <> \"\", 'TT-3 Exports'!I25, 0)","v":0},{"$f":"IF('TT-3 Exports'!J25 <> \"\", 'TT-3 Exports'!J25, 0)","v":0},{"$f":"IF('TT-3 Exports'!K25 <> \"\", 'TT-3 Exports'!K25, 0)","v":0},{"$f":"IF('TT-3 Exports'!L25 <> \"\", 'TT-3 Exports'!L25, 0)","v":0},{"$f":"IF('TT-3 Exports'!M25 <> \"\", 'TT-3 Exports'!M25, 0)","v":0},{"$f":"IF('TT-3 Exports'!N25 <> \"\", 'TT-3 Exports'!N25, 0)","v":0},{"$f":"IF('TT-3 Exports'!O25 <> \"\", 'TT-3 Exports'!O25, 0)","v":0},{"$f":"IF('TT-3 Exports'!P25 <> \"\", 'TT-3 Exports'!P25, 0)","v":0},{"$f":"IF('TT-3 Exports'!Q25 <> \"\", 'TT-3 Exports'!Q25, 0)","v":0},{"$f":"IF('TT-3 Exports'!R25 <> \"\", 'TT-3 Exports'!R25, 0)","v":0},{"$f":"IF('TT-3 Exports'!S25 <> \"\", 'TT-3 Exports'!S25, 0)","v":0}]
[{"$f":"IF('TT-3 Exports'!A26 <> 0, 'TT-3 Exports'!A26, \"\")","v":""},{"$f":"IF('TT-3 Exports'!D26 <> 0, 'TT-3 Exports'!D26, \"\")","v":""},{"$f":"IF('TT-3 Exports'!E26 <> 0, 'TT-3 Exports'!E26, \"\")","v":""},{"$f":"IF('TT-3 Exports'!F26 <> \"\", 'TT-3 Exports'!F26, 0)","v":0},{"$f":"IF('TT-3 Exports'!G26 <> \"\", 'TT-3 Exports'!G26, 0)","v":0},{"$f":"IF('TT-3 Exports'!H26 <> \"\", 'TT-3 Exports'!H26, 0)","v":0},{"$f":"IF('TT-3 Exports'!I26 <> \"\", 'TT-3 Exports'!I26, 0)","v":0},{"$f":"IF('TT-3 Exports'!J26 <> \"\", 'TT-3 Exports'!J26, 0)","v":0},{"$f":"IF('TT-3 Exports'!K26 <> \"\", 'TT-3 Exports'!K26, 0)","v":0},{"$f":"IF('TT-3 Exports'!L26 <> \"\", 'TT-3 Exports'!L26, 0)","v":0},{"$f":"IF('TT-3 Exports'!M26 <> \"\", 'TT-3 Exports'!M26, 0)","v":0},{"$f":"IF('TT-3 Exports'!N26 <> \"\", 'TT-3 Exports'!N26, 0)","v":0},{"$f":"IF('TT-3 Exports'!O26 <> \"\", 'TT-3 Exports'!O26, 0)","v":0},{"$f":"IF('TT-3 Exports'!P26 <> \"\", 'TT-3 Exports'!P26, 0)","v":0},{"$f":"IF('TT-3 Exports'!Q26 <> \"\", 'TT-3 Exports'!Q26, 0)","v":0},{"$f":"IF('TT-3 Exports'!R26 <> \"\", 'TT-3 Exports'!R26, 0)","v":0},{"$f":"IF('TT-3 Exports'!S26 <> \"\", 'TT-3 Exports'!S26, 0)","v":0}]
[{"$f":"IF('TT-3 Exports'!A27 <> 0, 'TT-3 Exports'!A27, \"\")","v":""},{"$f":"IF('TT-3 Exports'!D27 <> 0, 'TT-3 Exports'!D27, \"\")","v":""},{"$f":"IF('TT-3 Exports'!E27 <> 0, 'TT-3 Exports'!E27, \"\")","v":""},{"$f":"IF('TT-3 Exports'!F27 <> \"\", 'TT-3 Exports'!F27, 0)","v":0},{"$f":"IF('TT-3 Exports'!G27 <> \"\", 'TT-3 Exports'!G27, 0)","v":0},{"$f":"IF('TT-3 Exports'!H27 <> \"\", 'TT-3 Exports'!H27, 0)","v":0},{"$f":"IF('TT-3 Exports'!I27 <> \"\", 'TT-3 Exports'!I27, 0)","v":0},{"$f":"IF('TT-3 Exports'!J27 <> \"\", 'TT-3 Exports'!J27, 0)","v":0},{"$f":"IF('TT-3 Exports'!K27 <> \"\", 'TT-3 Exports'!K27, 0)","v":0},{"$f":"IF('TT-3 Exports'!L27 <> \"\", 'TT-3 Exports'!L27, 0)","v":0},{"$f":"IF('TT-3 Exports'!M27 <> \"\", 'TT-3 Exports'!M27, 0)","v":0},{"$f":"IF('TT-3 Exports'!N27 <> \"\", 'TT-3 Exports'!N27, 0)","v":0},{"$f":"IF('TT-3 Exports'!O27 <> \"\", 'TT-3 Exports'!O27, 0)","v":0},{"$f":"IF('TT-3 Exports'!P27 <> \"\", 'TT-3 Exports'!P27, 0)","v":0},{"$f":"IF('TT-3 Exports'!Q27 <> \"\", 'TT-3 Exports'!Q27, 0)","v":0},{"$f":"IF('TT-3 Exports'!R27 <> \"\", 'TT-3 Exports'!R27, 0)","v":0},{"$f":"IF('TT-3 Exports'!S27 <> \"\", 'TT-3 Exports'!S27, 0)","v":0}]
[{"$f":"IF('TT-3 Exports'!A28 <> 0, 'TT-3 Exports'!A28, \"\")","v":""},{"$f":"IF('TT-3 Exports'!D28 <> 0, 'TT-3 Exports'!D28, \"\")","v":""},{"$f":"IF('TT-3 Exports'!E28 <> 0, 'TT-3 Exports'!E28, \"\")","v":""},{"$f":"IF('TT-3 Exports'!F28 <> \"\", 'TT-3 Exports'!F28, 0)","v":0},{"$f":"IF('TT-3 Exports'!G28 <> \"\", 'TT-3 Exports'!G28, 0)","v":0},{"$f":"IF('TT-3 Exports'!H28 <> \"\", 'TT-3 Exports'!H28, 0)","v":0},{"$f":"IF('TT-3 Exports'!I28 <> \"\", 'TT-3 Exports'!I28, 0)","v":0},{"$f":"IF('TT-3 Exports'!J28 <> \"\", 'TT-3 Exports'!J28, 0)","v":0},{"$f":"IF('TT-3 Exports'!K28 <> \"\", 'TT-3 Exports'!K28, 0)","v":0},{"$f":"IF('TT-3 Exports'!L28 <> \"\", 'TT-3 Exports'!L28, 0)","v":0},{"$f":"IF('TT-3 Exports'!M28 <> \"\", 'TT-3 Exports'!M28, 0)","v":0},{"$f":"IF('TT-3 Exports'!N28 <> \"\", 'TT-3 Exports'!N28, 0)","v":0},{"$f":"IF('TT-3 Exports'!O28 <> \"\", 'TT-3 Exports'!O28, 0)","v":0},{"$f":"IF('TT-3 Exports'!P28 <> \"\", 'TT-3 Exports'!P28, 0)","v":0},{"$f":"IF('TT-3 Exports'!Q28 <> \"\", 'TT-3 Exports'!Q28, 0)","v":0},{"$f":"IF('TT-3 Exports'!R28 <> \"\", 'TT-3 Exports'!R28, 0)","v":0},{"$f":"IF('TT-3 Exports'!S28 <> \"\", 'TT-3 Exports'!S28, 0)","v":0}]
[{"$f":"IF('TT-3 Exports'!A29 <> 0, 'TT-3 Exports'!A29, \"\")","v":""},{"$f":"IF('TT-3 Exports'!D29 <> 0, 'TT-3 Exports'!D29, \"\")","v":""},{"$f":"IF('TT-3 Exports'!E29 <> 0, 'TT-3 Exports'!E29, \"\")","v":""},{"$f":"IF('TT-3 Exports'!F29 <> \"\", 'TT-3 Exports'!F29, 0)","v":0},{"$f":"IF('TT-3 Exports'!G29 <> \"\", 'TT-3 Exports'!G29, 0)","v":0},{"$f":"IF('TT-3 Exports'!H29 <> \"\", 'TT-3 Exports'!H29, 0)","v":0},{"$f":"IF('TT-3 Exports'!I29 <> \"\", 'TT-3 Exports'!I29, 0)","v":0},{"$f":"IF('TT-3 Exports'!J29 <> \"\", 'TT-3 Exports'!J29, 0)","v":0},{"$f":"IF('TT-3 Exports'!K29 <> \"\", 'TT-3 Exports'!K29, 0)","v":0},{"$f":"IF('TT-3 Exports'!L29 <> \"\", 'TT-3 Exports'!L29, 0)","v":0},{"$f":"IF('TT-3 Exports'!M29 <> \"\", 'TT-3 Exports'!M29, 0)","v":0},{"$f":"IF('TT-3 Exports'!N29 <> \"\", 'TT-3 Exports'!N29, 0)","v":0},{"$f":"IF('TT-3 Exports'!O29 <> \"\", 'TT-3 Exports'!O29, 0)","v":0},{"$f":"IF('TT-3 Exports'!P29 <> \"\", 'TT-3 Exports'!P29, 0)","v":0},{"$f":"IF('TT-3 Exports'!Q29 <> \"\", 'TT-3 Exports'!Q29, 0)","v":0},{"$f":"IF('TT-3 Exports'!R29 <> \"\", 'TT-3 Exports'!R29, 0)","v":0},{"$f":"IF('TT-3 Exports'!S29 <> \"\", 'TT-3 Exports'!S29, 0)","v":0}]
[{"$f":"IF('TT-3 Exports'!A30 <> 0, 'TT-3 Exports'!A30, \"\")","v":""},{"$f":"IF('TT-3 Exports'!D30 <> 0, 'TT-3 Exports'!D30, \"\")","v":""},{"$f":"IF('TT-3 Exports'!E30 <> 0, 'TT-3 Exports'!E30, \"\")","v":""},{"$f":"IF('TT-3 Exports'!F30 <> \"\", 'TT-3 Exports'!F30, 0)","v":0},{"$f":"IF('TT-3 Exports'!G30 <> \"\", 'TT-3 Exports'!G30, 0)","v":0},{"$f":"IF('TT-3 Exports'!H30 <> \"\", 'TT-3 Exports'!H30, 0)","v":0},{"$f":"IF('TT-3 Exports'!I30 <> \"\", 'TT-3 Exports'!I30, 0)","v":0},{"$f":"IF('TT-3 Exports'!J30 <> \"\", 'TT-3 Exports'!J30, 0)","v":0},{"$f":"IF('TT-3 Exports'!K30 <> \"\", 'TT-3 Exports'!K30, 0)","v":0},{"$f":"IF('TT-3 Exports'!L30 <> \"\", 'TT-3 Exports'!L30, 0)","v":0},{"$f":"IF('TT-3 Exports'!M30 <> \"\", 'TT-3 Exports'!M30, 0)","v":0},{"$f":"IF('TT-3 Exports'!N30 <> \"\", 'TT-3 Exports'!N30, 0)","v":0},{"$f":"IF('TT-3 Exports'!O30 <> \"\", 'TT-3 Exports'!O30, 0)","v":0},{"$f":"IF('TT-3 Exports'!P30 <> \"\", 'TT-3 Exports'!P30, 0)","v":0},{"$f":"IF('TT-3 Exports'!Q30 <> \"\", 'TT-3 Exports'!Q30, 0)","v":0},{"$f":"IF('TT-3 Exports'!R30 <> \"\", 'TT-3 Exports'!R30, 0)","v":0},{"$f":"IF('TT-3 Exports'!S30 <> \"\", 'TT-3 Exports'!S30, 0)","v":0}]
[{"$f":"IF('TT-3 Exports'!A31 <> 0, 'TT-3 Exports'!A31, \"\")","v":""},{"$f":"IF('TT-3 Exports'!D31 <> 0, 'TT-3 Exports'!D31, \"\")","v":""},{"$f":"IF('TT-3 Exports'!E31 <> 0, 'TT-3 Exports'!E31, \"\")","v":""},{"$f":"IF('TT-3 Exports'!F31 <> \"\", 'TT-3 Exports'!F31, 0)","v":0},{"$f":"IF('TT-3 Exports'!G31 <> \"\", 'TT-3 Exports'!G31, 0)","v":0},{"$f":"IF('TT-3 Exports'!H31 <> \"\", 'TT-3 Exports'!H31, 0)","v":0},{"$f":"IF('TT-3 Exports'!I31 <> \"\", 'TT-3 Exports'!I31, 0)","v":0},{"$f":"IF('TT-3 Exports'!J31 <> \"\", 'TT-3 Exports'!J31, 0)","v":0},{"$f":"IF('TT-3 Exports'!K31 <> \"\", 'TT-3 Exports'!K31, 0)","v":0},{"$f":"IF('TT-3 Exports'!L31 <> \"\", 'TT-3 Exports'!L31, 0)","v":0},{"$f":"IF('TT-3 Exports'!M31 <> \"\", 'TT-3 Exports'!M31, 0)","v":0},{"$f":"IF('TT-3 Exports'!N31 <> \"\", 'TT-3 Exports'!N31, 0)","v":0},{"$f":"IF('TT-3 Exports'!O31 <> \"\", 'TT-3 Exports'!O31, 0)","v":0},{"$f":"IF('TT-3 Exports'!P31 <> \"\", 'TT-3 Exports'!P31, 0)","v":0},{"$f":"IF('TT-3 Exports'!Q31 <> \"\", 'TT-3 Exports'!Q31, 0)","v":0},{"$f":"IF('TT-3 Exports'!R31 <> \"\", 'TT-3 Exports'!R31, 0)","v":0},{"$f":"IF('TT-3 Exports'!S31 <> \"\", 'TT-3 Exports'!S31, 0)","v":0}]
[{"$f":"IF('TT-3 Exports'!A32 <> 0, 'TT-3 Exports'!A32, \"\")","v":""},{"$f":"IF('TT-3 Exports'!D32 <> 0, 'TT-3 Exports'!D32, \"\")","v":""},{"$f":"IF('TT-3 Exports'!E32 <> 0, 'TT-3 Exports'!E32, \"\")","v":""},{"$f":"IF('TT-3 Exports'!F32 <> \"\", 'TT-3 Exports'!F32, 0)","v":0},{"$f":"IF('TT-3 Exports'!G32 <> \"\", 'TT-3 Exports'!G32, 0)","v":0},{"$f":"IF('TT-3 Exports'!H32 <> \"\", 'TT-3 Exports'!H32, 0)","v":0},{"$f":"IF('TT-3 Exports'!I32 <> \"\", 'TT-3 Exports'!I32, 0)","v":0},{"$f":"IF('TT-3 Exports'!J32 <> \"\", 'TT-3 Exports'!J32, 0)","v":0},{"$f":"IF('TT-3 Exports'!K32 <> \"\", 'TT-3 Exports'!K32, 0)","v":0},{"$f":"IF('TT-3 Exports'!L32 <> \"\", 'TT-3 Exports'!L32, 0)","v":0},{"$f":"IF('TT-3 Exports'!M32 <> \"\", 'TT-3 Exports'!M32, 0)","v":0},{"$f":"IF('TT-3 Exports'!N32 <> \"\", 'TT-3 Exports'!N32, 0)","v":0},{"$f":"IF('TT-3 Exports'!O32 <> \"\", 'TT-3 Exports'!O32, 0)","v":0},{"$f":"IF('TT-3 Exports'!P32 <> \"\", 'TT-3 Exports'!P32, 0)","v":0},{"$f":"IF('TT-3 Exports'!Q32 <> \"\", 'TT-3 Exports'!Q32, 0)","v":0},{"$f":"IF('TT-3 Exports'!R32 <> \"\", 'TT-3 Exports'!R32, 0)","v":0},{"$f":"IF('TT-3 Exports'!S32 <> \"\", 'TT-3 Exports'!S32, 0)","v":0}]
[{"$f":"IF('TT-3 Exports'!A33 <> 0, 'TT-3 Exports'!A33, \"\")","v":""},{"$f":"IF('TT-3 Exports'!D33 <> 0, 'TT-3 Exports'!D33, \"\")","v":""},{"$f":"IF('TT-3 Exports'!E33 <> 0, 'TT-3 Exports'!E33, \"\")","v":""},{"$f":"IF('TT-3 Exports'!F33 <> \"\", 'TT-3 Exports'!F33, 0)","v":0},{"$f":"IF('TT-3 Exports'!G33 <> \"\", 'TT-3 Exports'!G33, 0)","v":0},{"$f":"IF('TT-3 Exports'!H33 <> \"\", 'TT-3 Exports'!H33, 0)","v":0},{"$f":"IF('TT-3 Exports'!I33 <> \"\", 'TT-3 Exports'!I33, 0)","v":0},{"$f":"IF('TT-3 Exports'!J33 <> \"\", 'TT-3 Exports'!J33, 0)","v":0},{"$f":"IF('TT-3 Exports'!K33 <> \"\", 'TT-3 Exports'!K33, 0)","v":0},{"$f":"IF('TT-3 Exports'!L33 <> \"\", 'TT-3 Exports'!L33, 0)","v":0},{"$f":"IF('TT-3 Exports'!M33 <> \"\", 'TT-3 Exports'!M33, 0)","v":0},{"$f":"IF('TT-3 Exports'!N33 <> \"\", 'TT-3 Exports'!N33, 0)","v":0},{"$f":"IF('TT-3 Exports'!O33 <> \"\", 'TT-3 Exports'!O33, 0)","v":0},{"$f":"IF('TT-3 Exports'!P33 <> \"\", 'TT-3 Exports'!P33, 0)","v":0},{"$f":"IF('TT-3 Exports'!Q33 <> \"\", 'TT-3 Exports'!Q33, 0)","v":0},{"$f":"IF('TT-3 Exports'!R33 <> \"\", 'TT-3 Exports'!R33, 0)","v":0},{"$f":"IF('TT-3 Exports'!S33 <> \"\", 'TT-3 Exports'!S33, 0)","v":0}]
[{"$f":"IF('TT-3 Exports'!A34 <> 0, 'TT-3 Exports'!A34, \"\")","v":""},{"$f":"IF('TT-3 Exports'!D34 <> 0, 'TT-3 Exports'!D34, \"\")","v":""},{"$f":"IF('TT-3 Exports'!E34 <> 0, 'TT-3 Exports'!E34, \"\")","v":""},{"$f":"IF('TT-3 Exports'!F34 <> \"\", 'TT-3 Exports'!F34, 0)","v":0},{"$f":"IF('TT-3 Exports'!G34 <> \"\", 'TT-3 Exports'!G34, 0)","v":0},{"$f":"IF('TT-3 Exports'!H34 <> \"\", 'TT-3 Exports'!H34, 0)","v":0},{"$f":"IF('TT-3 Exports'!I34 <> \"\", 'TT-3 Exports'!I34, 0)","v":0},{"$f":"IF('TT-3 Exports'!J34 <> \"\", 'TT-3 Exports'!J34, 0)","v":0},{"$f":"IF('TT-3 Exports'!K34 <> \"\", 'TT-3 Exports'!K34, 0)","v":0},{"$f":"IF('TT-3 Exports'!L34 <> \"\", 'TT-3 Exports'!L34, 0)","v":0},{"$f":"IF('TT-3 Exports'!M34 <> \"\", 'TT-3 Exports'!M34, 0)","v":0},{"$f":"IF('TT-3 Exports'!N34 <> \"\", 'TT-3 Exports'!N34, 0)","v":0},{"$f":"IF('TT-3 Exports'!O34 <> \"\", 'TT-3 Exports'!O34, 0)","v":0},{"$f":"IF('TT-3 Exports'!P34 <> \"\", 'TT-3 Exports'!P34, 0)","v":0},{"$f":"IF('TT-3 Exports'!Q34 <> \"\", 'TT-3 Exports'!Q34, 0)","v":0},{"$f":"IF('TT-3 Exports'!R34 <> \"\", 'TT-3 Exports'!R34, 0)","v":0},{"$f":"IF('TT-3 Exports'!S34 <> \"\", 'TT-3 Exports'!S34, 0)","v":0}]
[{"$f":"IF('TT-3 Exports'!A35 <> 0, 'TT-3 Exports'!A35, \"\")","v":""},{"$f":"IF('TT-3 Exports'!D35 <> 0, 'TT-3 Exports'!D35, \"\")","v":""},{"$f":"IF('TT-3 Exports'!E35 <> 0, 'TT-3 Exports'!E35, \"\")","v":""},{"$f":"IF('TT-3 Exports'!F35 <> \"\", 'TT-3 Exports'!F35, 0)","v":0},{"$f":"IF('TT-3 Exports'!G35 <> \"\", 'TT-3 Exports'!G35, 0)","v":0},{"$f":"IF('TT-3 Exports'!H35 <> \"\", 'TT-3 Exports'!H35, 0)","v":0},{"$f":"IF('TT-3 Exports'!I35 <> \"\", 'TT-3 Exports'!I35, 0)","v":0},{"$f":"IF('TT-3 Exports'!J35 <> \"\", 'TT-3 Exports'!J35, 0)","v":0},{"$f":"IF('TT-3 Exports'!K35 <> \"\", 'TT-3 Exports'!K35, 0)","v":0},{"$f":"IF('TT-3 Exports'!L35 <> \"\", 'TT-3 Exports'!L35, 0)","v":0},{"$f":"IF('TT-3 Exports'!M35 <> \"\", 'TT-3 Exports'!M35, 0)","v":0},{"$f":"IF('TT-3 Exports'!N35 <> \"\", 'TT-3 Exports'!N35, 0)","v":0},{"$f":"IF('TT-3 Exports'!O35 <> \"\", 'TT-3 Exports'!O35, 0)","v":0},{"$f":"IF('TT-3 Exports'!P35 <> \"\", 'TT-3 Exports'!P35, 0)","v":0},{"$f":"IF('TT-3 Exports'!Q35 <> \"\", 'TT-3 Exports'!Q35, 0)","v":0},{"$f":"IF('TT-3 Exports'!R35 <> \"\", 'TT-3 Exports'!R35, 0)","v":0},{"$f":"IF('TT-3 Exports'!S35 <> \"\", 'TT-3 Exports'!S35, 0)","v":0}]
[{"$f":"IF('TT-3 Exports'!A36 <> 0, 'TT-3 Exports'!A36, \"\")","v":""},{"$f":"IF('TT-3 Exports'!D36 <> 0, 'TT-3 Exports'!D36, \"\")","v":""},{"$f":"IF('TT-3 Exports'!E36 <> 0, 'TT-3 Exports'!E36, \"\")","v":""},{"$f":"IF('TT-3 Exports'!F36 <> \"\", 'TT-3 Exports'!F36, 0)","v":0},{"$f":"IF('TT-3 Exports'!G36 <> \"\", 'TT-3 Exports'!G36, 0)","v":0},{"$f":"IF('TT-3 Exports'!H36 <> \"\", 'TT-3 Exports'!H36, 0)","v":0},{"$f":"IF('TT-3 Exports'!I36 <> \"\", 'TT-3 Exports'!I36, 0)","v":0},{"$f":"IF('TT-3 Exports'!J36 <> \"\", 'TT-3 Exports'!J36, 0)","v":0},{"$f":"IF('TT-3 Exports'!K36 <> \"\", 'TT-3 Exports'!K36, 0)","v":0},{"$f":"IF('TT-3 Exports'!L36 <> \"\", 'TT-3 Exports'!L36, 0)","v":0},{"$f":"IF('TT-3 Exports'!M36 <> \"\", 'TT-3 Exports'!M36, 0)","v":0},{"$f":"IF('TT-3 Exports'!N36 <> \"\", 'TT-3 Exports'!N36, 0)","v":0},{"$f":"IF('TT-3 Exports'!O36 <> \"\", 'TT-3 Exports'!O36, 0)","v":0},{"$f":"IF('TT-3 Exports'!P36 <> \"\", 'TT-3 Exports'!P36, 0)","v":0},{"$f":"IF('TT-3 Exports'!Q36 <> \"\", 'TT-3 Exports'!Q36, 0)","v":0},{"$f":"IF('TT-3 Exports'!R36 <> \"\", 'TT-3 Exports'!R36, 0)","v":0},{"$f":"IF('TT-3 Exports'!S36 <> \"\", 'TT-3 Exports'!S36, 0)","v":0}]
[{"$f":"IF('TT-3 Exports'!A37 <> 0, 'TT-3 Exports'!A37, \"\")","v":""},{"$f":"IF('TT-3 Exports'!D37 <> 0, 'TT-3 Exports'!D37, \"\")","v":""},{"$f":"IF('TT-3 Exports'!E37 <> 0, 'TT-3 Exports'!E37, \"\")","v":""},{"$f":"IF('TT-3 Exports'!F37 <> \"\", 'TT-3 Exports'!F37, 0)","v":0},{"$f":"IF('TT-3 Exports'!G37 <> \"\", 'TT-3 Exports'!G37, 0)","v":0},{"$f":"IF('TT-3 Exports'!H37 <> \"\", 'TT-3 Exports'!H37, 0)","v":0},{"$f":"IF('TT-3 Exports'!I37 <> \"\", 'TT-3 Exports'!I37, 0)","v":0},{"$f":"IF('TT-3 Exports'!J37 <> \"\", 'TT-3 Exports'!J37, 0)","v":0},{"$f":"IF('TT-3 Exports'!K37 <> \"\", 'TT-3 Exports'!K37, 0)","v":0},{"$f":"IF('TT-3 Exports'!L37 <> \"\", 'TT-3 Exports'!L37, 0)","v":0},{"$f":"IF('TT-3 Exports'!M37 <> \"\", 'TT-3 Exports'!M37, 0)","v":0},{"$f":"IF('TT-3 Exports'!N37 <> \"\", 'TT-3 Exports'!N37, 0)","v":0},{"$f":"IF('TT-3 Exports'!O37 <> \"\", 'TT-3 Exports'!O37, 0)","v":0},{"$f":"IF('TT-3 Exports'!P37 <> \"\", 'TT-3 Exports'!P37, 0)","v":0},{"$f":"IF('TT-3 Exports'!Q37 <> \"\", 'TT-3 Exports'!Q37, 0)","v":0},{"$f":"IF('TT-3 Exports'!R37 <> \"\", 'TT-3 Exports'!R37, 0)","v":0},{"$f":"IF('TT-3 Exports'!S37 <> \"\", 'TT-3 Exports'!S37, 0)","v":0}]
[{"$f":"IF('TT-3 Exports'!A38 <> 0, 'TT-3 Exports'!A38, \"\")","v":""},{"$f":"IF('TT-3 Exports'!D38 <> 0, 'TT-3 Exports'!D38, \"\")","v":""},{"$f":"IF('TT-3 Exports'!E38 <> 0, 'TT-3 Exports'!E38, \"\")","v":""},{"$f":"IF('TT-3 Exports'!F38 <> \"\", 'TT-3 Exports'!F38, 0)","v":0},{"$f":"IF('TT-3 Exports'!G38 <> \"\", 'TT-3 Exports'!G38, 0)","v":0},{"$f":"IF('TT-3 Exports'!H38 <> \"\", 'TT-3 Exports'!H38, 0)","v":0},{"$f":"IF('TT-3 Exports'!I38 <> \"\", 'TT-3 Exports'!I38, 0)","v":0},{"$f":"IF('TT-3 Exports'!J38 <> \"\", 'TT-3 Exports'!J38, 0)","v":0},{"$f":"IF('TT-3 Exports'!K38 <> \"\", 'TT-3 Exports'!K38, 0)","v":0},{"$f":"IF('TT-3 Exports'!L38 <> \"\", 'TT-3 Exports'!L38, 0)","v":0},{"$f":"IF('TT-3 Exports'!M38 <> \"\", 'TT-3 Exports'!M38, 0)","v":0},{"$f":"IF('TT-3 Exports'!N38 <> \"\", 'TT-3 Exports'!N38, 0)","v":0},{"$f":"IF('TT-3 Exports'!O38 <> \"\", 'TT-3 Exports'!O38, 0)","v":0},{"$f":"IF('TT-3 Exports'!P38 <> \"\", 'TT-3 Exports'!P38, 0)","v":0},{"$f":"IF('TT-3 Exports'!Q38 <> \"\", 'TT-3 Exports'!Q38, 0)","v":0},{"$f":"IF('TT-3 Exports'!R38 <> \"\", 'TT-3 Exports'!R38, 0)","v":0},{"$f":"IF('TT-3 Exports'!S38 <> \"\", 'TT-3 Exports'!S38, 0)","v":0}]
[{"$f":"IF('TT-3 Exports'!A39 <> 0, 'TT-3 Exports'!A39, \"\")","v":""},{"$f":"IF('TT-3 Exports'!D39 <> 0, 'TT-3 Exports'!D39, \"\")","v":""},{"$f":"IF('TT-3 Exports'!E39 <> 0, 'TT-3 Exports'!E39, \"\")","v":""},{"$f":"IF('TT-3 Exports'!F39 <> \"\", 'TT-3 Exports'!F39, 0)","v":0},{"$f":"IF('TT-3 Exports'!G39 <> \"\", 'TT-3 Exports'!G39, 0)","v":0},{"$f":"IF('TT-3 Exports'!H39 <> \"\", 'TT-3 Exports'!H39, 0)","v":0},{"$f":"IF('TT-3 Exports'!I39 <> \"\", 'TT-3 Exports'!I39, 0)","v":0},{"$f":"IF('TT-3 Exports'!J39 <> \"\", 'TT-3 Exports'!J39, 0)","v":0},{"$f":"IF('TT-3 Exports'!K39 <> \"\", 'TT-3 Exports'!K39, 0)","v":0},{"$f":"IF('TT-3 Exports'!L39 <> \"\", 'TT-3 Exports'!L39, 0)","v":0},{"$f":"IF('TT-3 Exports'!M39 <> \"\", 'TT-3 Exports'!M39, 0)","v":0},{"$f":"IF('TT-3 Exports'!N39 <> \"\", 'TT-3 Exports'!N39, 0)","v":0},{"$f":"IF('TT-3 Exports'!O39 <> \"\", 'TT-3 Exports'!O39, 0)","v":0},{"$f":"IF('TT-3 Exports'!P39 <> \"\", 'TT-3 Exports'!P39, 0)","v":0},{"$f":"IF('TT-3 Exports'!Q39 <> \"\", 'TT-3 Exports'!Q39, 0)","v":0},{"$f":"IF('TT-3 Exports'!R39 <> \"\", 'TT-3 Exports'!R39, 0)","v":0},{"$f":"IF('TT-3 Exports'!S39 <> \"\", 'TT-3 Exports'!S39, 0)","v":0}]
[{"$f":"IF('TT-3 Exports'!A40 <> 0, 'TT-3 Exports'!A40, \"\")","v":""},{"$f":"IF('TT-3 Exports'!D40 <> 0, 'TT-3 Exports'!D40, \"\")","v":""},{"$f":"IF('TT-3 Exports'!E40 <> 0, 'TT-3 Exports'!E40, \"\")","v":""},{"$f":"IF('TT-3 Exports'!F40 <> \"\", 'TT-3 Exports'!F40, 0)","v":0},{"$f":"IF('TT-3 Exports'!G40 <> \"\", 'TT-3 Exports'!G40, 0)","v":0},{"$f":"IF('TT-3 Exports'!H40 <> \"\", 'TT-3 Exports'!H40, 0)","v":0},{"$f":"IF('TT-3 Exports'!I40 <> \"\", 'TT-3 Exports'!I40, 0)","v":0},{"$f":"IF('TT-3 Exports'!J40 <> \"\", 'TT-3 Exports'!J40, 0)","v":0},{"$f":"IF('TT-3 Exports'!K40 <> \"\", 'TT-3 Exports'!K40, 0)","v":0},{"$f":"IF('TT-3 Exports'!L40 <> \"\", 'TT-3 Exports'!L40, 0)","v":0},{"$f":"IF('TT-3 Exports'!M40 <> \"\", 'TT-3 Exports'!M40, 0)","v":0},{"$f":"IF('TT-3 Exports'!N40 <> \"\", 'TT-3 Exports'!N40, 0)","v":0},{"$f":"IF('TT-3 Exports'!O40 <> \"\", 'TT-3 Exports'!O40, 0)","v":0},{"$f":"IF('TT-3 Exports'!P40 <> \"\", 'TT-3 Exports'!P40, 0)","v":0},{"$f":"IF('TT-3 Exports'!Q40 <> \"\", 'TT-3 Exports'!Q40, 0)","v":0},{"$f":"IF('TT-3 Exports'!R40 <> \"\", 'TT-3 Exports'!R40, 0)","v":0},{"$f":"IF('TT-3 Exports'!S40 <> \"\", 'TT-3 Exports'!S40, 0)","v":0}]
[{"$f":"IF('TT-3 Exports'!A41 <> 0, 'TT-3 Exports'!A41, \"\")","v":""},{"$f":"IF('TT-3 Exports'!D41 <> 0, 'TT-3 Exports'!D41, \"\")","v":""},{"$f":"IF('TT-3 Exports'!E41 <> 0, 'TT-3 Exports'!E41, \"\")","v":""},{"$f":"IF('TT-3 Exports'!F41 <> \"\", 'TT-3 Exports'!F41, 0)","v":0},{"$f":"IF('TT-3 Exports'!G41 <> \"\", 'TT-3 Exports'!G41, 0)","v":0},{"$f":"IF('TT-3 Exports'!H41 <> \"\", 'TT-3 Exports'!H41, 0)","v":0},{"$f":"IF('TT-3 Exports'!I41 <> \"\", 'TT-3 Exports'!I41, 0)","v":0},{"$f":"IF('TT-3 Exports'!J41 <> \"\", 'TT-3 Exports'!J41, 0)","v":0},{"$f":"IF('TT-3 Exports'!K41 <> \"\", 'TT-3 Exports'!K41, 0)","v":0},{"$f":"IF('TT-3 Exports'!L41 <> \"\", 'TT-3 Exports'!L41, 0)","v":0},{"$f":"IF('TT-3 Exports'!M41 <> \"\", 'TT-3 Exports'!M41, 0)","v":0},{"$f":"IF('TT-3 Exports'!N41 <> \"\", 'TT-3 Exports'!N41, 0)","v":0},{"$f":"IF('TT-3 Exports'!O41 <> \"\", 'TT-3 Exports'!O41, 0)","v":0},{"$f":"IF('TT-3 Exports'!P41 <> \"\", 'TT-3 Exports'!P41, 0)","v":0},{"$f":"IF('TT-3 Exports'!Q41 <> \"\", 'TT-3 Exports'!Q41, 0)","v":0},{"$f":"IF('TT-3 Exports'!R41 <> \"\", 'TT-3 Exports'!R41, 0)","v":0},{"$f":"IF('TT-3 Exports'!S41 <> \"\", 'TT-3 Exports'!S41, 0)","v":0}]
[{"$f":"IF('TT-3 Exports'!A42 <> 0, 'TT-3 Exports'!A42, \"\")","v":""},{"$f":"IF('TT-3 Exports'!D42 <> 0, 'TT-3 Exports'!D42, \"\")","v":""},{"$f":"IF('TT-3 Exports'!E42 <> 0, 'TT-3 Exports'!E42, \"\")","v":""},{"$f":"IF('TT-3 Exports'!F42 <> \"\", 'TT-3 Exports'!F42, 0)","v":0},{"$f":"IF('TT-3 Exports'!G42 <> \"\", 'TT-3 Exports'!G42, 0)","v":0},{"$f":"IF('TT-3 Exports'!H42 <> \"\", 'TT-3 Exports'!H42, 0)","v":0},{"$f":"IF('TT-3 Exports'!I42 <> \"\", 'TT-3 Exports'!I42, 0)","v":0},{"$f":"IF('TT-3 Exports'!J42 <> \"\", 'TT-3 Exports'!J42, 0)","v":0},{"$f":"IF('TT-3 Exports'!K42 <> \"\", 'TT-3 Exports'!K42, 0)","v":0},{"$f":"IF('TT-3 Exports'!L42 <> \"\", 'TT-3 Exports'!L42, 0)","v":0},{"$f":"IF('TT-3 Exports'!M42 <> \"\", 'TT-3 Exports'!M42, 0)","v":0},{"$f":"IF('TT-3 Exports'!N42 <> \"\", 'TT-3 Exports'!N42, 0)","v":0},{"$f":"IF('TT-3 Exports'!O42 <> \"\", 'TT-3 Exports'!O42, 0)","v":0},{"$f":"IF('TT-3 Exports'!P42 <> \"\", 'TT-3 Exports'!P42, 0)","v":0},{"$f":"IF('TT-3 Exports'!Q42 <> \"\", 'TT-3 Exports'!Q42, 0)","v":0},{"$f":"IF('TT-3 Exports'!R42 <> \"\", 'TT-3 Exports'!R42, 0)","v":0},{"$f":"IF('TT-3 Exports'!S42 <> \"\", 'TT-3 Exports'!S42, 0)","v":0}]
[{"$f":"IF('TT-3 Exports'!A43 <> 0, 'TT-3 Exports'!A43, \"\")","v":""},{"$f":"IF('TT-3 Exports'!D43 <> 0, 'TT-3 Exports'!D43, \"\")","v":""},{"$f":"IF('TT-3 Exports'!E43 <> 0, 'TT-3 Exports'!E43, \"\")","v":""},{"$f":"IF('TT-3 Exports'!F43 <> \"\", 'TT-3 Exports'!F43, 0)","v":0},{"$f":"IF('TT-3 Exports'!G43 <> \"\", 'TT-3 Exports'!G43, 0)","v":0},{"$f":"IF('TT-3 Exports'!H43 <> \"\", 'TT-3 Exports'!H43, 0)","v":0},{"$f":"IF('TT-3 Exports'!I43 <> \"\", 'TT-3 Exports'!I43, 0)","v":0},{"$f":"IF('TT-3 Exports'!J43 <> \"\", 'TT-3 Exports'!J43, 0)","v":0},{"$f":"IF('TT-3 Exports'!K43 <> \"\", 'TT-3 Exports'!K43, 0)","v":0},{"$f":"IF('TT-3 Exports'!L43 <> \"\", 'TT-3 Exports'!L43, 0)","v":0},{"$f":"IF('TT-3 Exports'!M43 <> \"\", 'TT-3 Exports'!M43, 0)","v":0},{"$f":"IF('TT-3 Exports'!N43 <> \"\", 'TT-3 Exports'!N43, 0)","v":0},{"$f":"IF('TT-3 Exports'!O43 <> \"\", 'TT-3 Exports'!O43, 0)","v":0},{"$f":"IF('TT-3 Exports'!P43 <> \"\", 'TT-3 Exports'!P43, 0)","v":0},{"$f":"IF('TT-3 Exports'!Q43 <> \"\", 'TT-3 Exports'!Q43, 0)","v":0},{"$f":"IF('TT-3 Exports'!R43 <> \"\", 'TT-3 Exports'!R43, 0)","v":0},{"$f":"IF('TT-3 Exports'!S43 <> \"\", 'TT-3 Exports'!S43, 0)","v":0}]
[{"$f":"IF('TT-3 Exports'!A44 <> 0, 'TT-3 Exports'!A44, \"\")","v":""},{"$f":"IF('TT-3 Exports'!D44 <> 0, 'TT-3 Exports'!D44, \"\")","v":""},{"$f":"IF('TT-3 Exports'!E44 <> 0, 'TT-3 Exports'!E44, \"\")","v":""},{"$f":"IF('TT-3 Exports'!F44 <> \"\", 'TT-3 Exports'!F44, 0)","v":0},{"$f":"IF('TT-3 Exports'!G44 <> \"\", 'TT-3 Exports'!G44, 0)","v":0},{"$f":"IF('TT-3 Exports'!H44 <> \"\", 'TT-3 Exports'!H44, 0)","v":0},{"$f":"IF('TT-3 Exports'!I44 <> \"\", 'TT-3 Exports'!I44, 0)","v":0},{"$f":"IF('TT-3 Exports'!J44 <> \"\", 'TT-3 Exports'!J44, 0)","v":0},{"$f":"IF('TT-3 Exports'!K44 <> \"\", 'TT-3 Exports'!K44, 0)","v":0},{"$f":"IF('TT-3 Exports'!L44 <> \"\", 'TT-3 Exports'!L44, 0)","v":0},{"$f":"IF('TT-3 Exports'!M44 <> \"\", 'TT-3 Exports'!M44, 0)","v":0},{"$f":"IF('TT-3 Exports'!N44 <> \"\", 'TT-3 Exports'!N44, 0)","v":0},{"$f":"IF('TT-3 Exports'!O44 <> \"\", 'TT-3 Exports'!O44, 0)","v":0},{"$f":"IF('TT-3 Exports'!P44 <> \"\", 'TT-3 Exports'!P44, 0)","v":0},{"$f":"IF('TT-3 Exports'!Q44 <> \"\", 'TT-3 Exports'!Q44, 0)","v":0},{"$f":"IF('TT-3 Exports'!R44 <> \"\", 'TT-3 Exports'!R44, 0)","v":0},{"$f":"IF('TT-3 Exports'!S44 <> \"\", 'TT-3 Exports'!S44, 0)","v":0}]
[{"$f":"IF('TT-3 Exports'!A45 <> 0, 'TT-3 Exports'!A45, \"\")","v":""},{"$f":"IF('TT-3 Exports'!D45 <> 0, 'TT-3 Exports'!D45, \"\")","v":""},{"$f":"IF('TT-3 Exports'!E45 <> 0, 'TT-3 Exports'!E45, \"\")","v":""},{"$f":"IF('TT-3 Exports'!F45 <> \"\", 'TT-3 Exports'!F45, 0)","v":0},{"$f":"IF('TT-3 Exports'!G45 <> \"\", 'TT-3 Exports'!G45, 0)","v":0},{"$f":"IF('TT-3 Exports'!H45 <> \"\", 'TT-3 Exports'!H45, 0)","v":0},{"$f":"IF('TT-3 Exports'!I45 <> \"\", 'TT-3 Exports'!I45, 0)","v":0},{"$f":"IF('TT-3 Exports'!J45 <> \"\", 'TT-3 Exports'!J45, 0)","v":0},{"$f":"IF('TT-3 Exports'!K45 <> \"\", 'TT-3 Exports'!K45, 0)","v":0},{"$f":"IF('TT-3 Exports'!L45 <> \"\", 'TT-3 Exports'!L45, 0)","v":0},{"$f":"IF('TT-3 Exports'!M45 <> \"\", 'TT-3 Exports'!M45, 0)","v":0},{"$f":"IF('TT-3 Exports'!N45 <> \"\", 'TT-3 Exports'!N45, 0)","v":0},{"$f":"IF('TT-3 Exports'!O45 <> \"\", 'TT-3 Exports'!O45, 0)","v":0},{"$f":"IF('TT-3 Exports'!P45 <> \"\", 'TT-3 Exports'!P45, 0)","v":0},{"$f":"IF('TT-3 Exports'!Q45 <> \"\", 'TT-3 Exports'!Q45, 0)","v":0},{"$f":"IF('TT-3 Exports'!R45 <> \"\", 'TT-3 Exports'!R45, 0)","v":0},{"$f":"IF('TT-3 Exports'!S45 <> \"\", 'TT-3 Exports'!S45, 0)","v":0}]
[{"$f":"IF('TT-3 Exports'!A46 <> 0, 'TT-3 Exports'!A46, \"\")","v":""},{"$f":"IF('TT-3 Exports'!D46 <> 0, 'TT-3 Exports'!D46, \"\")","v":""},{"$f":"IF('TT-3 Exports'!E46 <> 0, 'TT-3 Exports'!E46, \"\")","v":""},{"$f":"IF('TT-3 Exports'!F46 <> \"\", 'TT-3 Exports'!F46, 0)","v":0},{"$f":"IF('TT-3 Exports'!G46 <> \"\", 'TT-3 Exports'!G46, 0)","v":0},{"$f":"IF('TT-3 Exports'!H46 <> \"\", 'TT-3 Exports'!H46, 0)","v":0},{"$f":"IF('TT-3 Exports'!I46 <> \"\", 'TT-3 Exports'!I46, 0)","v":0},{"$f":"IF('TT-3 Exports'!J46 <> \"\", 'TT-3 Exports'!J46, 0)","v":0},{"$f":"IF('TT-3 Exports'!K46 <> \"\", 'TT-3 Exports'!K46, 0)","v":0},{"$f":"IF('TT-3 Exports'!L46 <> \"\", 'TT-3 Exports'!L46, 0)","v":0},{"$f":"IF('TT-3 Exports'!M46 <> \"\", 'TT-3 Exports'!M46, 0)","v":0},{"$f":"IF('TT-3 Exports'!N46 <> \"\", 'TT-3 Exports'!N46, 0)","v":0},{"$f":"IF('TT-3 Exports'!O46 <> \"\", 'TT-3 Exports'!O46, 0)","v":0},{"$f":"IF('TT-3 Exports'!P46 <> \"\", 'TT-3 Exports'!P46, 0)","v":0},{"$f":"IF('TT-3 Exports'!Q46 <> \"\", 'TT-3 Exports'!Q46, 0)","v":0},{"$f":"IF('TT-3 Exports'!R46 <> \"\", 'TT-3 Exports'!R46, 0)","v":0},{"$f":"IF('TT-3 Exports'!S46 <> \"\", 'TT-3 Exports'!S46, 0)","v":0}]
[{"$f":"IF('TT-3 Exports'!A47 <> 0, 'TT-3 Exports'!A47, \"\")","v":""},{"$f":"IF('TT-3 Exports'!D47 <> 0, 'TT-3 Exports'!D47, \"\")","v":""},{"$f":"IF('TT-3 Exports'!E47 <> 0, 'TT-3 Exports'!E47, \"\")","v":""},{"$f":"IF('TT-3 Exports'!F47 <> \"\", 'TT-3 Exports'!F47, 0)","v":0},{"$f":"IF('TT-3 Exports'!G47 <> \"\", 'TT-3 Exports'!G47, 0)","v":0},{"$f":"IF('TT-3 Exports'!H47 <> \"\", 'TT-3 Exports'!H47, 0)","v":0},{"$f":"IF('TT-3 Exports'!I47 <> \"\", 'TT-3 Exports'!I47, 0)","v":0},{"$f":"IF('TT-3 Exports'!J47 <> \"\", 'TT-3 Exports'!J47, 0)","v":0},{"$f":"IF('TT-3 Exports'!K47 <> \"\", 'TT-3 Exports'!K47, 0)","v":0},{"$f":"IF('TT-3 Exports'!L47 <> \"\", 'TT-3 Exports'!L47, 0)","v":0},{"$f":"IF('TT-3 Exports'!M47 <> \"\", 'TT-3 Exports'!M47, 0)","v":0},{"$f":"IF('TT-3 Exports'!N47 <> \"\", 'TT-3 Exports'!N47, 0)","v":0},{"$f":"IF('TT-3 Exports'!O47 <> \"\", 'TT-3 Exports'!O47, 0)","v":0},{"$f":"IF('TT-3 Exports'!P47 <> \"\", 'TT-3 Exports'!P47, 0)","v":0},{"$f":"IF('TT-3 Exports'!Q47 <> \"\", 'TT-3 Exports'!Q47, 0)","v":0},{"$f":"IF('TT-3 Exports'!R47 <> \"\", 'TT-3 Exports'!R47, 0)","v":0},{"$f":"IF('TT-3 Exports'!S47 <> \"\", 'TT-3 Exports'!S47, 0)","v":0}]
[{"$f":"IF('TT-3 Exports'!A48 <> 0, 'TT-3 Exports'!A48, \"\")","v":""},{"$f":"IF('TT-3 Exports'!D48 <> 0, 'TT-3 Exports'!D48, \"\")","v":""},{"$f":"IF('TT-3 Exports'!E48 <> 0, 'TT-3 Exports'!E48, \"\")","v":""},{"$f":"IF('TT-3 Exports'!F48 <> \"\", 'TT-3 Exports'!F48, 0)","v":0},{"$f":"IF('TT-3 Exports'!G48 <> \"\", 'TT-3 Exports'!G48, 0)","v":0},{"$f":"IF('TT-3 Exports'!H48 <> \"\", 'TT-3 Exports'!H48, 0)","v":0},{"$f":"IF('TT-3 Exports'!I48 <> \"\", 'TT-3 Exports'!I48, 0)","v":0},{"$f":"IF('TT-3 Exports'!J48 <> \"\", 'TT-3 Exports'!J48, 0)","v":0},{"$f":"IF('TT-3 Exports'!K48 <> \"\", 'TT-3 Exports'!K48, 0)","v":0},{"$f":"IF('TT-3 Exports'!L48 <> \"\", 'TT-3 Exports'!L48, 0)","v":0},{"$f":"IF('TT-3 Exports'!M48 <> \"\", 'TT-3 Exports'!M48, 0)","v":0},{"$f":"IF('TT-3 Exports'!N48 <> \"\", 'TT-3 Exports'!N48, 0)","v":0},{"$f":"IF('TT-3 Exports'!O48 <> \"\", 'TT-3 Exports'!O48, 0)","v":0},{"$f":"IF('TT-3 Exports'!P48 <> \"\", 'TT-3 Exports'!P48, 0)","v":0},{"$f":"IF('TT-3 Exports'!Q48 <> \"\", 'TT-3 Exports'!Q48, 0)","v":0},{"$f":"IF('TT-3 Exports'!R48 <> \"\", 'TT-3 Exports'!R48, 0)","v":0},{"$f":"IF('TT-3 Exports'!S48 <> \"\", 'TT-3 Exports'!S48, 0)","v":0}]
[{"$f":"IF('TT-3 Exports'!A49 <> 0, 'TT-3 Exports'!A49, \"\")","v":""},{"$f":"IF('TT-3 Exports'!D49 <> 0, 'TT-3 Exports'!D49, \"\")","v":""},{"$f":"IF('TT-3 Exports'!E49 <> 0, 'TT-3 Exports'!E49, \"\")","v":""},{"$f":"IF('TT-3 Exports'!F49 <> \"\", 'TT-3 Exports'!F49, 0)","v":0},{"$f":"IF('TT-3 Exports'!G49 <> \"\", 'TT-3 Exports'!G49, 0)","v":0},{"$f":"IF('TT-3 Exports'!H49 <> \"\", 'TT-3 Exports'!H49, 0)","v":0},{"$f":"IF('TT-3 Exports'!I49 <> \"\", 'TT-3 Exports'!I49, 0)","v":0},{"$f":"IF('TT-3 Exports'!J49 <> \"\", 'TT-3 Exports'!J49, 0)","v":0},{"$f":"IF('TT-3 Exports'!K49 <> \"\", 'TT-3 Exports'!K49, 0)","v":0},{"$f":"IF('TT-3 Exports'!L49 <> \"\", 'TT-3 Exports'!L49, 0)","v":0},{"$f":"IF('TT-3 Exports'!M49 <> \"\", 'TT-3 Exports'!M49, 0)","v":0},{"$f":"IF('TT-3 Exports'!N49 <> \"\", 'TT-3 Exports'!N49, 0)","v":0},{"$f":"IF('TT-3 Exports'!O49 <> \"\", 'TT-3 Exports'!O49, 0)","v":0},{"$f":"IF('TT-3 Exports'!P49 <> \"\", 'TT-3 Exports'!P49, 0)","v":0},{"$f":"IF('TT-3 Exports'!Q49 <> \"\", 'TT-3 Exports'!Q49, 0)","v":0},{"$f":"IF('TT-3 Exports'!R49 <> \"\", 'TT-3 Exports'!R49, 0)","v":0},{"$f":"IF('TT-3 Exports'!S49 <> \"\", 'TT-3 Exports'!S49, 0)","v":0}]
[{"$f":"IF('TT-3 Exports'!A50 <> 0, 'TT-3 Exports'!A50, \"\")","v":""},{"$f":"IF('TT-3 Exports'!D50 <> 0, 'TT-3 Exports'!D50, \"\")","v":""},{"$f":"IF('TT-3 Exports'!E50 <> 0, 'TT-3 Exports'!E50, \"\")","v":""},{"$f":"IF('TT-3 Exports'!F50 <> \"\", 'TT-3 Exports'!F50, 0)","v":0},{"$f":"IF('TT-3 Exports'!G50 <> \"\", 'TT-3 Exports'!G50, 0)","v":0},{"$f":"IF('TT-3 Exports'!H50 <> \"\", 'TT-3 Exports'!H50, 0)","v":0},{"$f":"IF('TT-3 Exports'!I50 <> \"\", 'TT-3 Exports'!I50, 0)","v":0},{"$f":"IF('TT-3 Exports'!J50 <> \"\", 'TT-3 Exports'!J50, 0)","v":0},{"$f":"IF('TT-3 Exports'!K50 <> \"\", 'TT-3 Exports'!K50, 0)","v":0},{"$f":"IF('TT-3 Exports'!L50 <> \"\", 'TT-3 Exports'!L50, 0)","v":0},{"$f":"IF('TT-3 Exports'!M50 <> \"\", 'TT-3 Exports'!M50, 0)","v":0},{"$f":"IF('TT-3 Exports'!N50 <> \"\", 'TT-3 Exports'!N50, 0)","v":0},{"$f":"IF('TT-3 Exports'!O50 <> \"\", 'TT-3 Exports'!O50, 0)","v":0},{"$f":"IF('TT-3 Exports'!P50 <> \"\", 'TT-3 Exports'!P50, 0)","v":0},{"$f":"IF('TT-3 Exports'!Q50 <> \"\", 'TT-3 Exports'!Q50, 0)","v":0},{"$f":"IF('TT-3 Exports'!R50 <> \"\", 'TT-3 Exports'!R50, 0)","v":0},{"$f":"IF('TT-3 Exports'!S50 <> \"\", 'TT-3 Exports'!S50, 0)","v":0}]
[{"$f":"IF('TT-3 Exports'!A51 <> 0, 'TT-3 Exports'!A51, \"\")","v":""},{"$f":"IF('TT-3 Exports'!D51 <> 0, 'TT-3 Exports'!D51, \"\")","v":""},{"$f":"IF('TT-3 Exports'!E51 <> 0, 'TT-3 Exports'!E51, \"\")","v":""},{"$f":"IF('TT-3 Exports'!F51 <> \"\", 'TT-3 Exports'!F51, 0)","v":0},{"$f":"IF('TT-3 Exports'!G51 <> \"\", 'TT-3 Exports'!G51, 0)","v":0},{"$f":"IF('TT-3 Exports'!H51 <> \"\", 'TT-3 Exports'!H51, 0)","v":0},{"$f":"IF('TT-3 Exports'!I51 <> \"\", 'TT-3 Exports'!I51, 0)","v":0},{"$f":"IF('TT-3 Exports'!J51 <> \"\", 'TT-3 Exports'!J51, 0)","v":0},{"$f":"IF('TT-3 Exports'!K51 <> \"\", 'TT-3 Exports'!K51, 0)","v":0},{"$f":"IF('TT-3 Exports'!L51 <> \"\", 'TT-3 Exports'!L51, 0)","v":0},{"$f":"IF('TT-3 Exports'!M51 <> \"\", 'TT-3 Exports'!M51, 0)","v":0},{"$f":"IF('TT-3 Exports'!N51 <> \"\", 'TT-3 Exports'!N51, 0)","v":0},{"$f":"IF('TT-3 Exports'!O51 <> \"\", 'TT-3 Exports'!O51, 0)","v":0},{"$f":"IF('TT-3 Exports'!P51 <> \"\", 'TT-3 Exports'!P51, 0)","v":0},{"$f":"IF('TT-3 Exports'!Q51 <> \"\", 'TT-3 Exports'!Q51, 0)","v":0},{"$f":"IF('TT-3 Exports'!R51 <> \"\", 'TT-3 Exports'!R51, 0)","v":0},{"$f":"IF('TT-3 Exports'!S51 <> \"\", 'TT-3 Exports'!S51, 0)","v":0}]
[{"$f":"IF('TT-3 Exports'!A52 <> 0, 'TT-3 Exports'!A52, \"\")","v":""},{"$f":"IF('TT-3 Exports'!D52 <> 0, 'TT-3 Exports'!D52, \"\")","v":""},{"$f":"IF('TT-3 Exports'!E52 <> 0, 'TT-3 Exports'!E52, \"\")","v":""},{"$f":"IF('TT-3 Exports'!F52 <> \"\", 'TT-3 Exports'!F52, 0)","v":0},{"$f":"IF('TT-3 Exports'!G52 <> \"\", 'TT-3 Exports'!G52, 0)","v":0},{"$f":"IF('TT-3 Exports'!H52 <> \"\", 'TT-3 Exports'!H52, 0)","v":0},{"$f":"IF('TT-3 Exports'!I52 <> \"\", 'TT-3 Exports'!I52, 0)","v":0},{"$f":"IF('TT-3 Exports'!J52 <> \"\", 'TT-3 Exports'!J52, 0)","v":0},{"$f":"IF('TT-3 Exports'!K52 <> \"\", 'TT-3 Exports'!K52, 0)","v":0},{"$f":"IF('TT-3 Exports'!L52 <> \"\", 'TT-3 Exports'!L52, 0)","v":0},{"$f":"IF('TT-3 Exports'!M52 <> \"\", 'TT-3 Exports'!M52, 0)","v":0},{"$f":"IF('TT-3 Exports'!N52 <> \"\", 'TT-3 Exports'!N52, 0)","v":0},{"$f":"IF('TT-3 Exports'!O52 <> \"\", 'TT-3 Exports'!O52, 0)","v":0},{"$f":"IF('TT-3 Exports'!P52 <> \"\", 'TT-3 Exports'!P52, 0)","v":0},{"$f":"IF('TT-3 Exports'!Q52 <> \"\", 'TT-3 Exports'!Q52, 0)","v":0},{"$f":"IF('TT-3 Exports'!R52 <> \"\", 'TT-3 Exports'!R52, 0)","v":0},{"$f":"IF('TT-3 Exports'!S52 <> \"\", 'TT-3 Exports'!S52, 0)","v":0}]
[{"$f":"IF('TT-3 Exports'!A53 <> 0, 'TT-3 Exports'!A53, \"\")","v":""},{"$f":"IF('TT-3 Exports'!D53 <> 0, 'TT-3 Exports'!D53, \"\")","v":""},{"$f":"IF('TT-3 Exports'!E53 <> 0, 'TT-3 Exports'!E53, \"\")","v":""},{"$f":"IF('TT-3 Exports'!F53 <> \"\", 'TT-3 Exports'!F53, 0)","v":0},{"$f":"IF('TT-3 Exports'!G53 <> \"\", 'TT-3 Exports'!G53, 0)","v":0},{"$f":"IF('TT-3 Exports'!H53 <> \"\", 'TT-3 Exports'!H53, 0)","v":0},{"$f":"IF('TT-3 Exports'!I53 <> \"\", 'TT-3 Exports'!I53, 0)","v":0},{"$f":"IF('TT-3 Exports'!J53 <> \"\", 'TT-3 Exports'!J53, 0)","v":0},{"$f":"IF('TT-3 Exports'!K53 <> \"\", 'TT-3 Exports'!K53, 0)","v":0},{"$f":"IF('TT-3 Exports'!L53 <> \"\", 'TT-3 Exports'!L53, 0)","v":0},{"$f":"IF('TT-3 Exports'!M53 <> \"\", 'TT-3 Exports'!M53, 0)","v":0},{"$f":"IF('TT-3 Exports'!N53 <> \"\", 'TT-3 Exports'!N53, 0)","v":0},{"$f":"IF('TT-3 Exports'!O53 <> \"\", 'TT-3 Exports'!O53, 0)","v":0},{"$f":"IF('TT-3 Exports'!P53 <> \"\", 'TT-3 Exports'!P53, 0)","v":0},{"$f":"IF('TT-3 Exports'!Q53 <> \"\", 'TT-3 Exports'!Q53, 0)","v":0},{"$f":"IF('TT-3 Exports'!R53 <> \"\", 'TT-3 Exports'!R53, 0)","v":0},{"$f":"IF('TT-3 Exports'!S53 <> \"\", 'TT-3 Exports'!S53, 0)","v":0}]
[{"$f":"IF('TT-3 Exports'!A54 <> 0, 'TT-3 Exports'!A54, \"\")","v":""},{"$f":"IF('TT-3 Exports'!D54 <> 0, 'TT-3 Exports'!D54, \"\")","v":""},{"$f":"IF('TT-3 Exports'!E54 <> 0, 'TT-3 Exports'!E54, \"\")","v":""},{"$f":"IF('TT-3 Exports'!F54 <> \"\", 'TT-3 Exports'!F54, 0)","v":0},{"$f":"IF('TT-3 Exports'!G54 <> \"\", 'TT-3 Exports'!G54, 0)","v":0},{"$f":"IF('TT-3 Exports'!H54 <> \"\", 'TT-3 Exports'!H54, 0)","v":0},{"$f":"IF('TT-3 Exports'!I54 <> \"\", 'TT-3 Exports'!I54, 0)","v":0},{"$f":"IF('TT-3 Exports'!J54 <> \"\", 'TT-3 Exports'!J54, 0)","v":0},{"$f":"IF('TT-3 Exports'!K54 <> \"\", 'TT-3 Exports'!K54, 0)","v":0},{"$f":"IF('TT-3 Exports'!L54 <> \"\", 'TT-3 Exports'!L54, 0)","v":0},{"$f":"IF('TT-3 Exports'!M54 <> \"\", 'TT-3 Exports'!M54, 0)","v":0},{"$f":"IF('TT-3 Exports'!N54 <> \"\", 'TT-3 Exports'!N54, 0)","v":0},{"$f":"IF('TT-3 Exports'!O54 <> \"\", 'TT-3 Exports'!O54, 0)","v":0},{"$f":"IF('TT-3 Exports'!P54 <> \"\", 'TT-3 Exports'!P54, 0)","v":0},{"$f":"IF('TT-3 Exports'!Q54 <> \"\", 'TT-3 Exports'!Q54, 0)","v":0},{"$f":"IF('TT-3 Exports'!R54 <> \"\", 'TT-3 Exports'!R54, 0)","v":0},{"$f":"IF('TT-3 Exports'!S54 <> \"\", 'TT-3 Exports'!S54, 0)","v":0}]
[{"$f":"IF('TT-3 Exports'!A55 <> 0, 'TT-3 Exports'!A55, \"\")","v":""},{"$f":"IF('TT-3 Exports'!D55 <> 0, 'TT-3 Exports'!D55, \"\")","v":""},{"$f":"IF('TT-3 Exports'!E55 <> 0, 'TT-3 Exports'!E55, \"\")","v":""},{"$f":"IF('TT-3 Exports'!F55 <> \"\", 'TT-3 Exports'!F55, 0)","v":0},{"$f":"IF('TT-3 Exports'!G55 <> \"\", 'TT-3 Exports'!G55, 0)","v":0},{"$f":"IF('TT-3 Exports'!H55 <> \"\", 'TT-3 Exports'!H55, 0)","v":0},{"$f":"IF('TT-3 Exports'!I55 <> \"\", 'TT-3 Exports'!I55, 0)","v":0},{"$f":"IF('TT-3 Exports'!J55 <> \"\", 'TT-3 Exports'!J55, 0)","v":0},{"$f":"IF('TT-3 Exports'!K55 <> \"\", 'TT-3 Exports'!K55, 0)","v":0},{"$f":"IF('TT-3 Exports'!L55 <> \"\", 'TT-3 Exports'!L55, 0)","v":0},{"$f":"IF('TT-3 Exports'!M55 <> \"\", 'TT-3 Exports'!M55, 0)","v":0},{"$f":"IF('TT-3 Exports'!N55 <> \"\", 'TT-3 Exports'!N55, 0)","v":0},{"$f":"IF('TT-3 Exports'!O55 <> \"\", 'TT-3 Exports'!O55, 0)","v":0},{"$f":"IF('TT-3 Exports'!P55 <> \"\", 'TT-3 Exports'!P55, 0)","v":0},{"$f":"IF('TT-3 Exports'!Q55 <> \"\", 'TT-3 Exports'!Q55, 0)","v":0},{"$f":"IF('TT-3 Exports'!R55 <> \"\", 'TT-3 Exports'!R55, 0)","v":0},{"$f":"IF('TT-3 Exports'!S55 <> \"\", 'TT-3 Exports'!S55, 0)","v":0}]
[{"$f":"IF('TT-3 Exports'!A56 <> 0, 'TT-3 Exports'!A56, \"\")","v":""},{"$f":"IF('TT-3 Exports'!D56 <> 0, 'TT-3 Exports'!D56, \"\")","v":""},{"$f":"IF('TT-3 Exports'!E56 <> 0, 'TT-3 Exports'!E56, \"\")","v":""},{"$f":"IF('TT-3 Exports'!F56 <> \"\", 'TT-3 Exports'!F56, 0)","v":0},{"$f":"IF('TT-3 Exports'!G56 <> \"\", 'TT-3 Exports'!G56, 0)","v":0},{"$f":"IF('TT-3 Exports'!H56 <> \"\", 'TT-3 Exports'!H56, 0)","v":0},{"$f":"IF('TT-3 Exports'!I56 <> \"\", 'TT-3 Exports'!I56, 0)","v":0},{"$f":"IF('TT-3 Exports'!J56 <> \"\", 'TT-3 Exports'!J56, 0)","v":0},{"$f":"IF('TT-3 Exports'!K56 <> \"\", 'TT-3 Exports'!K56, 0)","v":0},{"$f":"IF('TT-3 Exports'!L56 <> \"\", 'TT-3 Exports'!L56, 0)","v":0},{"$f":"IF('TT-3 Exports'!M56 <> \"\", 'TT-3 Exports'!M56, 0)","v":0},{"$f":"IF('TT-3 Exports'!N56 <> \"\", 'TT-3 Exports'!N56, 0)","v":0},{"$f":"IF('TT-3 Exports'!O56 <> \"\", 'TT-3 Exports'!O56, 0)","v":0},{"$f":"IF('TT-3 Exports'!P56 <> \"\", 'TT-3 Exports'!P56, 0)","v":0},{"$f":"IF('TT-3 Exports'!Q56 <> \"\", 'TT-3 Exports'!Q56, 0)","v":0},{"$f":"IF('TT-3 Exports'!R56 <> \"\", 'TT-3 Exports'!R56, 0)","v":0},{"$f":"IF('TT-3 Exports'!S56 <> \"\", 'TT-3 Exports'!S56, 0)","v":0}]
[{"$f":"IF('TT-3 Exports'!A57 <> 0, 'TT-3 Exports'!A57, \"\")","v":""},{"$f":"IF('TT-3 Exports'!D57 <> 0, 'TT-3 Exports'!D57, \"\")","v":""},{"$f":"IF('TT-3 Exports'!E57 <> 0, 'TT-3 Exports'!E57, \"\")","v":""},{"$f":"IF('TT-3 Exports'!F57 <> \"\", 'TT-3 Exports'!F57, 0)","v":0},{"$f":"IF('TT-3 Exports'!G57 <> \"\", 'TT-3 Exports'!G57, 0)","v":0},{"$f":"IF('TT-3 Exports'!H57 <> \"\", 'TT-3 Exports'!H57, 0)","v":0},{"$f":"IF('TT-3 Exports'!I57 <> \"\", 'TT-3 Exports'!I57, 0)","v":0},{"$f":"IF('TT-3 Exports'!J57 <> \"\", 'TT-3 Exports'!J57, 0)","v":0},{"$f":"IF('TT-3 Exports'!K57 <> \"\", 'TT-3 Exports'!K57, 0)","v":0},{"$f":"IF('TT-3 Exports'!L57 <> \"\", 'TT-3 Exports'!L57, 0)","v":0},{"$f":"IF('TT-3 Exports'!M57 <> \"\", 'TT-3 Exports'!M57, 0)","v":0},{"$f":"IF('TT-3 Exports'!N57 <> \"\", 'TT-3 Exports'!N57, 0)","v":0},{"$f":"IF('TT-3 Exports'!O57 <> \"\", 'TT-3 Exports'!O57, 0)","v":0},{"$f":"IF('TT-3 Exports'!P57 <> \"\", 'TT-3 Exports'!P57, 0)","v":0},{"$f":"IF('TT-3 Exports'!Q57 <> \"\", 'TT-3 Exports'!Q57, 0)","v":0},{"$f":"IF('TT-3 Exports'!R57 <> \"\", 'TT-3 Exports'!R57, 0)","v":0},{"$f":"IF('TT-3 Exports'!S57 <> \"\", 'TT-3 Exports'!S57, 0)","v":0}]
[{"$f":"IF('TT-3 Exports'!A58 <> 0, 'TT-3 Exports'!A58, \"\")","v":""},{"$f":"IF('TT-3 Exports'!D58 <> 0, 'TT-3 Exports'!D58, \"\")","v":""},{"$f":"IF('TT-3 Exports'!E58 <> 0, 'TT-3 Exports'!E58, \"\")","v":""},{"$f":"IF('TT-3 Exports'!F58 <> \"\", 'TT-3 Exports'!F58, 0)","v":0},{"$f":"IF('TT-3 Exports'!G58 <> \"\", 'TT-3 Exports'!G58, 0)","v":0},{"$f":"IF('TT-3 Exports'!H58 <> \"\", 'TT-3 Exports'!H58, 0)","v":0},{"$f":"IF('TT-3 Exports'!I58 <> \"\", 'TT-3 Exports'!I58, 0)","v":0},{"$f":"IF('TT-3 Exports'!J58 <> \"\", 'TT-3 Exports'!J58, 0)","v":0},{"$f":"IF('TT-3 Exports'!K58 <> \"\", 'TT-3 Exports'!K58, 0)","v":0},{"$f":"IF('TT-3 Exports'!L58 <> \"\", 'TT-3 Exports'!L58, 0)","v":0},{"$f":"IF('TT-3 Exports'!M58 <> \"\", 'TT-3 Exports'!M58, 0)","v":0},{"$f":"IF('TT-3 Exports'!N58 <> \"\", 'TT-3 Exports'!N58, 0)","v":0},{"$f":"IF('TT-3 Exports'!O58 <> \"\", 'TT-3 Exports'!O58, 0)","v":0},{"$f":"IF('TT-3 Exports'!P58 <> \"\", 'TT-3 Exports'!P58, 0)","v":0},{"$f":"IF('TT-3 Exports'!Q58 <> \"\", 'TT-3 Exports'!Q58, 0)","v":0},{"$f":"IF('TT-3 Exports'!R58 <> \"\", 'TT-3 Exports'!R58, 0)","v":0},{"$f":"IF('TT-3 Exports'!S58 <> \"\", 'TT-3 Exports'!S58, 0)","v":0}]
[{"$f":"IF('TT-3 Exports'!A59 <> 0, 'TT-3 Exports'!A59, \"\")","v":""},{"$f":"IF('TT-3 Exports'!D59 <> 0, 'TT-3 Exports'!D59, \"\")","v":""},{"$f":"IF('TT-3 Exports'!E59 <> 0, 'TT-3 Exports'!E59, \"\")","v":""},{"$f":"IF('TT-3 Exports'!F59 <> \"\", 'TT-3 Exports'!F59, 0)","v":0},{"$f":"IF('TT-3 Exports'!G59 <> \"\", 'TT-3 Exports'!G59, 0)","v":0},{"$f":"IF('TT-3 Exports'!H59 <> \"\", 'TT-3 Exports'!H59, 0)","v":0},{"$f":"IF('TT-3 Exports'!I59 <> \"\", 'TT-3 Exports'!I59, 0)","v":0},{"$f":"IF('TT-3 Exports'!J59 <> \"\", 'TT-3 Exports'!J59, 0)","v":0},{"$f":"IF('TT-3 Exports'!K59 <> \"\", 'TT-3 Exports'!K59, 0)","v":0},{"$f":"IF('TT-3 Exports'!L59 <> \"\", 'TT-3 Exports'!L59, 0)","v":0},{"$f":"IF('TT-3 Exports'!M59 <> \"\", 'TT-3 Exports'!M59, 0)","v":0},{"$f":"IF('TT-3 Exports'!N59 <> \"\", 'TT-3 Exports'!N59, 0)","v":0},{"$f":"IF('TT-3 Exports'!O59 <> \"\", 'TT-3 Exports'!O59, 0)","v":0},{"$f":"IF('TT-3 Exports'!P59 <> \"\", 'TT-3 Exports'!P59, 0)","v":0},{"$f":"IF('TT-3 Exports'!Q59 <> \"\", 'TT-3 Exports'!Q59, 0)","v":0},{"$f":"IF('TT-3 Exports'!R59 <> \"\", 'TT-3 Exports'!R59, 0)","v":0},{"$f":"IF('TT-3 Exports'!S59 <> \"\", 'TT-3 Exports'!S59, 0)","v":0}]
[{"$f":"IF('TT-3 Exports'!A60 <> 0, 'TT-3 Exports'!A60, \"\")","v":""},{"$f":"IF('TT-3 Exports'!D60 <> 0, 'TT-3 Exports'!D60, \"\")","v":""},{"$f":"IF('TT-3 Exports'!E60 <> 0, 'TT-3 Exports'!E60, \"\")","v":""},{"$f":"IF('TT-3 Exports'!F60 <> \"\", 'TT-3 Exports'!F60, 0)","v":0},{"$f":"IF('TT-3 Exports'!G60 <> \"\", 'TT-3 Exports'!G60, 0)","v":0},{"$f":"IF('TT-3 Exports'!H60 <> \"\", 'TT-3 Exports'!H60, 0)","v":0},{"$f":"IF('TT-3 Exports'!I60 <> \"\", 'TT-3 Exports'!I60, 0)","v":0},{"$f":"IF('TT-3 Exports'!J60 <> \"\", 'TT-3 Exports'!J60, 0)","v":0},{"$f":"IF('TT-3 Exports'!K60 <> \"\", 'TT-3 Exports'!K60, 0)","v":0},{"$f":"IF('TT-3 Exports'!L60 <> \"\", 'TT-3 Exports'!L60, 0)","v":0},{"$f":"IF('TT-3 Exports'!M60 <> \"\", 'TT-3 Exports'!M60, 0)","v":0},{"$f":"IF('TT-3 Exports'!N60 <> \"\", 'TT-3 Exports'!N60, 0)","v":0},{"$f":"IF('TT-3 Exports'!O60 <> \"\", 'TT-3 Exports'!O60, 0)","v":0},{"$f":"IF('TT-3 Exports'!P60 <> \"\", 'TT-3 Exports'!P60, 0)","v":0},{"$f":"IF('TT-3 Exports'!Q60 <> \"\", 'TT-3 Exports'!Q60, 0)","v":0},{"$f":"IF('TT-3 Exports'!R60 <> \"\", 'TT-3 Exports'!R60, 0)","v":0},{"$f":"IF('TT-3 Exports'!S60 <> \"\", 'TT-3 Exports'!S60, 0)","v":0}]

{"sheet":"MapTT-4","index":8,"n_rows":1,"n_cols":12,"rows_kept":1,"cut":false,"hidden":true,"merged":[]}
[{"$f":"IF('TT-4  Tax Memo Sales'!F10 <> \"\", 'TT-4  Tax Memo Sales'!F10, 0)","v":0},{"$f":"IF('TT-4  Tax Memo Sales'!G10 <> \"\", 'TT-4  Tax Memo Sales'!G10, 0)","v":0},{"$f":"IF('TT-4  Tax Memo Sales'!H10 <> \"\", 'TT-4  Tax Memo Sales'!H10, 0)","v":0},{"$f":"IF('TT-4  Tax Memo Sales'!I10 <> \"\", 'TT-4  Tax Memo Sales'!I10, 0)","v":0},{"$f":"IF('TT-4  Tax Memo Sales'!J10 <> \"\", 'TT-4  Tax Memo Sales'!J10, 0)","v":0},{"$f":"IF('TT-4  Tax Memo Sales'!K10 <> \"\", 'TT-4  Tax Memo Sales'!K10, 0)","v":0},{"$f":"IF('TT-4  Tax Memo Sales'!L10 <> \"\", 'TT-4  Tax Memo Sales'!L10, 0)","v":0},{"$f":"IF('TT-4  Tax Memo Sales'!M10 <> \"\", 'TT-4  Tax Memo Sales'!M10, 0)","v":0},{"$f":"IF('TT-4  Tax Memo Sales'!N10 <> \"\", 'TT-4  Tax Memo Sales'!N10, 0)","v":0},{"$f":"IF('TT-4  Tax Memo Sales'!O10 <> \"\", 'TT-4  Tax Memo Sales'!O10, 0)","v":0},{"$f":"IF('TT-4  Tax Memo Sales'!P10 <> \"\", 'TT-4  Tax Memo Sales'!P10, 0)","v":0},{"$f":"IF('TT-4  Tax Memo Sales'!Q10 <> \"\", 'TT-4  Tax Memo Sales'!Q10, 0)","v":0}]

{"sheet":"MapTT-5","index":9,"n_rows":50,"n_cols":15,"rows_kept":50,"cut":false,"hidden":true,"merged":[]}
[{"$f":"IF('TT-5 Tax ($) Adjustments'!A10 <> 0, 'TT-5 Tax ($) Adjustments'!A10, \"\")","v":""},{"$f":"IF('TT-5 Tax ($) Adjustments'!B10 <> 0, 'TT-5 Tax ($) Adjustments'!B10, \"\")","v":""},{"$f":"IF('TT-5 Tax ($) Adjustments'!C10 <> 0, 'TT-5 Tax ($) Adjustments'!C10, \"\")","v":""},{"$f":"IF('TT-5 Tax ($) Adjustments'!D10 <> \"\", 'TT-5 Tax ($) Adjustments'!D10, 0)","v":0},{"$f":"IF('TT-5 Tax ($) Adjustments'!E10 <> \"\", 'TT-5 Tax ($) Adjustments'!E10, 0)","v":0},{"$f":"IF('TT-5 Tax ($) Adjustments'!F10 <> \"\", 'TT-5 Tax ($) Adjustments'!F10, 0)","v":0},{"$f":"IF('TT-5 Tax ($) Adjustments'!G10 <> \"\", 'TT-5 Tax ($) Adjustments'!G10, 0)","v":0},{"$f":"IF('TT-5 Tax ($) Adjustments'!H10 <> \"\", 'TT-5 Tax ($) Adjustments'!H10, 0)","v":0},{"$f":"IF('TT-5 Tax ($) Adjustments'!I10 <> \"\", 'TT-5 Tax ($) Adjustments'!I10, 0)","v":0},{"$f":"IF('TT-5 Tax ($) Adjustments'!J10 <> \"\", 'TT-5 Tax ($) Adjustments'!J10, 0)","v":0},{"$f":"IF('TT-5 Tax ($) Adjustments'!K10 <> \"\", 'TT-5 Tax ($) Adjustments'!K10, 0)","v":0},{"$f":"IF('TT-5 Tax ($) Adjustments'!L10 <> \"\", 'TT-5 Tax ($) Adjustments'!L10, 0)","v":0},{"$f":"IF('TT-5 Tax ($) Adjustments'!M10 <> \"\", 'TT-5 Tax ($) Adjustments'!M10, 0)","v":0},{"$f":"IF('TT-5 Tax ($) Adjustments'!N10 <> \"\", 'TT-5 Tax ($) Adjustments'!N10, 0)","v":0},{"$f":"IF('TT-5 Tax ($) Adjustments'!O10 <> 0, 'TT-5 Tax ($) Adjustments'!O10, \"\")","v":""}]
[{"$f":"IF('TT-5 Tax ($) Adjustments'!A11 <> 0, 'TT-5 Tax ($) Adjustments'!A11, \"\")","v":""},{"$f":"IF('TT-5 Tax ($) Adjustments'!B11 <> 0, 'TT-5 Tax ($) Adjustments'!B11, \"\")","v":""},{"$f":"IF('TT-5 Tax ($) Adjustments'!C11 <> 0, 'TT-5 Tax ($) Adjustments'!C11, \"\")","v":""},{"$f":"IF('TT-5 Tax ($) Adjustments'!D11 <> \"\", 'TT-5 Tax ($) Adjustments'!D11, 0)","v":0},{"$f":"IF('TT-5 Tax ($) Adjustments'!E11 <> \"\", 'TT-5 Tax ($) Adjustments'!E11, 0)","v":0},{"$f":"IF('TT-5 Tax ($) Adjustments'!F11 <> \"\", 'TT-5 Tax ($) Adjustments'!F11, 0)","v":0},{"$f":"IF('TT-5 Tax ($) Adjustments'!G11 <> \"\", 'TT-5 Tax ($) Adjustments'!G11, 0)","v":0},{"$f":"IF('TT-5 Tax ($) Adjustments'!H11 <> \"\", 'TT-5 Tax ($) Adjustments'!H11, 0)","v":0},{"$f":"IF('TT-5 Tax ($) Adjustments'!I11 <> \"\", 'TT-5 Tax ($) Adjustments'!I11, 0)","v":0},{"$f":"IF('TT-5 Tax ($) Adjustments'!J11 <> \"\", 'TT-5 Tax ($) Adjustments'!J11, 0)","v":0},{"$f":"IF('TT-5 Tax ($) Adjustments'!K11 <> \"\", 'TT-5 Tax ($) Adjustments'!K11, 0)","v":0},{"$f":"IF('TT-5 Tax ($) Adjustments'!L11 <> \"\", 'TT-5 Tax ($) Adjustments'!L11, 0)","v":0},{"$f":"IF('TT-5 Tax ($) Adjustments'!M11 <> \"\", 'TT-5 Tax ($) Adjustments'!M11, 0)","v":0},{"$f":"IF('TT-5 Tax ($) Adjustments'!N11 <> \"\", 'TT-5 Tax ($) Adjustments'!N11, 0)","v":0},{"$f":"IF('TT-5 Tax ($) Adjustments'!O11 <> 0, 'TT-5 Tax ($) Adjustments'!O11, \"\")","v":""}]
[{"$f":"IF('TT-5 Tax ($) Adjustments'!A12 <> 0, 'TT-5 Tax ($) Adjustments'!A12, \"\")","v":""},{"$f":"IF('TT-5 Tax ($) Adjustments'!B12 <> 0, 'TT-5 Tax ($) Adjustments'!B12, \"\")","v":""},{"$f":"IF('TT-5 Tax ($) Adjustments'!C12 <> 0, 'TT-5 Tax ($) Adjustments'!C12, \"\")","v":""},{"$f":"IF('TT-5 Tax ($) Adjustments'!D12 <> \"\", 'TT-5 Tax ($) Adjustments'!D12, 0)","v":0},{"$f":"IF('TT-5 Tax ($) Adjustments'!E12 <> \"\", 'TT-5 Tax ($) Adjustments'!E12, 0)","v":0},{"$f":"IF('TT-5 Tax ($) Adjustments'!F12 <> \"\", 'TT-5 Tax ($) Adjustments'!F12, 0)","v":0},{"$f":"IF('TT-5 Tax ($) Adjustments'!G12 <> \"\", 'TT-5 Tax ($) Adjustments'!G12, 0)","v":0},{"$f":"IF('TT-5 Tax ($) Adjustments'!H12 <> \"\", 'TT-5 Tax ($) Adjustments'!H12, 0)","v":0},{"$f":"IF('TT-5 Tax ($) Adjustments'!I12 <> \"\", 'TT-5 Tax ($) Adjustments'!I12, 0)","v":0},{"$f":"IF('TT-5 Tax ($) Adjustments'!J12 <> \"\", 'TT-5 Tax ($) Adjustments'!J12, 0)","v":0},{"$f":"IF('TT-5 Tax ($) Adjustments'!K12 <> \"\", 'TT-5 Tax ($) Adjustments'!K12, 0)","v":0},{"$f":"IF('TT-5 Tax ($) Adjustments'!L12 <> \"\", 'TT-5 Tax ($) Adjustments'!L12, 0)","v":0},{"$f":"IF('TT-5 Tax ($) Adjustments'!M12 <> \"\", 'TT-5 Tax ($) Adjustments'!M12, 0)","v":0},{"$f":"IF('TT-5 Tax ($) Adjustments'!N12 <> \"\", 'TT-5 Tax ($) Adjustments'!N12, 0)","v":0},{"$f":"IF('TT-5 Tax ($) Adjustments'!O12 <> 0, 'TT-5 Tax ($) Adjustments'!O12, \"\")","v":""}]
[{"$f":"IF('TT-5 Tax ($) Adjustments'!A13 <> 0, 'TT-5 Tax ($) Adjustments'!A13, \"\")","v":""},{"$f":"IF('TT-5 Tax ($) Adjustments'!B13 <> 0, 'TT-5 Tax ($) Adjustments'!B13, \"\")","v":""},{"$f":"IF('TT-5 Tax ($) Adjustments'!C13 <> 0, 'TT-5 Tax ($) Adjustments'!C13, \"\")","v":""},{"$f":"IF('TT-5 Tax ($) Adjustments'!D13 <> \"\", 'TT-5 Tax ($) Adjustments'!D13, 0)","v":0},{"$f":"IF('TT-5 Tax ($) Adjustments'!E13 <> \"\", 'TT-5 Tax ($) Adjustments'!E13, 0)","v":0},{"$f":"IF('TT-5 Tax ($) Adjustments'!F13 <> \"\", 'TT-5 Tax ($) Adjustments'!F13, 0)","v":0},{"$f":"IF('TT-5 Tax ($) Adjustments'!G13 <> \"\", 'TT-5 Tax ($) Adjustments'!G13, 0)","v":0},{"$f":"IF('TT-5 Tax ($) Adjustments'!H13 <> \"\", 'TT-5 Tax ($) Adjustments'!H13, 0)","v":0},{"$f":"IF('TT-5 Tax ($) Adjustments'!I13 <> \"\", 'TT-5 Tax ($) Adjustments'!I13, 0)","v":0},{"$f":"IF('TT-5 Tax ($) Adjustments'!J13 <> \"\", 'TT-5 Tax ($) Adjustments'!J13, 0)","v":0},{"$f":"IF('TT-5 Tax ($) Adjustments'!K13 <> \"\", 'TT-5 Tax ($) Adjustments'!K13, 0)","v":0},{"$f":"IF('TT-5 Tax ($) Adjustments'!L13 <> \"\", 'TT-5 Tax ($) Adjustments'!L13, 0)","v":0},{"$f":"IF('TT-5 Tax ($) Adjustments'!M13 <> \"\", 'TT-5 Tax ($) Adjustments'!M13, 0)","v":0},{"$f":"IF('TT-5 Tax ($) Adjustments'!N13 <> \"\", 'TT-5 Tax ($) Adjustments'!N13, 0)","v":0},{"$f":"IF('TT-5 Tax ($) Adjustments'!O13 <> 0, 'TT-5 Tax ($) Adjustments'!O13, \"\")","v":""}]
[{"$f":"IF('TT-5 Tax ($) Adjustments'!A14 <> 0, 'TT-5 Tax ($) Adjustments'!A14, \"\")","v":""},{"$f":"IF('TT-5 Tax ($) Adjustments'!B14 <> 0, 'TT-5 Tax ($) Adjustments'!B14, \"\")","v":""},{"$f":"IF('TT-5 Tax ($) Adjustments'!C14 <> 0, 'TT-5 Tax ($) Adjustments'!C14, \"\")","v":""},{"$f":"IF('TT-5 Tax ($) Adjustments'!D14 <> \"\", 'TT-5 Tax ($) Adjustments'!D14, 0)","v":0},{"$f":"IF('TT-5 Tax ($) Adjustments'!E14 <> \"\", 'TT-5 Tax ($) Adjustments'!E14, 0)","v":0},{"$f":"IF('TT-5 Tax ($) Adjustments'!F14 <> \"\", 'TT-5 Tax ($) Adjustments'!F14, 0)","v":0},{"$f":"IF('TT-5 Tax ($) Adjustments'!G14 <> \"\", 'TT-5 Tax ($) Adjustments'!G14, 0)","v":0},{"$f":"IF('TT-5 Tax ($) Adjustments'!H14 <> \"\", 'TT-5 Tax ($) Adjustments'!H14, 0)","v":0},{"$f":"IF('TT-5 Tax ($) Adjustments'!I14 <> \"\", 'TT-5 Tax ($) Adjustments'!I14, 0)","v":0},{"$f":"IF('TT-5 Tax ($) Adjustments'!J14 <> \"\", 'TT-5 Tax ($) Adjustments'!J14, 0)","v":0},{"$f":"IF('TT-5 Tax ($) Adjustments'!K14 <> \"\", 'TT-5 Tax ($) Adjustments'!K14, 0)","v":0},{"$f":"IF('TT-5 Tax ($) Adjustments'!L14 <> \"\", 'TT-5 Tax ($) Adjustments'!L14, 0)","v":0},{"$f":"IF('TT-5 Tax ($) Adjustments'!M14 <> \"\", 'TT-5 Tax ($) Adjustments'!M14, 0)","v":0},{"$f":"IF('TT-5 Tax ($) Adjustments'!N14 <> \"\", 'TT-5 Tax ($) Adjustments'!N14, 0)","v":0},{"$f":"IF('TT-5 Tax ($) Adjustments'!O14 <> 0, 'TT-5 Tax ($) Adjustments'!O14, \"\")","v":""}]
[{"$f":"IF('TT-5 Tax ($) Adjustments'!A15 <> 0, 'TT-5 Tax ($) Adjustments'!A15, \"\")","v":""},{"$f":"IF('TT-5 Tax ($) Adjustments'!B15 <> 0, 'TT-5 Tax ($) Adjustments'!B15, \"\")","v":""},{"$f":"IF('TT-5 Tax ($) Adjustments'!C15 <> 0, 'TT-5 Tax ($) Adjustments'!C15, \"\")","v":""},{"$f":"IF('TT-5 Tax ($) Adjustments'!D15 <> \"\", 'TT-5 Tax ($) Adjustments'!D15, 0)","v":0},{"$f":"IF('TT-5 Tax ($) Adjustments'!E15 <> \"\", 'TT-5 Tax ($) Adjustments'!E15, 0)","v":0},{"$f":"IF('TT-5 Tax ($) Adjustments'!F15 <> \"\", 'TT-5 Tax ($) Adjustments'!F15, 0)","v":0},{"$f":"IF('TT-5 Tax ($) Adjustments'!G15 <> \"\", 'TT-5 Tax ($) Adjustments'!G15, 0)","v":0},{"$f":"IF('TT-5 Tax ($) Adjustments'!H15 <> \"\", 'TT-5 Tax ($) Adjustments'!H15, 0)","v":0},{"$f":"IF('TT-5 Tax ($) Adjustments'!I15 <> \"\", 'TT-5 Tax ($) Adjustments'!I15, 0)","v":0},{"$f":"IF('TT-5 Tax ($) Adjustments'!J15 <> \"\", 'TT-5 Tax ($) Adjustments'!J15, 0)","v":0},{"$f":"IF('TT-5 Tax ($) Adjustments'!K15 <> \"\", 'TT-5 Tax ($) Adjustments'!K15, 0)","v":0},{"$f":"IF('TT-5 Tax ($) Adjustments'!L15 <> \"\", 'TT-5 Tax ($) Adjustments'!L15, 0)","v":0},{"$f":"IF('TT-5 Tax ($) Adjustments'!M15 <> \"\", 'TT-5 Tax ($) Adjustments'!M15, 0)","v":0},{"$f":"IF('TT-5 Tax ($) Adjustments'!N15 <> \"\", 'TT-5 Tax ($) Adjustments'!N15, 0)","v":0},{"$f":"IF('TT-5 Tax ($) Adjustments'!O15 <> 0, 'TT-5 Tax ($) Adjustments'!O15, \"\")","v":""}]
[{"$f":"IF('TT-5 Tax ($) Adjustments'!A16 <> 0, 'TT-5 Tax ($) Adjustments'!A16, \"\")","v":""},{"$f":"IF('TT-5 Tax ($) Adjustments'!B16 <> 0, 'TT-5 Tax ($) Adjustments'!B16, \"\")","v":""},{"$f":"IF('TT-5 Tax ($) Adjustments'!C16 <> 0, 'TT-5 Tax ($) Adjustments'!C16, \"\")","v":""},{"$f":"IF('TT-5 Tax ($) Adjustments'!D16 <> \"\", 'TT-5 Tax ($) Adjustments'!D16, 0)","v":0},{"$f":"IF('TT-5 Tax ($) Adjustments'!E16 <> \"\", 'TT-5 Tax ($) Adjustments'!E16, 0)","v":0},{"$f":"IF('TT-5 Tax ($) Adjustments'!F16 <> \"\", 'TT-5 Tax ($) Adjustments'!F16, 0)","v":0},{"$f":"IF('TT-5 Tax ($) Adjustments'!G16 <> \"\", 'TT-5 Tax ($) Adjustments'!G16, 0)","v":0},{"$f":"IF('TT-5 Tax ($) Adjustments'!H16 <> \"\", 'TT-5 Tax ($) Adjustments'!H16, 0)","v":0},{"$f":"IF('TT-5 Tax ($) Adjustments'!I16 <> \"\", 'TT-5 Tax ($) Adjustments'!I16, 0)","v":0},{"$f":"IF('TT-5 Tax ($) Adjustments'!J16 <> \"\", 'TT-5 Tax ($) Adjustments'!J16, 0)","v":0},{"$f":"IF('TT-5 Tax ($) Adjustments'!K16 <> \"\", 'TT-5 Tax ($) Adjustments'!K16, 0)","v":0},{"$f":"IF('TT-5 Tax ($) Adjustments'!L16 <> \"\", 'TT-5 Tax ($) Adjustments'!L16, 0)","v":0},{"$f":"IF('TT-5 Tax ($) Adjustments'!M16 <> \"\", 'TT-5 Tax ($) Adjustments'!M16, 0)","v":0},{"$f":"IF('TT-5 Tax ($) Adjustments'!N16 <> \"\", 'TT-5 Tax ($) Adjustments'!N16, 0)","v":0},{"$f":"IF('TT-5 Tax ($) Adjustments'!O16 <> 0, 'TT-5 Tax ($) Adjustments'!O16, \"\")","v":""}]
[{"$f":"IF('TT-5 Tax ($) Adjustments'!A17 <> 0, 'TT-5 Tax ($) Adjustments'!A17, \"\")","v":""},{"$f":"IF('TT-5 Tax ($) Adjustments'!B17 <> 0, 'TT-5 Tax ($) Adjustments'!B17, \"\")","v":""},{"$f":"IF('TT-5 Tax ($) Adjustments'!C17 <> 0, 'TT-5 Tax ($) Adjustments'!C17, \"\")","v":""},{"$f":"IF('TT-5 Tax ($) Adjustments'!D17 <> \"\", 'TT-5 Tax ($) Adjustments'!D17, 0)","v":0},{"$f":"IF('TT-5 Tax ($) Adjustments'!E17 <> \"\", 'TT-5 Tax ($) Adjustments'!E17, 0)","v":0},{"$f":"IF('TT-5 Tax ($) Adjustments'!F17 <> \"\", 'TT-5 Tax ($) Adjustments'!F17, 0)","v":0},{"$f":"IF('TT-5 Tax ($) Adjustments'!G17 <> \"\", 'TT-5 Tax ($) Adjustments'!G17, 0)","v":0},{"$f":"IF('TT-5 Tax ($) Adjustments'!H17 <> \"\", 'TT-5 Tax ($) Adjustments'!H17, 0)","v":0},{"$f":"IF('TT-5 Tax ($) Adjustments'!I17 <> \"\", 'TT-5 Tax ($) Adjustments'!I17, 0)","v":0},{"$f":"IF('TT-5 Tax ($) Adjustments'!J17 <> \"\", 'TT-5 Tax ($) Adjustments'!J17, 0)","v":0},{"$f":"IF('TT-5 Tax ($) Adjustments'!K17 <> \"\", 'TT-5 Tax ($) Adjustments'!K17, 0)","v":0},{"$f":"IF('TT-5 Tax ($) Adjustments'!L17 <> \"\", 'TT-5 Tax ($) Adjustments'!L17, 0)","v":0},{"$f":"IF('TT-5 Tax ($) Adjustments'!M17 <> \"\", 'TT-5 Tax ($) Adjustments'!M17, 0)","v":0},{"$f":"IF('TT-5 Tax ($) Adjustments'!N17 <> \"\", 'TT-5 Tax ($) Adjustments'!N17, 0)","v":0},{"$f":"IF('TT-5 Tax ($) Adjustments'!O17 <> 0, 'TT-5 Tax ($) Adjustments'!O17, \"\")","v":""}]
[{"$f":"IF('TT-5 Tax ($) Adjustments'!A18 <> 0, 'TT-5 Tax ($) Adjustments'!A18, \"\")","v":""},{"$f":"IF('TT-5 Tax ($) Adjustments'!B18 <> 0, 'TT-5 Tax ($) Adjustments'!B18, \"\")","v":""},{"$f":"IF('TT-5 Tax ($) Adjustments'!C18 <> 0, 'TT-5 Tax ($) Adjustments'!C18, \"\")","v":""},{"$f":"IF('TT-5 Tax ($) Adjustments'!D18 <> \"\", 'TT-5 Tax ($) Adjustments'!D18, 0)","v":0},{"$f":"IF('TT-5 Tax ($) Adjustments'!E18 <> \"\", 'TT-5 Tax ($) Adjustments'!E18, 0)","v":0},{"$f":"IF('TT-5 Tax ($) Adjustments'!F18 <> \"\", 'TT-5 Tax ($) Adjustments'!F18, 0)","v":0},{"$f":"IF('TT-5 Tax ($) Adjustments'!G18 <> \"\", 'TT-5 Tax ($) Adjustments'!G18, 0)","v":0},{"$f":"IF('TT-5 Tax ($) Adjustments'!H18 <> \"\", 'TT-5 Tax ($) Adjustments'!H18, 0)","v":0},{"$f":"IF('TT-5 Tax ($) Adjustments'!I18 <> \"\", 'TT-5 Tax ($) Adjustments'!I18, 0)","v":0},{"$f":"IF('TT-5 Tax ($) Adjustments'!J18 <> \"\", 'TT-5 Tax ($) Adjustments'!J18, 0)","v":0},{"$f":"IF('TT-5 Tax ($) Adjustments'!K18 <> \"\", 'TT-5 Tax ($) Adjustments'!K18, 0)","v":0},{"$f":"IF('TT-5 Tax ($) Adjustments'!L18 <> \"\", 'TT-5 Tax ($) Adjustments'!L18, 0)","v":0},{"$f":"IF('TT-5 Tax ($) Adjustments'!M18 <> \"\", 'TT-5 Tax ($) Adjustments'!M18, 0)","v":0},{"$f":"IF('TT-5 Tax ($) Adjustments'!N18 <> \"\", 'TT-5 Tax ($) Adjustments'!N18, 0)","v":0},{"$f":"IF('TT-5 Tax ($) Adjustments'!O18 <> 0, 'TT-5 Tax ($) Adjustments'!O18, \"\")","v":""}]
[{"$f":"IF('TT-5 Tax ($) Adjustments'!A19 <> 0, 'TT-5 Tax ($) Adjustments'!A19, \"\")","v":""},{"$f":"IF('TT-5 Tax ($) Adjustments'!B19 <> 0, 'TT-5 Tax ($) Adjustments'!B19, \"\")","v":""},{"$f":"IF('TT-5 Tax ($) Adjustments'!C19 <> 0, 'TT-5 Tax ($) Adjustments'!C19, \"\")","v":""},{"$f":"IF('TT-5 Tax ($) Adjustments'!D19 <> \"\", 'TT-5 Tax ($) Adjustments'!D19, 0)","v":0},{"$f":"IF('TT-5 Tax ($) Adjustments'!E19 <> \"\", 'TT-5 Tax ($) Adjustments'!E19, 0)","v":0},{"$f":"IF('TT-5 Tax ($) Adjustments'!F19 <> \"\", 'TT-5 Tax ($) Adjustments'!F19, 0)","v":0},{"$f":"IF('TT-5 Tax ($) Adjustments'!G19 <> \"\", 'TT-5 Tax ($) Adjustments'!G19, 0)","v":0},{"$f":"IF('TT-5 Tax ($) Adjustments'!H19 <> \"\", 'TT-5 Tax ($) Adjustments'!H19, 0)","v":0},{"$f":"IF('TT-5 Tax ($) Adjustments'!I19 <> \"\", 'TT-5 Tax ($) Adjustments'!I19, 0)","v":0},{"$f":"IF('TT-5 Tax ($) Adjustments'!J19 <> \"\", 'TT-5 Tax ($) Adjustments'!J19, 0)","v":0},{"$f":"IF('TT-5 Tax ($) Adjustments'!K19 <> \"\", 'TT-5 Tax ($) Adjustments'!K19, 0)","v":0},{"$f":"IF('TT-5 Tax ($) Adjustments'!L19 <> \"\", 'TT-5 Tax ($) Adjustments'!L19, 0)","v":0},{"$f":"IF('TT-5 Tax ($) Adjustments'!M19 <> \"\", 'TT-5 Tax ($) Adjustments'!M19, 0)","v":0},{"$f":"IF('TT-5 Tax ($) Adjustments'!N19 <> \"\", 'TT-5 Tax ($) Adjustments'!N19, 0)","v":0},{"$f":"IF('TT-5 Tax ($) Adjustments'!O19 <> 0, 'TT-5 Tax ($) Adjustments'!O19, \"\")","v":""}]
[{"$f":"IF('TT-5 Tax ($) Adjustments'!A20 <> 0, 'TT-5 Tax ($) Adjustments'!A20, \"\")","v":""},{"$f":"IF('TT-5 Tax ($) Adjustments'!B20 <> 0, 'TT-5 Tax ($) Adjustments'!B20, \"\")","v":""},{"$f":"IF('TT-5 Tax ($) Adjustments'!C20 <> 0, 'TT-5 Tax ($) Adjustments'!C20, \"\")","v":""},{"$f":"IF('TT-5 Tax ($) Adjustments'!D20 <> \"\", 'TT-5 Tax ($) Adjustments'!D20, 0)","v":0},{"$f":"IF('TT-5 Tax ($) Adjustments'!E20 <> \"\", 'TT-5 Tax ($) Adjustments'!E20, 0)","v":0},{"$f":"IF('TT-5 Tax ($) Adjustments'!F20 <> \"\", 'TT-5 Tax ($) Adjustments'!F20, 0)","v":0},{"$f":"IF('TT-5 Tax ($) Adjustments'!G20 <> \"\", 'TT-5 Tax ($) Adjustments'!G20, 0)","v":0},{"$f":"IF('TT-5 Tax ($) Adjustments'!H20 <> \"\", 'TT-5 Tax ($) Adjustments'!H20, 0)","v":0},{"$f":"IF('TT-5 Tax ($) Adjustments'!I20 <> \"\", 'TT-5 Tax ($) Adjustments'!I20, 0)","v":0},{"$f":"IF('TT-5 Tax ($) Adjustments'!J20 <> \"\", 'TT-5 Tax ($) Adjustments'!J20, 0)","v":0},{"$f":"IF('TT-5 Tax ($) Adjustments'!K20 <> \"\", 'TT-5 Tax ($) Adjustments'!K20, 0)","v":0},{"$f":"IF('TT-5 Tax ($) Adjustments'!L20 <> \"\", 'TT-5 Tax ($) Adjustments'!L20, 0)","v":0},{"$f":"IF('TT-5 Tax ($) Adjustments'!M20 <> \"\", 'TT-5 Tax ($) Adjustments'!M20, 0)","v":0},{"$f":"IF('TT-5 Tax ($) Adjustments'!N20 <> \"\", 'TT-5 Tax ($) Adjustments'!N20, 0)","v":0},{"$f":"IF('TT-5 Tax ($) Adjustments'!O20 <> 0, 'TT-5 Tax ($) Adjustments'!O20, \"\")","v":""}]
[{"$f":"IF('TT-5 Tax ($) Adjustments'!A21 <> 0, 'TT-5 Tax ($) Adjustments'!A21, \"\")","v":""},{"$f":"IF('TT-5 Tax ($) Adjustments'!B21 <> 0, 'TT-5 Tax ($) Adjustments'!B21, \"\")","v":""},{"$f":"IF('TT-5 Tax ($) Adjustments'!C21 <> 0, 'TT-5 Tax ($) Adjustments'!C21, \"\")","v":""},{"$f":"IF('TT-5 Tax ($) Adjustments'!D21 <> \"\", 'TT-5 Tax ($) Adjustments'!D21, 0)","v":0},{"$f":"IF('TT-5 Tax ($) Adjustments'!E21 <> \"\", 'TT-5 Tax ($) Adjustments'!E21, 0)","v":0},{"$f":"IF('TT-5 Tax ($) Adjustments'!F21 <> \"\", 'TT-5 Tax ($) Adjustments'!F21, 0)","v":0},{"$f":"IF('TT-5 Tax ($) Adjustments'!G21 <> \"\", 'TT-5 Tax ($) Adjustments'!G21, 0)","v":0},{"$f":"IF('TT-5 Tax ($) Adjustments'!H21 <> \"\", 'TT-5 Tax ($) Adjustments'!H21, 0)","v":0},{"$f":"IF('TT-5 Tax ($) Adjustments'!I21 <> \"\", 'TT-5 Tax ($) Adjustments'!I21, 0)","v":0},{"$f":"IF('TT-5 Tax ($) Adjustments'!J21 <> \"\", 'TT-5 Tax ($) Adjustments'!J21, 0)","v":0},{"$f":"IF('TT-5 Tax ($) Adjustments'!K21 <> \"\", 'TT-5 Tax ($) Adjustments'!K21, 0)","v":0},{"$f":"IF('TT-5 Tax ($) Adjustments'!L21 <> \"\", 'TT-5 Tax ($) Adjustments'!L21, 0)","v":0},{"$f":"IF('TT-5 Tax ($) Adjustments'!M21 <> \"\", 'TT-5 Tax ($) Adjustments'!M21, 0)","v":0},{"$f":"IF('TT-5 Tax ($) Adjustments'!N21 <> \"\", 'TT-5 Tax ($) Adjustments'!N21, 0)","v":0},{"$f":"IF('TT-5 Tax ($) Adjustments'!O21 <> 0, 'TT-5 Tax ($) Adjustments'!O21, \"\")","v":""}]
[{"$f":"IF('TT-5 Tax ($) Adjustments'!A22 <> 0, 'TT-5 Tax ($) Adjustments'!A22, \"\")","v":""},{"$f":"IF('TT-5 Tax ($) Adjustments'!B22 <> 0, 'TT-5 Tax ($) Adjustments'!B22, \"\")","v":""},{"$f":"IF('TT-5 Tax ($) Adjustments'!C22 <> 0, 'TT-5 Tax ($) Adjustments'!C22, \"\")","v":""},{"$f":"IF('TT-5 Tax ($) Adjustments'!D22 <> \"\", 'TT-5 Tax ($) Adjustments'!D22, 0)","v":0},{"$f":"IF('TT-5 Tax ($) Adjustments'!E22 <> \"\", 'TT-5 Tax ($) Adjustments'!E22, 0)","v":0},{"$f":"IF('TT-5 Tax ($) Adjustments'!F22 <> \"\", 'TT-5 Tax ($) Adjustments'!F22, 0)","v":0},{"$f":"IF('TT-5 Tax ($) Adjustments'!G22 <> \"\", 'TT-5 Tax ($) Adjustments'!G22, 0)","v":0},{"$f":"IF('TT-5 Tax ($) Adjustments'!H22 <> \"\", 'TT-5 Tax ($) Adjustments'!H22, 0)","v":0},{"$f":"IF('TT-5 Tax ($) Adjustments'!I22 <> \"\", 'TT-5 Tax ($) Adjustments'!I22, 0)","v":0},{"$f":"IF('TT-5 Tax ($) Adjustments'!J22 <> \"\", 'TT-5 Tax ($) Adjustments'!J22, 0)","v":0},{"$f":"IF('TT-5 Tax ($) Adjustments'!K22 <> \"\", 'TT-5 Tax ($) Adjustments'!K22, 0)","v":0},{"$f":"IF('TT-5 Tax ($) Adjustments'!L22 <> \"\", 'TT-5 Tax ($) Adjustments'!L22, 0)","v":0},{"$f":"IF('TT-5 Tax ($) Adjustments'!M22 <> \"\", 'TT-5 Tax ($) Adjustments'!M22, 0)","v":0},{"$f":"IF('TT-5 Tax ($) Adjustments'!N22 <> \"\", 'TT-5 Tax ($) Adjustments'!N22, 0)","v":0},{"$f":"IF('TT-5 Tax ($) Adjustments'!O22 <> 0, 'TT-5 Tax ($) Adjustments'!O22, \"\")","v":""}]
[{"$f":"IF('TT-5 Tax ($) Adjustments'!A23 <> 0, 'TT-5 Tax ($) Adjustments'!A23, \"\")","v":""},{"$f":"IF('TT-5 Tax ($) Adjustments'!B23 <> 0, 'TT-5 Tax ($) Adjustments'!B23, \"\")","v":""},{"$f":"IF('TT-5 Tax ($) Adjustments'!C23 <> 0, 'TT-5 Tax ($) Adjustments'!C23, \"\")","v":""},{"$f":"IF('TT-5 Tax ($) Adjustments'!D23 <> \"\", 'TT-5 Tax ($) Adjustments'!D23, 0)","v":0},{"$f":"IF('TT-5 Tax ($) Adjustments'!E23 <> \"\", 'TT-5 Tax ($) Adjustments'!E23, 0)","v":0},{"$f":"IF('TT-5 Tax ($) Adjustments'!F23 <> \"\", 'TT-5 Tax ($) Adjustments'!F23, 0)","v":0},{"$f":"IF('TT-5 Tax ($) Adjustments'!G23 <> \"\", 'TT-5 Tax ($) Adjustments'!G23, 0)","v":0},{"$f":"IF('TT-5 Tax ($) Adjustments'!H23 <> \"\", 'TT-5 Tax ($) Adjustments'!H23, 0)","v":0},{"$f":"IF('TT-5 Tax ($) Adjustments'!I23 <> \"\", 'TT-5 Tax ($) Adjustments'!I23, 0)","v":0},{"$f":"IF('TT-5 Tax ($) Adjustments'!J23 <> \"\", 'TT-5 Tax ($) Adjustments'!J23, 0)","v":0},{"$f":"IF('TT-5 Tax ($) Adjustments'!K23 <> \"\", 'TT-5 Tax ($) Adjustments'!K23, 0)","v":0},{"$f":"IF('TT-5 Tax ($) Adjustments'!L23 <> \"\", 'TT-5 Tax ($) Adjustments'!L23, 0)","v":0},{"$f":"IF('TT-5 Tax ($) Adjustments'!M23 <> \"\", 'TT-5 Tax ($) Adjustments'!M23, 0)","v":0},{"$f":"IF('TT-5 Tax ($) Adjustments'!N23 <> \"\", 'TT-5 Tax ($) Adjustments'!N23, 0)","v":0},{"$f":"IF('TT-5 Tax ($) Adjustments'!O23 <> 0, 'TT-5 Tax ($) Adjustments'!O23, \"\")","v":""}]
[{"$f":"IF('TT-5 Tax ($) Adjustments'!A24 <> 0, 'TT-5 Tax ($) Adjustments'!A24, \"\")","v":""},{"$f":"IF('TT-5 Tax ($) Adjustments'!B24 <> 0, 'TT-5 Tax ($) Adjustments'!B24, \"\")","v":""},{"$f":"IF('TT-5 Tax ($) Adjustments'!C24 <> 0, 'TT-5 Tax ($) Adjustments'!C24, \"\")","v":""},{"$f":"IF('TT-5 Tax ($) Adjustments'!D24 <> \"\", 'TT-5 Tax ($) Adjustments'!D24, 0)","v":0},{"$f":"IF('TT-5 Tax ($) Adjustments'!E24 <> \"\", 'TT-5 Tax ($) Adjustments'!E24, 0)","v":0},{"$f":"IF('TT-5 Tax ($) Adjustments'!F24 <> \"\", 'TT-5 Tax ($) Adjustments'!F24, 0)","v":0},{"$f":"IF('TT-5 Tax ($) Adjustments'!G24 <> \"\", 'TT-5 Tax ($) Adjustments'!G24, 0)","v":0},{"$f":"IF('TT-5 Tax ($) Adjustments'!H24 <> \"\", 'TT-5 Tax ($) Adjustments'!H24, 0)","v":0},{"$f":"IF('TT-5 Tax ($) Adjustments'!I24 <> \"\", 'TT-5 Tax ($) Adjustments'!I24, 0)","v":0},{"$f":"IF('TT-5 Tax ($) Adjustments'!J24 <> \"\", 'TT-5 Tax ($) Adjustments'!J24, 0)","v":0},{"$f":"IF('TT-5 Tax ($) Adjustments'!K24 <> \"\", 'TT-5 Tax ($) Adjustments'!K24, 0)","v":0},{"$f":"IF('TT-5 Tax ($) Adjustments'!L24 <> \"\", 'TT-5 Tax ($) Adjustments'!L24, 0)","v":0},{"$f":"IF('TT-5 Tax ($) Adjustments'!M24 <> \"\", 'TT-5 Tax ($) Adjustments'!M24, 0)","v":0},{"$f":"IF('TT-5 Tax ($) Adjustments'!N24 <> \"\", 'TT-5 Tax ($) Adjustments'!N24, 0)","v":0},{"$f":"IF('TT-5 Tax ($) Adjustments'!O24 <> 0, 'TT-5 Tax ($) Adjustments'!O24, \"\")","v":""}]
[{"$f":"IF('TT-5 Tax ($) Adjustments'!A25 <> 0, 'TT-5 Tax ($) Adjustments'!A25, \"\")","v":""},{"$f":"IF('TT-5 Tax ($) Adjustments'!B25 <> 0, 'TT-5 Tax ($) Adjustments'!B25, \"\")","v":""},{"$f":"IF('TT-5 Tax ($) Adjustments'!C25 <> 0, 'TT-5 Tax ($) Adjustments'!C25, \"\")","v":""},{"$f":"IF('TT-5 Tax ($) Adjustments'!D25 <> \"\", 'TT-5 Tax ($) Adjustments'!D25, 0)","v":0},{"$f":"IF('TT-5 Tax ($) Adjustments'!E25 <> \"\", 'TT-5 Tax ($) Adjustments'!E25, 0)","v":0},{"$f":"IF('TT-5 Tax ($) Adjustments'!F25 <> \"\", 'TT-5 Tax ($) Adjustments'!F25, 0)","v":0},{"$f":"IF('TT-5 Tax ($) Adjustments'!G25 <> \"\", 'TT-5 Tax ($) Adjustments'!G25, 0)","v":0},{"$f":"IF('TT-5 Tax ($) Adjustments'!H25 <> \"\", 'TT-5 Tax ($) Adjustments'!H25, 0)","v":0},{"$f":"IF('TT-5 Tax ($) Adjustments'!I25 <> \"\", 'TT-5 Tax ($) Adjustments'!I25, 0)","v":0},{"$f":"IF('TT-5 Tax ($) Adjustments'!J25 <> \"\", 'TT-5 Tax ($) Adjustments'!J25, 0)","v":0},{"$f":"IF('TT-5 Tax ($) Adjustments'!K25 <> \"\", 'TT-5 Tax ($) Adjustments'!K25, 0)","v":0},{"$f":"IF('TT-5 Tax ($) Adjustments'!L25 <> \"\", 'TT-5 Tax ($) Adjustments'!L25, 0)","v":0},{"$f":"IF('TT-5 Tax ($) Adjustments'!M25 <> \"\", 'TT-5 Tax ($) Adjustments'!M25, 0)","v":0},{"$f":"IF('TT-5 Tax ($) Adjustments'!N25 <> \"\", 'TT-5 Tax ($) Adjustments'!N25, 0)","v":0},{"$f":"IF('TT-5 Tax ($) Adjustments'!O25 <> 0, 'TT-5 Tax ($) Adjustments'!O25, \"\")","v":""}]
[{"$f":"IF('TT-5 Tax ($) Adjustments'!A26 <> 0, 'TT-5 Tax ($) Adjustments'!A26, \"\")","v":""},{"$f":"IF('TT-5 Tax ($) Adjustments'!B26 <> 0, 'TT-5 Tax ($) Adjustments'!B26, \"\")","v":""},{"$f":"IF('TT-5 Tax ($) Adjustments'!C26 <> 0, 'TT-5 Tax ($) Adjustments'!C26, \"\")","v":""},{"$f":"IF('TT-5 Tax ($) Adjustments'!D26 <> \"\", 'TT-5 Tax ($) Adjustments'!D26, 0)","v":0},{"$f":"IF('TT-5 Tax ($) Adjustments'!E26 <> \"\", 'TT-5 Tax ($) Adjustments'!E26, 0)","v":0},{"$f":"IF('TT-5 Tax ($) Adjustments'!F26 <> \"\", 'TT-5 Tax ($) Adjustments'!F26, 0)","v":0},{"$f":"IF('TT-5 Tax ($) Adjustments'!G26 <> \"\", 'TT-5 Tax ($) Adjustments'!G26, 0)","v":0},{"$f":"IF('TT-5 Tax ($) Adjustments'!H26 <> \"\", 'TT-5 Tax ($) Adjustments'!H26, 0)","v":0},{"$f":"IF('TT-5 Tax ($) Adjustments'!I26 <> \"\", 'TT-5 Tax ($) Adjustments'!I26, 0)","v":0},{"$f":"IF('TT-5 Tax ($) Adjustments'!J26 <> \"\", 'TT-5 Tax ($) Adjustments'!J26, 0)","v":0},{"$f":"IF('TT-5 Tax ($) Adjustments'!K26 <> \"\", 'TT-5 Tax ($) Adjustments'!K26, 0)","v":0},{"$f":"IF('TT-5 Tax ($) Adjustments'!L26 <> \"\", 'TT-5 Tax ($) Adjustments'!L26, 0)","v":0},{"$f":"IF('TT-5 Tax ($) Adjustments'!M26 <> \"\", 'TT-5 Tax ($) Adjustments'!M26, 0)","v":0},{"$f":"IF('TT-5 Tax ($) Adjustments'!N26 <> \"\", 'TT-5 Tax ($) Adjustments'!N26, 0)","v":0},{"$f":"IF('TT-5 Tax ($) Adjustments'!O26 <> 0, 'TT-5 Tax ($) Adjustments'!O26, \"\")","v":""}]
[{"$f":"IF('TT-5 Tax ($) Adjustments'!A27 <> 0, 'TT-5 Tax ($) Adjustments'!A27, \"\")","v":""},{"$f":"IF('TT-5 Tax ($) Adjustments'!B27 <> 0, 'TT-5 Tax ($) Adjustments'!B27, \"\")","v":""},{"$f":"IF('TT-5 Tax ($) Adjustments'!C27 <> 0, 'TT-5 Tax ($) Adjustments'!C27, \"\")","v":""},{"$f":"IF('TT-5 Tax ($) Adjustments'!D27 <> \"\", 'TT-5 Tax ($) Adjustments'!D27, 0)","v":0},{"$f":"IF('TT-5 Tax ($) Adjustments'!E27 <> \"\", 'TT-5 Tax ($) Adjustments'!E27, 0)","v":0},{"$f":"IF('TT-5 Tax ($) Adjustments'!F27 <> \"\", 'TT-5 Tax ($) Adjustments'!F27, 0)","v":0},{"$f":"IF('TT-5 Tax ($) Adjustments'!G27 <> \"\", 'TT-5 Tax ($) Adjustments'!G27, 0)","v":0},{"$f":"IF('TT-5 Tax ($) Adjustments'!H27 <> \"\", 'TT-5 Tax ($) Adjustments'!H27, 0)","v":0},{"$f":"IF('TT-5 Tax ($) Adjustments'!I27 <> \"\", 'TT-5 Tax ($) Adjustments'!I27, 0)","v":0},{"$f":"IF('TT-5 Tax ($) Adjustments'!J27 <> \"\", 'TT-5 Tax ($) Adjustments'!J27, 0)","v":0},{"$f":"IF('TT-5 Tax ($) Adjustments'!K27 <> \"\", 'TT-5 Tax ($) Adjustments'!K27, 0)","v":0},{"$f":"IF('TT-5 Tax ($) Adjustments'!L27 <> \"\", 'TT-5 Tax ($) Adjustments'!L27, 0)","v":0},{"$f":"IF('TT-5 Tax ($) Adjustments'!M27 <> \"\", 'TT-5 Tax ($) Adjustments'!M27, 0)","v":0},{"$f":"IF('TT-5 Tax ($) Adjustments'!N27 <> \"\", 'TT-5 Tax ($) Adjustments'!N27, 0)","v":0},{"$f":"IF('TT-5 Tax ($) Adjustments'!O27 <> 0, 'TT-5 Tax ($) Adjustments'!O27, \"\")","v":""}]
[{"$f":"IF('TT-5 Tax ($) Adjustments'!A28 <> 0, 'TT-5 Tax ($) Adjustments'!A28, \"\")","v":""},{"$f":"IF('TT-5 Tax ($) Adjustments'!B28 <> 0, 'TT-5 Tax ($) Adjustments'!B28, \"\")","v":""},{"$f":"IF('TT-5 Tax ($) Adjustments'!C28 <> 0, 'TT-5 Tax ($) Adjustments'!C28, \"\")","v":""},{"$f":"IF('TT-5 Tax ($) Adjustments'!D28 <> \"\", 'TT-5 Tax ($) Adjustments'!D28, 0)","v":0},{"$f":"IF('TT-5 Tax ($) Adjustments'!E28 <> \"\", 'TT-5 Tax ($) Adjustments'!E28, 0)","v":0},{"$f":"IF('TT-5 Tax ($) Adjustments'!F28 <> \"\", 'TT-5 Tax ($) Adjustments'!F28, 0)","v":0},{"$f":"IF('TT-5 Tax ($) Adjustments'!G28 <> \"\", 'TT-5 Tax ($) Adjustments'!G28, 0)","v":0},{"$f":"IF('TT-5 Tax ($) Adjustments'!H28 <> \"\", 'TT-5 Tax ($) Adjustments'!H28, 0)","v":0},{"$f":"IF('TT-5 Tax ($) Adjustments'!I28 <> \"\", 'TT-5 Tax ($) Adjustments'!I28, 0)","v":0},{"$f":"IF('TT-5 Tax ($) Adjustments'!J28 <> \"\", 'TT-5 Tax ($) Adjustments'!J28, 0)","v":0},{"$f":"IF('TT-5 Tax ($) Adjustments'!K28 <> \"\", 'TT-5 Tax ($) Adjustments'!K28, 0)","v":0},{"$f":"IF('TT-5 Tax ($) Adjustments'!L28 <> \"\", 'TT-5 Tax ($) Adjustments'!L28, 0)","v":0},{"$f":"IF('TT-5 Tax ($) Adjustments'!M28 <> \"\", 'TT-5 Tax ($) Adjustments'!M28, 0)","v":0},{"$f":"IF('TT-5 Tax ($) Adjustments'!N28 <> \"\", 'TT-5 Tax ($) Adjustments'!N28, 0)","v":0},{"$f":"IF('TT-5 Tax ($) Adjustments'!O28 <> 0, 'TT-5 Tax ($) Adjustments'!O28, \"\")","v":""}]
[{"$f":"IF('TT-5 Tax ($) Adjustments'!A29 <> 0, 'TT-5 Tax ($) Adjustments'!A29, \"\")","v":""},{"$f":"IF('TT-5 Tax ($) Adjustments'!B29 <> 0, 'TT-5 Tax ($) Adjustments'!B29, \"\")","v":""},{"$f":"IF('TT-5 Tax ($) Adjustments'!C29 <> 0, 'TT-5 Tax ($) Adjustments'!C29, \"\")","v":""},{"$f":"IF('TT-5 Tax ($) Adjustments'!D29 <> \"\", 'TT-5 Tax ($) Adjustments'!D29, 0)","v":0},{"$f":"IF('TT-5 Tax ($) Adjustments'!E29 <> \"\", 'TT-5 Tax ($) Adjustments'!E29, 0)","v":0},{"$f":"IF('TT-5 Tax ($) Adjustments'!F29 <> \"\", 'TT-5 Tax ($) Adjustments'!F29, 0)","v":0},{"$f":"IF('TT-5 Tax ($) Adjustments'!G29 <> \"\", 'TT-5 Tax ($) Adjustments'!G29, 0)","v":0},{"$f":"IF('TT-5 Tax ($) Adjustments'!H29 <> \"\", 'TT-5 Tax ($) Adjustments'!H29, 0)","v":0},{"$f":"IF('TT-5 Tax ($) Adjustments'!I29 <> \"\", 'TT-5 Tax ($) Adjustments'!I29, 0)","v":0},{"$f":"IF('TT-5 Tax ($) Adjustments'!J29 <> \"\", 'TT-5 Tax ($) Adjustments'!J29, 0)","v":0},{"$f":"IF('TT-5 Tax ($) Adjustments'!K29 <> \"\", 'TT-5 Tax ($) Adjustments'!K29, 0)","v":0},{"$f":"IF('TT-5 Tax ($) Adjustments'!L29 <> \"\", 'TT-5 Tax ($) Adjustments'!L29, 0)","v":0},{"$f":"IF('TT-5 Tax ($) Adjustments'!M29 <> \"\", 'TT-5 Tax ($) Adjustments'!M29, 0)","v":0},{"$f":"IF('TT-5 Tax ($) Adjustments'!N29 <> \"\", 'TT-5 Tax ($) Adjustments'!N29, 0)","v":0},{"$f":"IF('TT-5 Tax ($) Adjustments'!O29 <> 0, 'TT-5 Tax ($) Adjustments'!O29, \"\")","v":""}]
[{"$f":"IF('TT-5 Tax ($) Adjustments'!A30 <> 0, 'TT-5 Tax ($) Adjustments'!A30, \"\")","v":""},{"$f":"IF('TT-5 Tax ($) Adjustments'!B30 <> 0, 'TT-5 Tax ($) Adjustments'!B30, \"\")","v":""},{"$f":"IF('TT-5 Tax ($) Adjustments'!C30 <> 0, 'TT-5 Tax ($) Adjustments'!C30, \"\")","v":""},{"$f":"IF('TT-5 Tax ($) Adjustments'!D30 <> \"\", 'TT-5 Tax ($) Adjustments'!D30, 0)","v":0},{"$f":"IF('TT-5 Tax ($) Adjustments'!E30 <> \"\", 'TT-5 Tax ($) Adjustments'!E30, 0)","v":0},{"$f":"IF('TT-5 Tax ($) Adjustments'!F30 <> \"\", 'TT-5 Tax ($) Adjustments'!F30, 0)","v":0},{"$f":"IF('TT-5 Tax ($) Adjustments'!G30 <> \"\", 'TT-5 Tax ($) Adjustments'!G30, 0)","v":0},{"$f":"IF('TT-5 Tax ($) Adjustments'!H30 <> \"\", 'TT-5 Tax ($) Adjustments'!H30, 0)","v":0},{"$f":"IF('TT-5 Tax ($) Adjustments'!I30 <> \"\", 'TT-5 Tax ($) Adjustments'!I30, 0)","v":0},{"$f":"IF('TT-5 Tax ($) Adjustments'!J30 <> \"\", 'TT-5 Tax ($) Adjustments'!J30, 0)","v":0},{"$f":"IF('TT-5 Tax ($) Adjustments'!K30 <> \"\", 'TT-5 Tax ($) Adjustments'!K30, 0)","v":0},{"$f":"IF('TT-5 Tax ($) Adjustments'!L30 <> \"\", 'TT-5 Tax ($) Adjustments'!L30, 0)","v":0},{"$f":"IF('TT-5 Tax ($) Adjustments'!M30 <> \"\", 'TT-5 Tax ($) Adjustments'!M30, 0)","v":0},{"$f":"IF('TT-5 Tax ($) Adjustments'!N30 <> \"\", 'TT-5 Tax ($) Adjustments'!N30, 0)","v":0},{"$f":"IF('TT-5 Tax ($) Adjustments'!O30 <> 0, 'TT-5 Tax ($) Adjustments'!O30, \"\")","v":""}]
[{"$f":"IF('TT-5 Tax ($) Adjustments'!A31 <> 0, 'TT-5 Tax ($) Adjustments'!A31, \"\")","v":""},{"$f":"IF('TT-5 Tax ($) Adjustments'!B31 <> 0, 'TT-5 Tax ($) Adjustments'!B31, \"\")","v":""},{"$f":"IF('TT-5 Tax ($) Adjustments'!C31 <> 0, 'TT-5 Tax ($) Adjustments'!C31, \"\")","v":""},{"$f":"IF('TT-5 Tax ($) Adjustments'!D31 <> \"\", 'TT-5 Tax ($) Adjustments'!D31, 0)","v":0},{"$f":"IF('TT-5 Tax ($) Adjustments'!E31 <> \"\", 'TT-5 Tax ($) Adjustments'!E31, 0)","v":0},{"$f":"IF('TT-5 Tax ($) Adjustments'!F31 <> \"\", 'TT-5 Tax ($) Adjustments'!F31, 0)","v":0},{"$f":"IF('TT-5 Tax ($) Adjustments'!G31 <> \"\", 'TT-5 Tax ($) Adjustments'!G31, 0)","v":0},{"$f":"IF('TT-5 Tax ($) Adjustments'!H31 <> \"\", 'TT-5 Tax ($) Adjustments'!H31, 0)","v":0},{"$f":"IF('TT-5 Tax ($) Adjustments'!I31 <> \"\", 'TT-5 Tax ($) Adjustments'!I31, 0)","v":0},{"$f":"IF('TT-5 Tax ($) Adjustments'!J31 <> \"\", 'TT-5 Tax ($) Adjustments'!J31, 0)","v":0},{"$f":"IF('TT-5 Tax ($) Adjustments'!K31 <> \"\", 'TT-5 Tax ($) Adjustments'!K31, 0)","v":0},{"$f":"IF('TT-5 Tax ($) Adjustments'!L31 <> \"\", 'TT-5 Tax ($) Adjustments'!L31, 0)","v":0},{"$f":"IF('TT-5 Tax ($) Adjustments'!M31 <> \"\", 'TT-5 Tax ($) Adjustments'!M31, 0)","v":0},{"$f":"IF('TT-5 Tax ($) Adjustments'!N31 <> \"\", 'TT-5 Tax ($) Adjustments'!N31, 0)","v":0},{"$f":"IF('TT-5 Tax ($) Adjustments'!O31 <> 0, 'TT-5 Tax ($) Adjustments'!O31, \"\")","v":""}]
[{"$f":"IF('TT-5 Tax ($) Adjustments'!A32 <> 0, 'TT-5 Tax ($) Adjustments'!A32, \"\")","v":""},{"$f":"IF('TT-5 Tax ($) Adjustments'!B32 <> 0, 'TT-5 Tax ($) Adjustments'!B32, \"\")","v":""},{"$f":"IF('TT-5 Tax ($) Adjustments'!C32 <> 0, 'TT-5 Tax ($) Adjustments'!C32, \"\")","v":""},{"$f":"IF('TT-5 Tax ($) Adjustments'!D32 <> \"\", 'TT-5 Tax ($) Adjustments'!D32, 0)","v":0},{"$f":"IF('TT-5 Tax ($) Adjustments'!E32 <> \"\", 'TT-5 Tax ($) Adjustments'!E32, 0)","v":0},{"$f":"IF('TT-5 Tax ($) Adjustments'!F32 <> \"\", 'TT-5 Tax ($) Adjustments'!F32, 0)","v":0},{"$f":"IF('TT-5 Tax ($) Adjustments'!G32 <> \"\", 'TT-5 Tax ($) Adjustments'!G32, 0)","v":0},{"$f":"IF('TT-5 Tax ($) Adjustments'!H32 <> \"\", 'TT-5 Tax ($) Adjustments'!H32, 0)","v":0},{"$f":"IF('TT-5 Tax ($) Adjustments'!I32 <> \"\", 'TT-5 Tax ($) Adjustments'!I32, 0)","v":0},{"$f":"IF('TT-5 Tax ($) Adjustments'!J32 <> \"\", 'TT-5 Tax ($) Adjustments'!J32, 0)","v":0},{"$f":"IF('TT-5 Tax ($) Adjustments'!K32 <> \"\", 'TT-5 Tax ($) Adjustments'!K32, 0)","v":0},{"$f":"IF('TT-5 Tax ($) Adjustments'!L32 <> \"\", 'TT-5 Tax ($) Adjustments'!L32, 0)","v":0},{"$f":"IF('TT-5 Tax ($) Adjustments'!M32 <> \"\", 'TT-5 Tax ($) Adjustments'!M32, 0)","v":0},{"$f":"IF('TT-5 Tax ($) Adjustments'!N32 <> \"\", 'TT-5 Tax ($) Adjustments'!N32, 0)","v":0},{"$f":"IF('TT-5 Tax ($) Adjustments'!O32 <> 0, 'TT-5 Tax ($) Adjustments'!O32, \"\")","v":""}]
[{"$f":"IF('TT-5 Tax ($) Adjustments'!A33 <> 0, 'TT-5 Tax ($) Adjustments'!A33, \"\")","v":""},{"$f":"IF('TT-5 Tax ($) Adjustments'!B33 <> 0, 'TT-5 Tax ($) Adjustments'!B33, \"\")","v":""},{"$f":"IF('TT-5 Tax ($) Adjustments'!C33 <> 0, 'TT-5 Tax ($) Adjustments'!C33, \"\")","v":""},{"$f":"IF('TT-5 Tax ($) Adjustments'!D33 <> \"\", 'TT-5 Tax ($) Adjustments'!D33, 0)","v":0},{"$f":"IF('TT-5 Tax ($) Adjustments'!E33 <> \"\", 'TT-5 Tax ($) Adjustments'!E33, 0)","v":0},{"$f":"IF('TT-5 Tax ($) Adjustments'!F33 <> \"\", 'TT-5 Tax ($) Adjustments'!F33, 0)","v":0},{"$f":"IF('TT-5 Tax ($) Adjustments'!G33 <> \"\", 'TT-5 Tax ($) Adjustments'!G33, 0)","v":0},{"$f":"IF('TT-5 Tax ($) Adjustments'!H33 <> \"\", 'TT-5 Tax ($) Adjustments'!H33, 0)","v":0},{"$f":"IF('TT-5 Tax ($) Adjustments'!I33 <> \"\", 'TT-5 Tax ($) Adjustments'!I33, 0)","v":0},{"$f":"IF('TT-5 Tax ($) Adjustments'!J33 <> \"\", 'TT-5 Tax ($) Adjustments'!J33, 0)","v":0},{"$f":"IF('TT-5 Tax ($) Adjustments'!K33 <> \"\", 'TT-5 Tax ($) Adjustments'!K33, 0)","v":0},{"$f":"IF('TT-5 Tax ($) Adjustments'!L33 <> \"\", 'TT-5 Tax ($) Adjustments'!L33, 0)","v":0},{"$f":"IF('TT-5 Tax ($) Adjustments'!M33 <> \"\", 'TT-5 Tax ($) Adjustments'!M33, 0)","v":0},{"$f":"IF('TT-5 Tax ($) Adjustments'!N33 <> \"\", 'TT-5 Tax ($) Adjustments'!N33, 0)","v":0},{"$f":"IF('TT-5 Tax ($) Adjustments'!O33 <> 0, 'TT-5 Tax ($) Adjustments'!O33, \"\")","v":""}]
[{"$f":"IF('TT-5 Tax ($) Adjustments'!A34 <> 0, 'TT-5 Tax ($) Adjustments'!A34, \"\")","v":""},{"$f":"IF('TT-5 Tax ($) Adjustments'!B34 <> 0, 'TT-5 Tax ($) Adjustments'!B34, \"\")","v":""},{"$f":"IF('TT-5 Tax ($) Adjustments'!C34 <> 0, 'TT-5 Tax ($) Adjustments'!C34, \"\")","v":""},{"$f":"IF('TT-5 Tax ($) Adjustments'!D34 <> \"\", 'TT-5 Tax ($) Adjustments'!D34, 0)","v":0},{"$f":"IF('TT-5 Tax ($) Adjustments'!E34 <> \"\", 'TT-5 Tax ($) Adjustments'!E34, 0)","v":0},{"$f":"IF('TT-5 Tax ($) Adjustments'!F34 <> \"\", 'TT-5 Tax ($) Adjustments'!F34, 0)","v":0},{"$f":"IF('TT-5 Tax ($) Adjustments'!G34 <> \"\", 'TT-5 Tax ($) Adjustments'!G34, 0)","v":0},{"$f":"IF('TT-5 Tax ($) Adjustments'!H34 <> \"\", 'TT-5 Tax ($) Adjustments'!H34, 0)","v":0},{"$f":"IF('TT-5 Tax ($) Adjustments'!I34 <> \"\", 'TT-5 Tax ($) Adjustments'!I34, 0)","v":0},{"$f":"IF('TT-5 Tax ($) Adjustments'!J34 <> \"\", 'TT-5 Tax ($) Adjustments'!J34, 0)","v":0},{"$f":"IF('TT-5 Tax ($) Adjustments'!K34 <> \"\", 'TT-5 Tax ($) Adjustments'!K34, 0)","v":0},{"$f":"IF('TT-5 Tax ($) Adjustments'!L34 <> \"\", 'TT-5 Tax ($) Adjustments'!L34, 0)","v":0},{"$f":"IF('TT-5 Tax ($) Adjustments'!M34 <> \"\", 'TT-5 Tax ($) Adjustments'!M34, 0)","v":0},{"$f":"IF('TT-5 Tax ($) Adjustments'!N34 <> \"\", 'TT-5 Tax ($) Adjustments'!N34, 0)","v":0},{"$f":"IF('TT-5 Tax ($) Adjustments'!O34 <> 0, 'TT-5 Tax ($) Adjustments'!O34, \"\")","v":""}]
[{"$f":"IF('TT-5 Tax ($) Adjustments'!A35 <> 0, 'TT-5 Tax ($) Adjustments'!A35, \"\")","v":""},{"$f":"IF('TT-5 Tax ($) Adjustments'!B35 <> 0, 'TT-5 Tax ($) Adjustments'!B35, \"\")","v":""},{"$f":"IF('TT-5 Tax ($) Adjustments'!C35 <> 0, 'TT-5 Tax ($) Adjustments'!C35, \"\")","v":""},{"$f":"IF('TT-5 Tax ($) Adjustments'!D35 <> \"\", 'TT-5 Tax ($) Adjustments'!D35, 0)","v":0},{"$f":"IF('TT-5 Tax ($) Adjustments'!E35 <> \"\", 'TT-5 Tax ($) Adjustments'!E35, 0)","v":0},{"$f":"IF('TT-5 Tax ($) Adjustments'!F35 <> \"\", 'TT-5 Tax ($) Adjustments'!F35, 0)","v":0},{"$f":"IF('TT-5 Tax ($) Adjustments'!G35 <> \"\", 'TT-5 Tax ($) Adjustments'!G35, 0)","v":0},{"$f":"IF('TT-5 Tax ($) Adjustments'!H35 <> \"\", 'TT-5 Tax ($) Adjustments'!H35, 0)","v":0},{"$f":"IF('TT-5 Tax ($) Adjustments'!I35 <> \"\", 'TT-5 Tax ($) Adjustments'!I35, 0)","v":0},{"$f":"IF('TT-5 Tax ($) Adjustments'!J35 <> \"\", 'TT-5 Tax ($) Adjustments'!J35, 0)","v":0},{"$f":"IF('TT-5 Tax ($) Adjustments'!K35 <> \"\", 'TT-5 Tax ($) Adjustments'!K35, 0)","v":0},{"$f":"IF('TT-5 Tax ($) Adjustments'!L35 <> \"\", 'TT-5 Tax ($) Adjustments'!L35, 0)","v":0},{"$f":"IF('TT-5 Tax ($) Adjustments'!M35 <> \"\", 'TT-5 Tax ($) Adjustments'!M35, 0)","v":0},{"$f":"IF('TT-5 Tax ($) Adjustments'!N35 <> \"\", 'TT-5 Tax ($) Adjustments'!N35, 0)","v":0},{"$f":"IF('TT-5 Tax ($) Adjustments'!O35 <> 0, 'TT-5 Tax ($) Adjustments'!O35, \"\")","v":""}]
[{"$f":"IF('TT-5 Tax ($) Adjustments'!A36 <> 0, 'TT-5 Tax ($) Adjustments'!A36, \"\")","v":""},{"$f":"IF('TT-5 Tax ($) Adjustments'!B36 <> 0, 'TT-5 Tax ($) Adjustments'!B36, \"\")","v":""},{"$f":"IF('TT-5 Tax ($) Adjustments'!C36 <> 0, 'TT-5 Tax ($) Adjustments'!C36, \"\")","v":""},{"$f":"IF('TT-5 Tax ($) Adjustments'!D36 <> \"\", 'TT-5 Tax ($) Adjustments'!D36, 0)","v":0},{"$f":"IF('TT-5 Tax ($) Adjustments'!E36 <> \"\", 'TT-5 Tax ($) Adjustments'!E36, 0)","v":0},{"$f":"IF('TT-5 Tax ($) Adjustments'!F36 <> \"\", 'TT-5 Tax ($) Adjustments'!F36, 0)","v":0},{"$f":"IF('TT-5 Tax ($) Adjustments'!G36 <> \"\", 'TT-5 Tax ($) Adjustments'!G36, 0)","v":0},{"$f":"IF('TT-5 Tax ($) Adjustments'!H36 <> \"\", 'TT-5 Tax ($) Adjustments'!H36, 0)","v":0},{"$f":"IF('TT-5 Tax ($) Adjustments'!I36 <> \"\", 'TT-5 Tax ($) Adjustments'!I36, 0)","v":0},{"$f":"IF('TT-5 Tax ($) Adjustments'!J36 <> \"\", 'TT-5 Tax ($) Adjustments'!J36, 0)","v":0},{"$f":"IF('TT-5 Tax ($) Adjustments'!K36 <> \"\", 'TT-5 Tax ($) Adjustments'!K36, 0)","v":0},{"$f":"IF('TT-5 Tax ($) Adjustments'!L36 <> \"\", 'TT-5 Tax ($) Adjustments'!L36, 0)","v":0},{"$f":"IF('TT-5 Tax ($) Adjustments'!M36 <> \"\", 'TT-5 Tax ($) Adjustments'!M36, 0)","v":0},{"$f":"IF('TT-5 Tax ($) Adjustments'!N36 <> \"\", 'TT-5 Tax ($) Adjustments'!N36, 0)","v":0},{"$f":"IF('TT-5 Tax ($) Adjustments'!O36 <> 0, 'TT-5 Tax ($) Adjustments'!O36, \"\")","v":""}]
[{"$f":"IF('TT-5 Tax ($) Adjustments'!A37 <> 0, 'TT-5 Tax ($) Adjustments'!A37, \"\")","v":""},{"$f":"IF('TT-5 Tax ($) Adjustments'!B37 <> 0, 'TT-5 Tax ($) Adjustments'!B37, \"\")","v":""},{"$f":"IF('TT-5 Tax ($) Adjustments'!C37 <> 0, 'TT-5 Tax ($) Adjustments'!C37, \"\")","v":""},{"$f":"IF('TT-5 Tax ($) Adjustments'!D37 <> \"\", 'TT-5 Tax ($) Adjustments'!D37, 0)","v":0},{"$f":"IF('TT-5 Tax ($) Adjustments'!E37 <> \"\", 'TT-5 Tax ($) Adjustments'!E37, 0)","v":0},{"$f":"IF('TT-5 Tax ($) Adjustments'!F37 <> \"\", 'TT-5 Tax ($) Adjustments'!F37, 0)","v":0},{"$f":"IF('TT-5 Tax ($) Adjustments'!G37 <> \"\", 'TT-5 Tax ($) Adjustments'!G37, 0)","v":0},{"$f":"IF('TT-5 Tax ($) Adjustments'!H37 <> \"\", 'TT-5 Tax ($) Adjustments'!H37, 0)","v":0},{"$f":"IF('TT-5 Tax ($) Adjustments'!I37 <> \"\", 'TT-5 Tax ($) Adjustments'!I37, 0)","v":0},{"$f":"IF('TT-5 Tax ($) Adjustments'!J37 <> \"\", 'TT-5 Tax ($) Adjustments'!J37, 0)","v":0},{"$f":"IF('TT-5 Tax ($) Adjustments'!K37 <> \"\", 'TT-5 Tax ($) Adjustments'!K37, 0)","v":0},{"$f":"IF('TT-5 Tax ($) Adjustments'!L37 <> \"\", 'TT-5 Tax ($) Adjustments'!L37, 0)","v":0},{"$f":"IF('TT-5 Tax ($) Adjustments'!M37 <> \"\", 'TT-5 Tax ($) Adjustments'!M37, 0)","v":0},{"$f":"IF('TT-5 Tax ($) Adjustments'!N37 <> \"\", 'TT-5 Tax ($) Adjustments'!N37, 0)","v":0},{"$f":"IF('TT-5 Tax ($) Adjustments'!O37 <> 0, 'TT-5 Tax ($) Adjustments'!O37, \"\")","v":""}]
[{"$f":"IF('TT-5 Tax ($) Adjustments'!A38 <> 0, 'TT-5 Tax ($) Adjustments'!A38, \"\")","v":""},{"$f":"IF('TT-5 Tax ($) Adjustments'!B38 <> 0, 'TT-5 Tax ($) Adjustments'!B38, \"\")","v":""},{"$f":"IF('TT-5 Tax ($) Adjustments'!C38 <> 0, 'TT-5 Tax ($) Adjustments'!C38, \"\")","v":""},{"$f":"IF('TT-5 Tax ($) Adjustments'!D38 <> \"\", 'TT-5 Tax ($) Adjustments'!D38, 0)","v":0},{"$f":"IF('TT-5 Tax ($) Adjustments'!E38 <> \"\", 'TT-5 Tax ($) Adjustments'!E38, 0)","v":0},{"$f":"IF('TT-5 Tax ($) Adjustments'!F38 <> \"\", 'TT-5 Tax ($) Adjustments'!F38, 0)","v":0},{"$f":"IF('TT-5 Tax ($) Adjustments'!G38 <> \"\", 'TT-5 Tax ($) Adjustments'!G38, 0)","v":0},{"$f":"IF('TT-5 Tax ($) Adjustments'!H38 <> \"\", 'TT-5 Tax ($) Adjustments'!H38, 0)","v":0},{"$f":"IF('TT-5 Tax ($) Adjustments'!I38 <> \"\", 'TT-5 Tax ($) Adjustments'!I38, 0)","v":0},{"$f":"IF('TT-5 Tax ($) Adjustments'!J38 <> \"\", 'TT-5 Tax ($) Adjustments'!J38, 0)","v":0},{"$f":"IF('TT-5 Tax ($) Adjustments'!K38 <> \"\", 'TT-5 Tax ($) Adjustments'!K38, 0)","v":0},{"$f":"IF('TT-5 Tax ($) Adjustments'!L38 <> \"\", 'TT-5 Tax ($) Adjustments'!L38, 0)","v":0},{"$f":"IF('TT-5 Tax ($) Adjustments'!M38 <> \"\", 'TT-5 Tax ($) Adjustments'!M38, 0)","v":0},{"$f":"IF('TT-5 Tax ($) Adjustments'!N38 <> \"\", 'TT-5 Tax ($) Adjustments'!N38, 0)","v":0},{"$f":"IF('TT-5 Tax ($) Adjustments'!O38 <> 0, 'TT-5 Tax ($) Adjustments'!O38, \"\")","v":""}]
[{"$f":"IF('TT-5 Tax ($) Adjustments'!A39 <> 0, 'TT-5 Tax ($) Adjustments'!A39, \"\")","v":""},{"$f":"IF('TT-5 Tax ($) Adjustments'!B39 <> 0, 'TT-5 Tax ($) Adjustments'!B39, \"\")","v":""},{"$f":"IF('TT-5 Tax ($) Adjustments'!C39 <> 0, 'TT-5 Tax ($) Adjustments'!C39, \"\")","v":""},{"$f":"IF('TT-5 Tax ($) Adjustments'!D39 <> \"\", 'TT-5 Tax ($) Adjustments'!D39, 0)","v":0},{"$f":"IF('TT-5 Tax ($) Adjustments'!E39 <> \"\", 'TT-5 Tax ($) Adjustments'!E39, 0)","v":0},{"$f":"IF('TT-5 Tax ($) Adjustments'!F39 <> \"\", 'TT-5 Tax ($) Adjustments'!F39, 0)","v":0},{"$f":"IF('TT-5 Tax ($) Adjustments'!G39 <> \"\", 'TT-5 Tax ($) Adjustments'!G39, 0)","v":0},{"$f":"IF('TT-5 Tax ($) Adjustments'!H39 <> \"\", 'TT-5 Tax ($) Adjustments'!H39, 0)","v":0},{"$f":"IF('TT-5 Tax ($) Adjustments'!I39 <> \"\", 'TT-5 Tax ($) Adjustments'!I39, 0)","v":0},{"$f":"IF('TT-5 Tax ($) Adjustments'!J39 <> \"\", 'TT-5 Tax ($) Adjustments'!J39, 0)","v":0},{"$f":"IF('TT-5 Tax ($) Adjustments'!K39 <> \"\", 'TT-5 Tax ($) Adjustments'!K39, 0)","v":0},{"$f":"IF('TT-5 Tax ($) Adjustments'!L39 <> \"\", 'TT-5 Tax ($) Adjustments'!L39, 0)","v":0},{"$f":"IF('TT-5 Tax ($) Adjustments'!M39 <> \"\", 'TT-5 Tax ($) Adjustments'!M39, 0)","v":0},{"$f":"IF('TT-5 Tax ($) Adjustments'!N39 <> \"\", 'TT-5 Tax ($) Adjustments'!N39, 0)","v":0},{"$f":"IF('TT-5 Tax ($) Adjustments'!O39 <> 0, 'TT-5 Tax ($) Adjustments'!O39, \"\")","v":""}]
[{"$f":"IF('TT-5 Tax ($) Adjustments'!A40 <> 0, 'TT-5 Tax ($) Adjustments'!A40, \"\")","v":""},{"$f":"IF('TT-5 Tax ($) Adjustments'!B40 <> 0, 'TT-5 Tax ($) Adjustments'!B40, \"\")","v":""},{"$f":"IF('TT-5 Tax ($) Adjustments'!C40 <> 0, 'TT-5 Tax ($) Adjustments'!C40, \"\")","v":""},{"$f":"IF('TT-5 Tax ($) Adjustments'!D40 <> \"\", 'TT-5 Tax ($) Adjustments'!D40, 0)","v":0},{"$f":"IF('TT-5 Tax ($) Adjustments'!E40 <> \"\", 'TT-5 Tax ($) Adjustments'!E40, 0)","v":0},{"$f":"IF('TT-5 Tax ($) Adjustments'!F40 <> \"\", 'TT-5 Tax ($) Adjustments'!F40, 0)","v":0},{"$f":"IF('TT-5 Tax ($) Adjustments'!G40 <> \"\", 'TT-5 Tax ($) Adjustments'!G40, 0)","v":0},{"$f":"IF('TT-5 Tax ($) Adjustments'!H40 <> \"\", 'TT-5 Tax ($) Adjustments'!H40, 0)","v":0},{"$f":"IF('TT-5 Tax ($) Adjustments'!I40 <> \"\", 'TT-5 Tax ($) Adjustments'!I40, 0)","v":0},{"$f":"IF('TT-5 Tax ($) Adjustments'!J40 <> \"\", 'TT-5 Tax ($) Adjustments'!J40, 0)","v":0},{"$f":"IF('TT-5 Tax ($) Adjustments'!K40 <> \"\", 'TT-5 Tax ($) Adjustments'!K40, 0)","v":0},{"$f":"IF('TT-5 Tax ($) Adjustments'!L40 <> \"\", 'TT-5 Tax ($) Adjustments'!L40, 0)","v":0},{"$f":"IF('TT-5 Tax ($) Adjustments'!M40 <> \"\", 'TT-5 Tax ($) Adjustments'!M40, 0)","v":0},{"$f":"IF('TT-5 Tax ($) Adjustments'!N40 <> \"\", 'TT-5 Tax ($) Adjustments'!N40, 0)","v":0},{"$f":"IF('TT-5 Tax ($) Adjustments'!O40 <> 0, 'TT-5 Tax ($) Adjustments'!O40, \"\")","v":""}]
[{"$f":"IF('TT-5 Tax ($) Adjustments'!A41 <> 0, 'TT-5 Tax ($) Adjustments'!A41, \"\")","v":""},{"$f":"IF('TT-5 Tax ($) Adjustments'!B41 <> 0, 'TT-5 Tax ($) Adjustments'!B41, \"\")","v":""},{"$f":"IF('TT-5 Tax ($) Adjustments'!C41 <> 0, 'TT-5 Tax ($) Adjustments'!C41, \"\")","v":""},{"$f":"IF('TT-5 Tax ($) Adjustments'!D41 <> \"\", 'TT-5 Tax ($) Adjustments'!D41, 0)","v":0},{"$f":"IF('TT-5 Tax ($) Adjustments'!E41 <> \"\", 'TT-5 Tax ($) Adjustments'!E41, 0)","v":0},{"$f":"IF('TT-5 Tax ($) Adjustments'!F41 <> \"\", 'TT-5 Tax ($) Adjustments'!F41, 0)","v":0},{"$f":"IF('TT-5 Tax ($) Adjustments'!G41 <> \"\", 'TT-5 Tax ($) Adjustments'!G41, 0)","v":0},{"$f":"IF('TT-5 Tax ($) Adjustments'!H41 <> \"\", 'TT-5 Tax ($) Adjustments'!H41, 0)","v":0},{"$f":"IF('TT-5 Tax ($) Adjustments'!I41 <> \"\", 'TT-5 Tax ($) Adjustments'!I41, 0)","v":0},{"$f":"IF('TT-5 Tax ($) Adjustments'!J41 <> \"\", 'TT-5 Tax ($) Adjustments'!J41, 0)","v":0},{"$f":"IF('TT-5 Tax ($) Adjustments'!K41 <> \"\", 'TT-5 Tax ($) Adjustments'!K41, 0)","v":0},{"$f":"IF('TT-5 Tax ($) Adjustments'!L41 <> \"\", 'TT-5 Tax ($) Adjustments'!L41, 0)","v":0},{"$f":"IF('TT-5 Tax ($) Adjustments'!M41 <> \"\", 'TT-5 Tax ($) Adjustments'!M41, 0)","v":0},{"$f":"IF('TT-5 Tax ($) Adjustments'!N41 <> \"\", 'TT-5 Tax ($) Adjustments'!N41, 0)","v":0},{"$f":"IF('TT-5 Tax ($) Adjustments'!O41 <> 0, 'TT-5 Tax ($) Adjustments'!O41, \"\")","v":""}]
[{"$f":"IF('TT-5 Tax ($) Adjustments'!A42 <> 0, 'TT-5 Tax ($) Adjustments'!A42, \"\")","v":""},{"$f":"IF('TT-5 Tax ($) Adjustments'!B42 <> 0, 'TT-5 Tax ($) Adjustments'!B42, \"\")","v":""},{"$f":"IF('TT-5 Tax ($) Adjustments'!C42 <> 0, 'TT-5 Tax ($) Adjustments'!C42, \"\")","v":""},{"$f":"IF('TT-5 Tax ($) Adjustments'!D42 <> \"\", 'TT-5 Tax ($) Adjustments'!D42, 0)","v":0},{"$f":"IF('TT-5 Tax ($) Adjustments'!E42 <> \"\", 'TT-5 Tax ($) Adjustments'!E42, 0)","v":0},{"$f":"IF('TT-5 Tax ($) Adjustments'!F42 <> \"\", 'TT-5 Tax ($) Adjustments'!F42, 0)","v":0},{"$f":"IF('TT-5 Tax ($) Adjustments'!G42 <> \"\", 'TT-5 Tax ($) Adjustments'!G42, 0)","v":0},{"$f":"IF('TT-5 Tax ($) Adjustments'!H42 <> \"\", 'TT-5 Tax ($) Adjustments'!H42, 0)","v":0},{"$f":"IF('TT-5 Tax ($) Adjustments'!I42 <> \"\", 'TT-5 Tax ($) Adjustments'!I42, 0)","v":0},{"$f":"IF('TT-5 Tax ($) Adjustments'!J42 <> \"\", 'TT-5 Tax ($) Adjustments'!J42, 0)","v":0},{"$f":"IF('TT-5 Tax ($) Adjustments'!K42 <> \"\", 'TT-5 Tax ($) Adjustments'!K42, 0)","v":0},{"$f":"IF('TT-5 Tax ($) Adjustments'!L42 <> \"\", 'TT-5 Tax ($) Adjustments'!L42, 0)","v":0},{"$f":"IF('TT-5 Tax ($) Adjustments'!M42 <> \"\", 'TT-5 Tax ($) Adjustments'!M42, 0)","v":0},{"$f":"IF('TT-5 Tax ($) Adjustments'!N42 <> \"\", 'TT-5 Tax ($) Adjustments'!N42, 0)","v":0},{"$f":"IF('TT-5 Tax ($) Adjustments'!O42 <> 0, 'TT-5 Tax ($) Adjustments'!O42, \"\")","v":""}]
[{"$f":"IF('TT-5 Tax ($) Adjustments'!A43 <> 0, 'TT-5 Tax ($) Adjustments'!A43, \"\")","v":""},{"$f":"IF('TT-5 Tax ($) Adjustments'!B43 <> 0, 'TT-5 Tax ($) Adjustments'!B43, \"\")","v":""},{"$f":"IF('TT-5 Tax ($) Adjustments'!C43 <> 0, 'TT-5 Tax ($) Adjustments'!C43, \"\")","v":""},{"$f":"IF('TT-5 Tax ($) Adjustments'!D43 <> \"\", 'TT-5 Tax ($) Adjustments'!D43, 0)","v":0},{"$f":"IF('TT-5 Tax ($) Adjustments'!E43 <> \"\", 'TT-5 Tax ($) Adjustments'!E43, 0)","v":0},{"$f":"IF('TT-5 Tax ($) Adjustments'!F43 <> \"\", 'TT-5 Tax ($) Adjustments'!F43, 0)","v":0},{"$f":"IF('TT-5 Tax ($) Adjustments'!G43 <> \"\", 'TT-5 Tax ($) Adjustments'!G43, 0)","v":0},{"$f":"IF('TT-5 Tax ($) Adjustments'!H43 <> \"\", 'TT-5 Tax ($) Adjustments'!H43, 0)","v":0},{"$f":"IF('TT-5 Tax ($) Adjustments'!I43 <> \"\", 'TT-5 Tax ($) Adjustments'!I43, 0)","v":0},{"$f":"IF('TT-5 Tax ($) Adjustments'!J43 <> \"\", 'TT-5 Tax ($) Adjustments'!J43, 0)","v":0},{"$f":"IF('TT-5 Tax ($) Adjustments'!K43 <> \"\", 'TT-5 Tax ($) Adjustments'!K43, 0)","v":0},{"$f":"IF('TT-5 Tax ($) Adjustments'!L43 <> \"\", 'TT-5 Tax ($) Adjustments'!L43, 0)","v":0},{"$f":"IF('TT-5 Tax ($) Adjustments'!M43 <> \"\", 'TT-5 Tax ($) Adjustments'!M43, 0)","v":0},{"$f":"IF('TT-5 Tax ($) Adjustments'!N43 <> \"\", 'TT-5 Tax ($) Adjustments'!N43, 0)","v":0},{"$f":"IF('TT-5 Tax ($) Adjustments'!O43 <> 0, 'TT-5 Tax ($) Adjustments'!O43, \"\")","v":""}]
[{"$f":"IF('TT-5 Tax ($) Adjustments'!A44 <> 0, 'TT-5 Tax ($) Adjustments'!A44, \"\")","v":""},{"$f":"IF('TT-5 Tax ($) Adjustments'!B44 <> 0, 'TT-5 Tax ($) Adjustments'!B44, \"\")","v":""},{"$f":"IF('TT-5 Tax ($) Adjustments'!C44 <> 0, 'TT-5 Tax ($) Adjustments'!C44, \"\")","v":""},{"$f":"IF('TT-5 Tax ($) Adjustments'!D44 <> \"\", 'TT-5 Tax ($) Adjustments'!D44, 0)","v":0},{"$f":"IF('TT-5 Tax ($) Adjustments'!E44 <> \"\", 'TT-5 Tax ($) Adjustments'!E44, 0)","v":0},{"$f":"IF('TT-5 Tax ($) Adjustments'!F44 <> \"\", 'TT-5 Tax ($) Adjustments'!F44, 0)","v":0},{"$f":"IF('TT-5 Tax ($) Adjustments'!G44 <> \"\", 'TT-5 Tax ($) Adjustments'!G44, 0)","v":0},{"$f":"IF('TT-5 Tax ($) Adjustments'!H44 <> \"\", 'TT-5 Tax ($) Adjustments'!H44, 0)","v":0},{"$f":"IF('TT-5 Tax ($) Adjustments'!I44 <> \"\", 'TT-5 Tax ($) Adjustments'!I44, 0)","v":0},{"$f":"IF('TT-5 Tax ($) Adjustments'!J44 <> \"\", 'TT-5 Tax ($) Adjustments'!J44, 0)","v":0},{"$f":"IF('TT-5 Tax ($) Adjustments'!K44 <> \"\", 'TT-5 Tax ($) Adjustments'!K44, 0)","v":0},{"$f":"IF('TT-5 Tax ($) Adjustments'!L44 <> \"\", 'TT-5 Tax ($) Adjustments'!L44, 0)","v":0},{"$f":"IF('TT-5 Tax ($) Adjustments'!M44 <> \"\", 'TT-5 Tax ($) Adjustments'!M44, 0)","v":0},{"$f":"IF('TT-5 Tax ($) Adjustments'!N44 <> \"\", 'TT-5 Tax ($) Adjustments'!N44, 0)","v":0},{"$f":"IF('TT-5 Tax ($) Adjustments'!O44 <> 0, 'TT-5 Tax ($) Adjustments'!O44, \"\")","v":""}]
[{"$f":"IF('TT-5 Tax ($) Adjustments'!A45 <> 0, 'TT-5 Tax ($) Adjustments'!A45, \"\")","v":""},{"$f":"IF('TT-5 Tax ($) Adjustments'!B45 <> 0, 'TT-5 Tax ($) Adjustments'!B45, \"\")","v":""},{"$f":"IF('TT-5 Tax ($) Adjustments'!C45 <> 0, 'TT-5 Tax ($) Adjustments'!C45, \"\")","v":""},{"$f":"IF('TT-5 Tax ($) Adjustments'!D45 <> \"\", 'TT-5 Tax ($) Adjustments'!D45, 0)","v":0},{"$f":"IF('TT-5 Tax ($) Adjustments'!E45 <> \"\", 'TT-5 Tax ($) Adjustments'!E45, 0)","v":0},{"$f":"IF('TT-5 Tax ($) Adjustments'!F45 <> \"\", 'TT-5 Tax ($) Adjustments'!F45, 0)","v":0},{"$f":"IF('TT-5 Tax ($) Adjustments'!G45 <> \"\", 'TT-5 Tax ($) Adjustments'!G45, 0)","v":0},{"$f":"IF('TT-5 Tax ($) Adjustments'!H45 <> \"\", 'TT-5 Tax ($) Adjustments'!H45, 0)","v":0},{"$f":"IF('TT-5 Tax ($) Adjustments'!I45 <> \"\", 'TT-5 Tax ($) Adjustments'!I45, 0)","v":0},{"$f":"IF('TT-5 Tax ($) Adjustments'!J45 <> \"\", 'TT-5 Tax ($) Adjustments'!J45, 0)","v":0},{"$f":"IF('TT-5 Tax ($) Adjustments'!K45 <> \"\", 'TT-5 Tax ($) Adjustments'!K45, 0)","v":0},{"$f":"IF('TT-5 Tax ($) Adjustments'!L45 <> \"\", 'TT-5 Tax ($) Adjustments'!L45, 0)","v":0},{"$f":"IF('TT-5 Tax ($) Adjustments'!M45 <> \"\", 'TT-5 Tax ($) Adjustments'!M45, 0)","v":0},{"$f":"IF('TT-5 Tax ($) Adjustments'!N45 <> \"\", 'TT-5 Tax ($) Adjustments'!N45, 0)","v":0},{"$f":"IF('TT-5 Tax ($) Adjustments'!O45 <> 0, 'TT-5 Tax ($) Adjustments'!O45, \"\")","v":""}]
[{"$f":"IF('TT-5 Tax ($) Adjustments'!A46 <> 0, 'TT-5 Tax ($) Adjustments'!A46, \"\")","v":""},{"$f":"IF('TT-5 Tax ($) Adjustments'!B46 <> 0, 'TT-5 Tax ($) Adjustments'!B46, \"\")","v":""},{"$f":"IF('TT-5 Tax ($) Adjustments'!C46 <> 0, 'TT-5 Tax ($) Adjustments'!C46, \"\")","v":""},{"$f":"IF('TT-5 Tax ($) Adjustments'!D46 <> \"\", 'TT-5 Tax ($) Adjustments'!D46, 0)","v":0},{"$f":"IF('TT-5 Tax ($) Adjustments'!E46 <> \"\", 'TT-5 Tax ($) Adjustments'!E46, 0)","v":0},{"$f":"IF('TT-5 Tax ($) Adjustments'!F46 <> \"\", 'TT-5 Tax ($) Adjustments'!F46, 0)","v":0},{"$f":"IF('TT-5 Tax ($) Adjustments'!G46 <> \"\", 'TT-5 Tax ($) Adjustments'!G46, 0)","v":0},{"$f":"IF('TT-5 Tax ($) Adjustments'!H46 <> \"\", 'TT-5 Tax ($) Adjustments'!H46, 0)","v":0},{"$f":"IF('TT-5 Tax ($) Adjustments'!I46 <> \"\", 'TT-5 Tax ($) Adjustments'!I46, 0)","v":0},{"$f":"IF('TT-5 Tax ($) Adjustments'!J46 <> \"\", 'TT-5 Tax ($) Adjustments'!J46, 0)","v":0},{"$f":"IF('TT-5 Tax ($) Adjustments'!K46 <> \"\", 'TT-5 Tax ($) Adjustments'!K46, 0)","v":0},{"$f":"IF('TT-5 Tax ($) Adjustments'!L46 <> \"\", 'TT-5 Tax ($) Adjustments'!L46, 0)","v":0},{"$f":"IF('TT-5 Tax ($) Adjustments'!M46 <> \"\", 'TT-5 Tax ($) Adjustments'!M46, 0)","v":0},{"$f":"IF('TT-5 Tax ($) Adjustments'!N46 <> \"\", 'TT-5 Tax ($) Adjustments'!N46, 0)","v":0},{"$f":"IF('TT-5 Tax ($) Adjustments'!O46 <> 0, 'TT-5 Tax ($) Adjustments'!O46, \"\")","v":""}]
[{"$f":"IF('TT-5 Tax ($) Adjustments'!A47 <> 0, 'TT-5 Tax ($) Adjustments'!A47, \"\")","v":""},{"$f":"IF('TT-5 Tax ($) Adjustments'!B47 <> 0, 'TT-5 Tax ($) Adjustments'!B47, \"\")","v":""},{"$f":"IF('TT-5 Tax ($) Adjustments'!C47 <> 0, 'TT-5 Tax ($) Adjustments'!C47, \"\")","v":""},{"$f":"IF('TT-5 Tax ($) Adjustments'!D47 <> \"\", 'TT-5 Tax ($) Adjustments'!D47, 0)","v":0},{"$f":"IF('TT-5 Tax ($) Adjustments'!E47 <> \"\", 'TT-5 Tax ($) Adjustments'!E47, 0)","v":0},{"$f":"IF('TT-5 Tax ($) Adjustments'!F47 <> \"\", 'TT-5 Tax ($) Adjustments'!F47, 0)","v":0},{"$f":"IF('TT-5 Tax ($) Adjustments'!G47 <> \"\", 'TT-5 Tax ($) Adjustments'!G47, 0)","v":0},{"$f":"IF('TT-5 Tax ($) Adjustments'!H47 <> \"\", 'TT-5 Tax ($) Adjustments'!H47, 0)","v":0},{"$f":"IF('TT-5 Tax ($) Adjustments'!I47 <> \"\", 'TT-5 Tax ($) Adjustments'!I47, 0)","v":0},{"$f":"IF('TT-5 Tax ($) Adjustments'!J47 <> \"\", 'TT-5 Tax ($) Adjustments'!J47, 0)","v":0},{"$f":"IF('TT-5 Tax ($) Adjustments'!K47 <> \"\", 'TT-5 Tax ($) Adjustments'!K47, 0)","v":0},{"$f":"IF('TT-5 Tax ($) Adjustments'!L47 <> \"\", 'TT-5 Tax ($) Adjustments'!L47, 0)","v":0},{"$f":"IF('TT-5 Tax ($) Adjustments'!M47 <> \"\", 'TT-5 Tax ($) Adjustments'!M47, 0)","v":0},{"$f":"IF('TT-5 Tax ($) Adjustments'!N47 <> \"\", 'TT-5 Tax ($) Adjustments'!N47, 0)","v":0},{"$f":"IF('TT-5 Tax ($) Adjustments'!O47 <> 0, 'TT-5 Tax ($) Adjustments'!O47, \"\")","v":""}]
[{"$f":"IF('TT-5 Tax ($) Adjustments'!A48 <> 0, 'TT-5 Tax ($) Adjustments'!A48, \"\")","v":""},{"$f":"IF('TT-5 Tax ($) Adjustments'!B48 <> 0, 'TT-5 Tax ($) Adjustments'!B48, \"\")","v":""},{"$f":"IF('TT-5 Tax ($) Adjustments'!C48 <> 0, 'TT-5 Tax ($) Adjustments'!C48, \"\")","v":""},{"$f":"IF('TT-5 Tax ($) Adjustments'!D48 <> \"\", 'TT-5 Tax ($) Adjustments'!D48, 0)","v":0},{"$f":"IF('TT-5 Tax ($) Adjustments'!E48 <> \"\", 'TT-5 Tax ($) Adjustments'!E48, 0)","v":0},{"$f":"IF('TT-5 Tax ($) Adjustments'!F48 <> \"\", 'TT-5 Tax ($) Adjustments'!F48, 0)","v":0},{"$f":"IF('TT-5 Tax ($) Adjustments'!G48 <> \"\", 'TT-5 Tax ($) Adjustments'!G48, 0)","v":0},{"$f":"IF('TT-5 Tax ($) Adjustments'!H48 <> \"\", 'TT-5 Tax ($) Adjustments'!H48, 0)","v":0},{"$f":"IF('TT-5 Tax ($) Adjustments'!I48 <> \"\", 'TT-5 Tax ($) Adjustments'!I48, 0)","v":0},{"$f":"IF('TT-5 Tax ($) Adjustments'!J48 <> \"\", 'TT-5 Tax ($) Adjustments'!J48, 0)","v":0},{"$f":"IF('TT-5 Tax ($) Adjustments'!K48 <> \"\", 'TT-5 Tax ($) Adjustments'!K48, 0)","v":0},{"$f":"IF('TT-5 Tax ($) Adjustments'!L48 <> \"\", 'TT-5 Tax ($) Adjustments'!L48, 0)","v":0},{"$f":"IF('TT-5 Tax ($) Adjustments'!M48 <> \"\", 'TT-5 Tax ($) Adjustments'!M48, 0)","v":0},{"$f":"IF('TT-5 Tax ($) Adjustments'!N48 <> \"\", 'TT-5 Tax ($) Adjustments'!N48, 0)","v":0},{"$f":"IF('TT-5 Tax ($) Adjustments'!O48 <> 0, 'TT-5 Tax ($) Adjustments'!O48, \"\")","v":""}]
[{"$f":"IF('TT-5 Tax ($) Adjustments'!A49 <> 0, 'TT-5 Tax ($) Adjustments'!A49, \"\")","v":""},{"$f":"IF('TT-5 Tax ($) Adjustments'!B49 <> 0, 'TT-5 Tax ($) Adjustments'!B49, \"\")","v":""},{"$f":"IF('TT-5 Tax ($) Adjustments'!C49 <> 0, 'TT-5 Tax ($) Adjustments'!C49, \"\")","v":""},{"$f":"IF('TT-5 Tax ($) Adjustments'!D49 <> \"\", 'TT-5 Tax ($) Adjustments'!D49, 0)","v":0},{"$f":"IF('TT-5 Tax ($) Adjustments'!E49 <> \"\", 'TT-5 Tax ($) Adjustments'!E49, 0)","v":0},{"$f":"IF('TT-5 Tax ($) Adjustments'!F49 <> \"\", 'TT-5 Tax ($) Adjustments'!F49, 0)","v":0},{"$f":"IF('TT-5 Tax ($) Adjustments'!G49 <> \"\", 'TT-5 Tax ($) Adjustments'!G49, 0)","v":0},{"$f":"IF('TT-5 Tax ($) Adjustments'!H49 <> \"\", 'TT-5 Tax ($) Adjustments'!H49, 0)","v":0},{"$f":"IF('TT-5 Tax ($) Adjustments'!I49 <> \"\", 'TT-5 Tax ($) Adjustments'!I49, 0)","v":0},{"$f":"IF('TT-5 Tax ($) Adjustments'!J49 <> \"\", 'TT-5 Tax ($) Adjustments'!J49, 0)","v":0},{"$f":"IF('TT-5 Tax ($) Adjustments'!K49 <> \"\", 'TT-5 Tax ($) Adjustments'!K49, 0)","v":0},{"$f":"IF('TT-5 Tax ($) Adjustments'!L49 <> \"\", 'TT-5 Tax ($) Adjustments'!L49, 0)","v":0},{"$f":"IF('TT-5 Tax ($) Adjustments'!M49 <> \"\", 'TT-5 Tax ($) Adjustments'!M49, 0)","v":0},{"$f":"IF('TT-5 Tax ($) Adjustments'!N49 <> \"\", 'TT-5 Tax ($) Adjustments'!N49, 0)","v":0},{"$f":"IF('TT-5 Tax ($) Adjustments'!O49 <> 0, 'TT-5 Tax ($) Adjustments'!O49, \"\")","v":""}]
[{"$f":"IF('TT-5 Tax ($) Adjustments'!A50 <> 0, 'TT-5 Tax ($) Adjustments'!A50, \"\")","v":""},{"$f":"IF('TT-5 Tax ($) Adjustments'!B50 <> 0, 'TT-5 Tax ($) Adjustments'!B50, \"\")","v":""},{"$f":"IF('TT-5 Tax ($) Adjustments'!C50 <> 0, 'TT-5 Tax ($) Adjustments'!C50, \"\")","v":""},{"$f":"IF('TT-5 Tax ($) Adjustments'!D50 <> \"\", 'TT-5 Tax ($) Adjustments'!D50, 0)","v":0},{"$f":"IF('TT-5 Tax ($) Adjustments'!E50 <> \"\", 'TT-5 Tax ($) Adjustments'!E50, 0)","v":0},{"$f":"IF('TT-5 Tax ($) Adjustments'!F50 <> \"\", 'TT-5 Tax ($) Adjustments'!F50, 0)","v":0},{"$f":"IF('TT-5 Tax ($) Adjustments'!G50 <> \"\", 'TT-5 Tax ($) Adjustments'!G50, 0)","v":0},{"$f":"IF('TT-5 Tax ($) Adjustments'!H50 <> \"\", 'TT-5 Tax ($) Adjustments'!H50, 0)","v":0},{"$f":"IF('TT-5 Tax ($) Adjustments'!I50 <> \"\", 'TT-5 Tax ($) Adjustments'!I50, 0)","v":0},{"$f":"IF('TT-5 Tax ($) Adjustments'!J50 <> \"\", 'TT-5 Tax ($) Adjustments'!J50, 0)","v":0},{"$f":"IF('TT-5 Tax ($) Adjustments'!K50 <> \"\", 'TT-5 Tax ($) Adjustments'!K50, 0)","v":0},{"$f":"IF('TT-5 Tax ($) Adjustments'!L50 <> \"\", 'TT-5 Tax ($) Adjustments'!L50, 0)","v":0},{"$f":"IF('TT-5 Tax ($) Adjustments'!M50 <> \"\", 'TT-5 Tax ($) Adjustments'!M50, 0)","v":0},{"$f":"IF('TT-5 Tax ($) Adjustments'!N50 <> \"\", 'TT-5 Tax ($) Adjustments'!N50, 0)","v":0},{"$f":"IF('TT-5 Tax ($) Adjustments'!O50 <> 0, 'TT-5 Tax ($) Adjustments'!O50, \"\")","v":""}]
[{"$f":"IF('TT-5 Tax ($) Adjustments'!A51 <> 0, 'TT-5 Tax ($) Adjustments'!A51, \"\")","v":""},{"$f":"IF('TT-5 Tax ($) Adjustments'!B51 <> 0, 'TT-5 Tax ($) Adjustments'!B51, \"\")","v":""},{"$f":"IF('TT-5 Tax ($) Adjustments'!C51 <> 0, 'TT-5 Tax ($) Adjustments'!C51, \"\")","v":""},{"$f":"IF('TT-5 Tax ($) Adjustments'!D51 <> \"\", 'TT-5 Tax ($) Adjustments'!D51, 0)","v":0},{"$f":"IF('TT-5 Tax ($) Adjustments'!E51 <> \"\", 'TT-5 Tax ($) Adjustments'!E51, 0)","v":0},{"$f":"IF('TT-5 Tax ($) Adjustments'!F51 <> \"\", 'TT-5 Tax ($) Adjustments'!F51, 0)","v":0},{"$f":"IF('TT-5 Tax ($) Adjustments'!G51 <> \"\", 'TT-5 Tax ($) Adjustments'!G51, 0)","v":0},{"$f":"IF('TT-5 Tax ($) Adjustments'!H51 <> \"\", 'TT-5 Tax ($) Adjustments'!H51, 0)","v":0},{"$f":"IF('TT-5 Tax ($) Adjustments'!I51 <> \"\", 'TT-5 Tax ($) Adjustments'!I51, 0)","v":0},{"$f":"IF('TT-5 Tax ($) Adjustments'!J51 <> \"\", 'TT-5 Tax ($) Adjustments'!J51, 0)","v":0},{"$f":"IF('TT-5 Tax ($) Adjustments'!K51 <> \"\", 'TT-5 Tax ($) Adjustments'!K51, 0)","v":0},{"$f":"IF('TT-5 Tax ($) Adjustments'!L51 <> \"\", 'TT-5 Tax ($) Adjustments'!L51, 0)","v":0},{"$f":"IF('TT-5 Tax ($) Adjustments'!M51 <> \"\", 'TT-5 Tax ($) Adjustments'!M51, 0)","v":0},{"$f":"IF('TT-5 Tax ($) Adjustments'!N51 <> \"\", 'TT-5 Tax ($) Adjustments'!N51, 0)","v":0},{"$f":"IF('TT-5 Tax ($) Adjustments'!O51 <> 0, 'TT-5 Tax ($) Adjustments'!O51, \"\")","v":""}]
[{"$f":"IF('TT-5 Tax ($) Adjustments'!A52 <> 0, 'TT-5 Tax ($) Adjustments'!A52, \"\")","v":""},{"$f":"IF('TT-5 Tax ($) Adjustments'!B52 <> 0, 'TT-5 Tax ($) Adjustments'!B52, \"\")","v":""},{"$f":"IF('TT-5 Tax ($) Adjustments'!C52 <> 0, 'TT-5 Tax ($) Adjustments'!C52, \"\")","v":""},{"$f":"IF('TT-5 Tax ($) Adjustments'!D52 <> \"\", 'TT-5 Tax ($) Adjustments'!D52, 0)","v":0},{"$f":"IF('TT-5 Tax ($) Adjustments'!E52 <> \"\", 'TT-5 Tax ($) Adjustments'!E52, 0)","v":0},{"$f":"IF('TT-5 Tax ($) Adjustments'!F52 <> \"\", 'TT-5 Tax ($) Adjustments'!F52, 0)","v":0},{"$f":"IF('TT-5 Tax ($) Adjustments'!G52 <> \"\", 'TT-5 Tax ($) Adjustments'!G52, 0)","v":0},{"$f":"IF('TT-5 Tax ($) Adjustments'!H52 <> \"\", 'TT-5 Tax ($) Adjustments'!H52, 0)","v":0},{"$f":"IF('TT-5 Tax ($) Adjustments'!I52 <> \"\", 'TT-5 Tax ($) Adjustments'!I52, 0)","v":0},{"$f":"IF('TT-5 Tax ($) Adjustments'!J52 <> \"\", 'TT-5 Tax ($) Adjustments'!J52, 0)","v":0},{"$f":"IF('TT-5 Tax ($) Adjustments'!K52 <> \"\", 'TT-5 Tax ($) Adjustments'!K52, 0)","v":0},{"$f":"IF('TT-5 Tax ($) Adjustments'!L52 <> \"\", 'TT-5 Tax ($) Adjustments'!L52, 0)","v":0},{"$f":"IF('TT-5 Tax ($) Adjustments'!M52 <> \"\", 'TT-5 Tax ($) Adjustments'!M52, 0)","v":0},{"$f":"IF('TT-5 Tax ($) Adjustments'!N52 <> \"\", 'TT-5 Tax ($) Adjustments'!N52, 0)","v":0},{"$f":"IF('TT-5 Tax ($) Adjustments'!O52 <> 0, 'TT-5 Tax ($) Adjustments'!O52, \"\")","v":""}]
[{"$f":"IF('TT-5 Tax ($) Adjustments'!A53 <> 0, 'TT-5 Tax ($) Adjustments'!A53, \"\")","v":""},{"$f":"IF('TT-5 Tax ($) Adjustments'!B53 <> 0, 'TT-5 Tax ($) Adjustments'!B53, \"\")","v":""},{"$f":"IF('TT-5 Tax ($) Adjustments'!C53 <> 0, 'TT-5 Tax ($) Adjustments'!C53, \"\")","v":""},{"$f":"IF('TT-5 Tax ($) Adjustments'!D53 <> \"\", 'TT-5 Tax ($) Adjustments'!D53, 0)","v":0},{"$f":"IF('TT-5 Tax ($) Adjustments'!E53 <> \"\", 'TT-5 Tax ($) Adjustments'!E53, 0)","v":0},{"$f":"IF('TT-5 Tax ($) Adjustments'!F53 <> \"\", 'TT-5 Tax ($) Adjustments'!F53, 0)","v":0},{"$f":"IF('TT-5 Tax ($) Adjustments'!G53 <> \"\", 'TT-5 Tax ($) Adjustments'!G53, 0)","v":0},{"$f":"IF('TT-5 Tax ($) Adjustments'!H53 <> \"\", 'TT-5 Tax ($) Adjustments'!H53, 0)","v":0},{"$f":"IF('TT-5 Tax ($) Adjustments'!I53 <> \"\", 'TT-5 Tax ($) Adjustments'!I53, 0)","v":0},{"$f":"IF('TT-5 Tax ($) Adjustments'!J53 <> \"\", 'TT-5 Tax ($) Adjustments'!J53, 0)","v":0},{"$f":"IF('TT-5 Tax ($) Adjustments'!K53 <> \"\", 'TT-5 Tax ($) Adjustments'!K53, 0)","v":0},{"$f":"IF('TT-5 Tax ($) Adjustments'!L53 <> \"\", 'TT-5 Tax ($) Adjustments'!L53, 0)","v":0},{"$f":"IF('TT-5 Tax ($) Adjustments'!M53 <> \"\", 'TT-5 Tax ($) Adjustments'!M53, 0)","v":0},{"$f":"IF('TT-5 Tax ($) Adjustments'!N53 <> \"\", 'TT-5 Tax ($) Adjustments'!N53, 0)","v":0},{"$f":"IF('TT-5 Tax ($) Adjustments'!O53 <> 0, 'TT-5 Tax ($) Adjustments'!O53, \"\")","v":""}]
[{"$f":"IF('TT-5 Tax ($) Adjustments'!A54 <> 0, 'TT-5 Tax ($) Adjustments'!A54, \"\")","v":""},{"$f":"IF('TT-5 Tax ($) Adjustments'!B54 <> 0, 'TT-5 Tax ($) Adjustments'!B54, \"\")","v":""},{"$f":"IF('TT-5 Tax ($) Adjustments'!C54 <> 0, 'TT-5 Tax ($) Adjustments'!C54, \"\")","v":""},{"$f":"IF('TT-5 Tax ($) Adjustments'!D54 <> \"\", 'TT-5 Tax ($) Adjustments'!D54, 0)","v":0},{"$f":"IF('TT-5 Tax ($) Adjustments'!E54 <> \"\", 'TT-5 Tax ($) Adjustments'!E54, 0)","v":0},{"$f":"IF('TT-5 Tax ($) Adjustments'!F54 <> \"\", 'TT-5 Tax ($) Adjustments'!F54, 0)","v":0},{"$f":"IF('TT-5 Tax ($) Adjustments'!G54 <> \"\", 'TT-5 Tax ($) Adjustments'!G54, 0)","v":0},{"$f":"IF('TT-5 Tax ($) Adjustments'!H54 <> \"\", 'TT-5 Tax ($) Adjustments'!H54, 0)","v":0},{"$f":"IF('TT-5 Tax ($) Adjustments'!I54 <> \"\", 'TT-5 Tax ($) Adjustments'!I54, 0)","v":0},{"$f":"IF('TT-5 Tax ($) Adjustments'!J54 <> \"\", 'TT-5 Tax ($) Adjustments'!J54, 0)","v":0},{"$f":"IF('TT-5 Tax ($) Adjustments'!K54 <> \"\", 'TT-5 Tax ($) Adjustments'!K54, 0)","v":0},{"$f":"IF('TT-5 Tax ($) Adjustments'!L54 <> \"\", 'TT-5 Tax ($) Adjustments'!L54, 0)","v":0},{"$f":"IF('TT-5 Tax ($) Adjustments'!M54 <> \"\", 'TT-5 Tax ($) Adjustments'!M54, 0)","v":0},{"$f":"IF('TT-5 Tax ($) Adjustments'!N54 <> \"\", 'TT-5 Tax ($) Adjustments'!N54, 0)","v":0},{"$f":"IF('TT-5 Tax ($) Adjustments'!O54 <> 0, 'TT-5 Tax ($) Adjustments'!O54, \"\")","v":""}]
[{"$f":"IF('TT-5 Tax ($) Adjustments'!A55 <> 0, 'TT-5 Tax ($) Adjustments'!A55, \"\")","v":""},{"$f":"IF('TT-5 Tax ($) Adjustments'!B55 <> 0, 'TT-5 Tax ($) Adjustments'!B55, \"\")","v":""},{"$f":"IF('TT-5 Tax ($) Adjustments'!C55 <> 0, 'TT-5 Tax ($) Adjustments'!C55, \"\")","v":""},{"$f":"IF('TT-5 Tax ($) Adjustments'!D55 <> \"\", 'TT-5 Tax ($) Adjustments'!D55, 0)","v":0},{"$f":"IF('TT-5 Tax ($) Adjustments'!E55 <> \"\", 'TT-5 Tax ($) Adjustments'!E55, 0)","v":0},{"$f":"IF('TT-5 Tax ($) Adjustments'!F55 <> \"\", 'TT-5 Tax ($) Adjustments'!F55, 0)","v":0},{"$f":"IF('TT-5 Tax ($) Adjustments'!G55 <> \"\", 'TT-5 Tax ($) Adjustments'!G55, 0)","v":0},{"$f":"IF('TT-5 Tax ($) Adjustments'!H55 <> \"\", 'TT-5 Tax ($) Adjustments'!H55, 0)","v":0},{"$f":"IF('TT-5 Tax ($) Adjustments'!I55 <> \"\", 'TT-5 Tax ($) Adjustments'!I55, 0)","v":0},{"$f":"IF('TT-5 Tax ($) Adjustments'!J55 <> \"\", 'TT-5 Tax ($) Adjustments'!J55, 0)","v":0},{"$f":"IF('TT-5 Tax ($) Adjustments'!K55 <> \"\", 'TT-5 Tax ($) Adjustments'!K55, 0)","v":0},{"$f":"IF('TT-5 Tax ($) Adjustments'!L55 <> \"\", 'TT-5 Tax ($) Adjustments'!L55, 0)","v":0},{"$f":"IF('TT-5 Tax ($) Adjustments'!M55 <> \"\", 'TT-5 Tax ($) Adjustments'!M55, 0)","v":0},{"$f":"IF('TT-5 Tax ($) Adjustments'!N55 <> \"\", 'TT-5 Tax ($) Adjustments'!N55, 0)","v":0},{"$f":"IF('TT-5 Tax ($) Adjustments'!O55 <> 0, 'TT-5 Tax ($) Adjustments'!O55, \"\")","v":""}]
[{"$f":"IF('TT-5 Tax ($) Adjustments'!A56 <> 0, 'TT-5 Tax ($) Adjustments'!A56, \"\")","v":""},{"$f":"IF('TT-5 Tax ($) Adjustments'!B56 <> 0, 'TT-5 Tax ($) Adjustments'!B56, \"\")","v":""},{"$f":"IF('TT-5 Tax ($) Adjustments'!C56 <> 0, 'TT-5 Tax ($) Adjustments'!C56, \"\")","v":""},{"$f":"IF('TT-5 Tax ($) Adjustments'!D56 <> \"\", 'TT-5 Tax ($) Adjustments'!D56, 0)","v":0},{"$f":"IF('TT-5 Tax ($) Adjustments'!E56 <> \"\", 'TT-5 Tax ($) Adjustments'!E56, 0)","v":0},{"$f":"IF('TT-5 Tax ($) Adjustments'!F56 <> \"\", 'TT-5 Tax ($) Adjustments'!F56, 0)","v":0},{"$f":"IF('TT-5 Tax ($) Adjustments'!G56 <> \"\", 'TT-5 Tax ($) Adjustments'!G56, 0)","v":0},{"$f":"IF('TT-5 Tax ($) Adjustments'!H56 <> \"\", 'TT-5 Tax ($) Adjustments'!H56, 0)","v":0},{"$f":"IF('TT-5 Tax ($) Adjustments'!I56 <> \"\", 'TT-5 Tax ($) Adjustments'!I56, 0)","v":0},{"$f":"IF('TT-5 Tax ($) Adjustments'!J56 <> \"\", 'TT-5 Tax ($) Adjustments'!J56, 0)","v":0},{"$f":"IF('TT-5 Tax ($) Adjustments'!K56 <> \"\", 'TT-5 Tax ($) Adjustments'!K56, 0)","v":0},{"$f":"IF('TT-5 Tax ($) Adjustments'!L56 <> \"\", 'TT-5 Tax ($) Adjustments'!L56, 0)","v":0},{"$f":"IF('TT-5 Tax ($) Adjustments'!M56 <> \"\", 'TT-5 Tax ($) Adjustments'!M56, 0)","v":0},{"$f":"IF('TT-5 Tax ($) Adjustments'!N56 <> \"\", 'TT-5 Tax ($) Adjustments'!N56, 0)","v":0},{"$f":"IF('TT-5 Tax ($) Adjustments'!O56 <> 0, 'TT-5 Tax ($) Adjustments'!O56, \"\")","v":""}]
[{"$f":"IF('TT-5 Tax ($) Adjustments'!A57 <> 0, 'TT-5 Tax ($) Adjustments'!A57, \"\")","v":""},{"$f":"IF('TT-5 Tax ($) Adjustments'!B57 <> 0, 'TT-5 Tax ($) Adjustments'!B57, \"\")","v":""},{"$f":"IF('TT-5 Tax ($) Adjustments'!C57 <> 0, 'TT-5 Tax ($) Adjustments'!C57, \"\")","v":""},{"$f":"IF('TT-5 Tax ($) Adjustments'!D57 <> \"\", 'TT-5 Tax ($) Adjustments'!D57, 0)","v":0},{"$f":"IF('TT-5 Tax ($) Adjustments'!E57 <> \"\", 'TT-5 Tax ($) Adjustments'!E57, 0)","v":0},{"$f":"IF('TT-5 Tax ($) Adjustments'!F57 <> \"\", 'TT-5 Tax ($) Adjustments'!F57, 0)","v":0},{"$f":"IF('TT-5 Tax ($) Adjustments'!G57 <> \"\", 'TT-5 Tax ($) Adjustments'!G57, 0)","v":0},{"$f":"IF('TT-5 Tax ($) Adjustments'!H57 <> \"\", 'TT-5 Tax ($) Adjustments'!H57, 0)","v":0},{"$f":"IF('TT-5 Tax ($) Adjustments'!I57 <> \"\", 'TT-5 Tax ($) Adjustments'!I57, 0)","v":0},{"$f":"IF('TT-5 Tax ($) Adjustments'!J57 <> \"\", 'TT-5 Tax ($) Adjustments'!J57, 0)","v":0},{"$f":"IF('TT-5 Tax ($) Adjustments'!K57 <> \"\", 'TT-5 Tax ($) Adjustments'!K57, 0)","v":0},{"$f":"IF('TT-5 Tax ($) Adjustments'!L57 <> \"\", 'TT-5 Tax ($) Adjustments'!L57, 0)","v":0},{"$f":"IF('TT-5 Tax ($) Adjustments'!M57 <> \"\", 'TT-5 Tax ($) Adjustments'!M57, 0)","v":0},{"$f":"IF('TT-5 Tax ($) Adjustments'!N57 <> \"\", 'TT-5 Tax ($) Adjustments'!N57, 0)","v":0},{"$f":"IF('TT-5 Tax ($) Adjustments'!O57 <> 0, 'TT-5 Tax ($) Adjustments'!O57, \"\")","v":""}]
[{"$f":"IF('TT-5 Tax ($) Adjustments'!A58 <> 0, 'TT-5 Tax ($) Adjustments'!A58, \"\")","v":""},{"$f":"IF('TT-5 Tax ($) Adjustments'!B58 <> 0, 'TT-5 Tax ($) Adjustments'!B58, \"\")","v":""},{"$f":"IF('TT-5 Tax ($) Adjustments'!C58 <> 0, 'TT-5 Tax ($) Adjustments'!C58, \"\")","v":""},{"$f":"IF('TT-5 Tax ($) Adjustments'!D58 <> \"\", 'TT-5 Tax ($) Adjustments'!D58, 0)","v":0},{"$f":"IF('TT-5 Tax ($) Adjustments'!E58 <> \"\", 'TT-5 Tax ($) Adjustments'!E58, 0)","v":0},{"$f":"IF('TT-5 Tax ($) Adjustments'!F58 <> \"\", 'TT-5 Tax ($) Adjustments'!F58, 0)","v":0},{"$f":"IF('TT-5 Tax ($) Adjustments'!G58 <> \"\", 'TT-5 Tax ($) Adjustments'!G58, 0)","v":0},{"$f":"IF('TT-5 Tax ($) Adjustments'!H58 <> \"\", 'TT-5 Tax ($) Adjustments'!H58, 0)","v":0},{"$f":"IF('TT-5 Tax ($) Adjustments'!I58 <> \"\", 'TT-5 Tax ($) Adjustments'!I58, 0)","v":0},{"$f":"IF('TT-5 Tax ($) Adjustments'!J58 <> \"\", 'TT-5 Tax ($) Adjustments'!J58, 0)","v":0},{"$f":"IF('TT-5 Tax ($) Adjustments'!K58 <> \"\", 'TT-5 Tax ($) Adjustments'!K58, 0)","v":0},{"$f":"IF('TT-5 Tax ($) Adjustments'!L58 <> \"\", 'TT-5 Tax ($) Adjustments'!L58, 0)","v":0},{"$f":"IF('TT-5 Tax ($) Adjustments'!M58 <> \"\", 'TT-5 Tax ($) Adjustments'!M58, 0)","v":0},{"$f":"IF('TT-5 Tax ($) Adjustments'!N58 <> \"\", 'TT-5 Tax ($) Adjustments'!N58, 0)","v":0},{"$f":"IF('TT-5 Tax ($) Adjustments'!O58 <> 0, 'TT-5 Tax ($) Adjustments'!O58, \"\")","v":""}]
[{"$f":"IF('TT-5 Tax ($) Adjustments'!A59 <> 0, 'TT-5 Tax ($) Adjustments'!A59, \"\")","v":""},{"$f":"IF('TT-5 Tax ($) Adjustments'!B59 <> 0, 'TT-5 Tax ($) Adjustments'!B59, \"\")","v":""},{"$f":"IF('TT-5 Tax ($) Adjustments'!C59 <> 0, 'TT-5 Tax ($) Adjustments'!C59, \"\")","v":""},{"$f":"IF('TT-5 Tax ($) Adjustments'!D59 <> \"\", 'TT-5 Tax ($) Adjustments'!D59, 0)","v":0},{"$f":"IF('TT-5 Tax ($) Adjustments'!E59 <> \"\", 'TT-5 Tax ($) Adjustments'!E59, 0)","v":0},{"$f":"IF('TT-5 Tax ($) Adjustments'!F59 <> \"\", 'TT-5 Tax ($) Adjustments'!F59, 0)","v":0},{"$f":"IF('TT-5 Tax ($) Adjustments'!G59 <> \"\", 'TT-5 Tax ($) Adjustments'!G59, 0)","v":0},{"$f":"IF('TT-5 Tax ($) Adjustments'!H59 <> \"\", 'TT-5 Tax ($) Adjustments'!H59, 0)","v":0},{"$f":"IF('TT-5 Tax ($) Adjustments'!I59 <> \"\", 'TT-5 Tax ($) Adjustments'!I59, 0)","v":0},{"$f":"IF('TT-5 Tax ($) Adjustments'!J59 <> \"\", 'TT-5 Tax ($) Adjustments'!J59, 0)","v":0},{"$f":"IF('TT-5 Tax ($) Adjustments'!K59 <> \"\", 'TT-5 Tax ($) Adjustments'!K59, 0)","v":0},{"$f":"IF('TT-5 Tax ($) Adjustments'!L59 <> \"\", 'TT-5 Tax ($) Adjustments'!L59, 0)","v":0},{"$f":"IF('TT-5 Tax ($) Adjustments'!M59 <> \"\", 'TT-5 Tax ($) Adjustments'!M59, 0)","v":0},{"$f":"IF('TT-5 Tax ($) Adjustments'!N59 <> \"\", 'TT-5 Tax ($) Adjustments'!N59, 0)","v":0},{"$f":"IF('TT-5 Tax ($) Adjustments'!O59 <> 0, 'TT-5 Tax ($) Adjustments'!O59, \"\")","v":""}]

{"sheet":"Acerno_Cache_XXXXX","index":10,"n_rows":0,"n_cols":0,"rows_kept":0,"cut":false,"hidden":true,"merged":[]}

{"sheet":"Map Tobacco Tax Return_2","index":11,"n_rows":16,"n_cols":2,"rows_kept":16,"cut":false,"hidden":true,"merged":[]}
["TotalTaxPayable",{"$f":"IF('Tobacco Tax Return'!Q24 <> 0, 'Tobacco Tax Return'!Q24, 0)","v":0}]
["TaxPaidCollectedAdjustment",{"$f":"IF('Tobacco Tax Return'!Q25 <> 0, 'Tobacco Tax Return'!Q25, 0)","v":0}]
["NetTaxDue",{"$f":"IF('Tobacco Tax Return'!Q26 <> 0, 'Tobacco Tax Return'!Q26, 0)","v":0}]
["Commission",{"$f":"IF('Tobacco Tax Return'!Q27 <> 0, 'Tobacco Tax Return'!Q27, 0)","v":0}]
["TotalTax",{"$f":"IF('Tobacco Tax Return'!Q26 <> 0, 'Tobacco Tax Return'!Q26, 0)","v":0}]
["AccountBalance",{"$f":"IF('Tobacco Tax Return'!Q29 <> 0, 'Tobacco Tax Return'!Q29, 0)","v":0}]
["RemittanceEnclosed",{"$f":"IF('Tobacco Tax Return'!Q30 <> 0, 'Tobacco Tax Return'!Q30, 0)","v":0}]
[]
["Update address:",false]
["Original return:",false]
["Amended return:",false]
[]
["Update address flag:",{"$f":"IF(B9 = TRUE, TRUE, FALSE)","v":false}]
["Original return flag:",{"$f":"IF(B10 = TRUE, TRUE, IF(B11 = TRUE, FALSE, TRUE))","v":true}]
[]
["DocumentAddress:",{"$f":"CONCATENATE('Tobacco Tax Return'!E5,\" \",'Tobacco Tax Return'!F5,\" \",'Tobacco Tax Return'!G5,\" \",'Tobacco Tax Return'!E8,\" \",'Tobacco Tax Return'!H8,\" \",'Tobacco Tax Return'!L8)","v":"     "}]

{"sheet":"Tobacco Tax Return","index":12,"n_rows":36,"n_cols":19,"rows_kept":36,"cut":false,"hidden":false,"merged":[[4,0,5,3],[6,4,6,6],[4,8,5,11],[4,5,5,7],[7,3,9,3],[7,4,7,6],[6,7,6,10],[6,0,9,2],[1,16,2,16],[3,16,7,16],[9,9,9,10],[1,4,1,11],[4,4,5,4],[8,4,8,6],[2,4,2,11],[3,5,3,7],[8,14,9,14],[8,15,9,15],[1,13,1,15],[2,13,2,15],[3,13,3,15],[8,13,9,13],[8,16,9,16],[3,8,3,11],[13,1,13,3],[19,1,19,2],[22,1,22,3],[10,1,10,3],[14,1,14,3],[20,1,20,3],[11,1,11,3],[16,1,16,3],[12,1,12,3],[17,1,17,3],[10,16,20,16],[9,7,9,8],[12,9,12,10],[13,9,13,10],[15,9,15,10],[19,7,19,8],[17,7,17,8],[18,7,18,8],[14,7,14,11],[16,7,16,8],[20,7,20,8],[24,12,24,15],[16,9,16,10],[29,6,29,9],[11,7,11,8],[12,7,12,8],[13,7,13,8],[15,7,15,8],[23,9,23,10],[20,9,20,10],[21,9,21,10],[29,12,29,15],[28,12,28,15],[25,12,25,15],[28,10,28,11],[27,12,27,15],[26,12,26,15],[24,1,24,2],[27,3,27,5],[27,6,27,9],[27,10,27,11],[25,0,29,2],[29,10,29,11],[29,3,29,5],[23,7,23,8],[10,12,10,15],[14,12,14,15],[4,14,7,15],[22,9,22,10],[17,9,17,10],[18,9,18,10],[19,9,19,10],[11,9,11,10],[8,12,9,12],[10,7,10,11],[8,7,8,11],[7,7,7,10],[21,7,21,8],[22,7,22,8]]}
[null,null,null,null,null,null,null,null,null,null,null,null,null,null,null,null,"Tobacco Tax Return",null,"Instructions"]
[null,null,null,null,"Legal Name",null,null,null,null,null,null,null,"Account ID","Federal Busines Number (BN)",null,null,null,null,"1. Enter all the required data in this return."]
[null,null,null,null,null,null,null,null,null,null,null,null,null,null,null,null,null,null,"2. Verify that the data is accurate."]
[null,null,null,null,"Suite / Unit / Apt.","Street Number and Name",null,null,"PO Box / Postal Stn. / R.R. # / Other ",null,null,null,"Return Period","Due Date (YYYY-MM-DD)",null,null,null,null,"3. Click on the 'Format File' button.  A new return template will need to be used for each upload, as the Format File button modifies this return.    "]
["Update Address",null,null,null,null,null,null,null,null,null,null,null,"From (YYYY-MM-DD)",null,{"$f":"IF(M8=\"\",\"\",M8+20)","v":""},null,null,null,"4. Re-save the file either in the XLS or XLSX format. DO NOT save this as a macro-enabled file."]
[null,null,null,null,null,null,null,null,null,null,null,null,null,null,null,null,null,null,"5. Navigate to SETS to upload the XLS or XLSX file by signing in and going to the Online Transactions Menu and selecting File a Form."]
[null,null,null," Return Type","City",null,null,"Province",null,null,null,"Postal Code","To (YYYY-MM-DD)"]
[]
[null,null,null,null,"Jurisdicitonally Marked Product",null,null,"Unmarked Product",null,null,null,null,"\nCigars\n($ Tax Amount)\nG","Heated Tobacco Products (units)\nH","\nPipe Tobacco\n(grams)\nI","\nSmokeless\nTobacco (grams)\nJ","\nTotal Tobacco Tax\nK"]
[null,null,null,null,"Cigarettes\n(units)\nA","Tobacco Sticks \n(units)\nB","Cut Tobacco\n(grams)\nC","Cigarettes\n(units)\nD",null,"Tobacco Sticks \n(units)\nE",null,"Cut Tobacco\n(grams)\nF"]
[1,"Opening Untaxed Inventory",null,null,null,null,null,"Not Applicable for Saskatchewan",null,null,null,null,"Not Applicable for Saskatchewan",null,null,null,null,1]
[2,"Manufactured ",null,null,null,null,null,null,null,null,null,null,null,null,null,null,null,2]
[3,"Imports/Non-Tax Memo Purchases (Schedule TT-1)",null,null,{"$f":"'TT-1 Imports & Non-tax Memo '!F123","v":0},{"$f":"'TT-1 Imports & Non-tax Memo '!G123","v":0},{"$f":"'TT-1 Imports & Non-tax Memo '!H123","v":0},{"$f":"'TT-1 Imports & Non-tax Memo '!I123","v":0},null,{"$f":"+'TT-1 Imports & Non-tax Memo '!J123","v":0},null,{"$f":"+'TT-1 Imports & Non-tax Memo '!K123","v":0},{"$f":"'TT-1 Imports & Non-tax Memo '!O123","v":0},{"$f":"'TT-1 Imports & Non-tax Memo '!P123","v":0},{"$f":"'TT-1 Imports & Non-tax Memo '!Q123","v":0},{"$f":"'TT-1 Imports & Non-tax Memo '!R123","v":0},null,3]
[4,"Tax Memo Purchases (Schedule TT-2)",null,null,{"$f":"+'TT-2 Tax Memo Purchases'!D75","v":0},{"$f":"'TT-2 Tax Memo Purchases'!E75","v":0},{"$f":"'TT-2 Tax Memo Purchases'!F75","v":0},{"$f":"'TT-2 Tax Memo Purchases'!G75","v":0},null,{"$f":"'TT-2 Tax Memo Purchases'!H75","v":0},null,{"$f":"'TT-2 Tax Memo Purchases'!I75","v":0},{"$f":"'TT-2 Tax Memo Purchases'!J75","v":0},{"$f":"'TT-2 Tax Memo Purchases'!K75","v":0},{"$f":"'TT-2 Tax Memo Purchases'!L75","v":0},{"$f":"'TT-2 Tax Memo Purchases'!M75","v":0},null,4]
[5,"Closing Untaxed Inventory",null,null,null,null,null,"Not Applicable for Saskatchewan",null,null,null,null,"Not Applicable for Saskatchewan",null,null,null,null,5]
[6,"Total Accountable Volumes",null," (Line 1 + 2+ 3 + 4 - 5) ",{"$f":"+E11+E12+E13+E14-E15","v":0},{"$f":"+F11+F12+F13+F14-F15","v":0},{"$f":"SUM(+G11+G12+G13+G14-G15)","v":0},{"$f":"+H12+H13+H14","v":0},null,{"$f":"SUM(J12:K14)","v":0},null,{"$f":"SUM(L12:L14)","v":0},{"$f":"+M12+M13+M14","v":0},{"$f":"+N12+N13+N14","v":0},{"$f":"+O12+O13+O14","v":0},{"$f":"+P12+P13+P14","v":0},null,6]
[7,"Exports (Schedule TT-3)",null,null,{"$f":"+'TT-3 Exports'!F61","v":0},{"$f":"+'TT-3 Exports'!G61","v":0},{"$f":"+'TT-3 Exports'!H61","v":0},{"$f":"+'TT-3 Exports'!I61","v":0},null,{"$f":"+'TT-3 Exports'!J61","v":0},null,{"$f":"+'TT-3 Exports'!K61","v":0},{"$f":"+'TT-3 Exports'!O61","v":0},{"$f":"'TT-3 Exports'!P61","v":0},{"$f":"+'TT-3 Exports'!Q61","v":0},{"$f":"+'TT-3 Exports'!R61","v":0},null,7]
[8,"Tax Memo Sales to Other Collectors (Schedule TT-4)",null,null,{"$f":"+'TT-4  Tax Memo Sales'!F10","v":0},{"$f":"+'TT-4  Tax Memo Sales'!G10","v":0},{"$f":"+'TT-4  Tax Memo Sales'!H10","v":0},{"$f":"+'TT-4  Tax Memo Sales'!I10","v":0},null,{"$f":"+'TT-4  Tax Memo Sales'!J10","v":0},null,{"$f":"+'TT-4  Tax Memo Sales'!K10","v":0},{"$f":"+'TT-4  Tax Memo Sales'!L10","v":0},{"$f":"'TT-4  Tax Memo Sales'!M10","v":0},{"$f":"+'TT-4  Tax Memo Sales'!N10","v":0},{"$f":"+'TT-4  Tax Memo Sales'!O10","v":0},null,8]
[9,"Volume Adjustments (attach details)",null,null,null,null,null,null,null,null,null,null,null,null,null,null,null,9]
[10,"Total Taxable Volumes                                          ",null,"(Line 6 - 7 - 8 - 9)  ",{"$f":"+E16-E17-E18-E19","v":0},{"$f":"+F16-F17-F18-F19","v":0},{"$f":"+G16-G17-G18-G19","v":0},{"$f":"+H16-H17-H18-H19","v":0},null,{"$f":"+J16-J17-J18-J19","v":0},null,{"$f":"+L16-L17-L18-L19","v":0},{"$f":"+M16-M17-M18-M19","v":0},{"$f":"+N16-N17-N18-N19","v":0},{"$f":"+O16-O17-O18-O19","v":0},{"$f":"+P16-P17-P18-P19","v":0},null,10]
[11,"Tax Rate",null,null,0.28999999999999998,0.28999999999999998,0.35,0.28999999999999998,null,0.28999999999999998,null,0.35,"-",0.218,0.35,0.35,null,11]
[12,"Total Tax Before Adjustments   ",null," (Line 10 x 11)",{"$f":"E20*E21","v":0},{"$f":"F20*F21","v":0},{"$f":"G20*G21","v":0},{"$f":"H20*H21","v":0},null,{"$f":"J20*J21","v":0},null,{"$f":"L20*L21","v":0},{"$f":"M20","v":0},{"$f":"N20*N21","v":0},{"$f":"O20*O21","v":0},{"$f":"+P20*P21","v":0},{"$f":"SUM(E22:P22)","v":0},12]
[13,"Tax ($) Adjustments (Schedule TT-5)",null,null,{"$f":"'TT-5 Tax ($) Adjustments'!D60","v":0},{"$f":"'TT-5 Tax ($) Adjustments'!E60","v":0},{"$f":"'TT-5 Tax ($) Adjustments'!F60","v":0},{"$f":"'TT-5 Tax ($) Adjustments'!G60","v":0},null,{"$f":"'TT-5 Tax ($) Adjustments'!H60","v":0},null,{"$f":"'TT-5 Tax ($) Adjustments'!I60","v":0},{"$f":"'TT-5 Tax ($) Adjustments'!J60","v":0},{"$f":"'TT-5 Tax ($) Adjustments'!K60","v":0},{"$f":"'TT-5 Tax ($) Adjustments'!L60","v":0},{"$f":"'TT-5 Tax ($) Adjustments'!M60","v":0},{"$f":"SUM(E23:P23)","v":0},13]
[14,"Tax Payable   ",null,"(Line 12 - 13)",{"$f":"+E22-E23","v":0},{"$f":"+F22-F23","v":0},{"$f":"+G22-G23","v":0},{"$f":"+H22-H23","v":0},null,{"$f":"+J22-J23","v":0},null,{"$f":"+L22-L23","v":0},{"$f":"+M22-M23","v":0},{"$f":"+N22-N23","v":0},{"$f":"+O22-O23","v":0},{"$f":"+P22-P23","v":0},{"$f":"SUM(E24:P24)","v":0},14]
[null,"CERTIFICATION:",null,"Signing Officer",null,null,null,null,null,null,null,null,"15.  Tax Paid or Collected Adjustment (Schedule TT-5) ",null,null,null,{"$f":"+'TT-5 Tax ($) Adjustments'!N71","v":0},15]
["\n'I hereby certify that the information contained in this return is true, correct and complete and can be substantiated from the books and records of this business.",null,null,"Name",null,null,"Title / Position",null,null,null,"Telephone Number",null,"16. Total Tax Payable (Line 14-15)",null,null,null,{"$f":"SUM(Q24-Q25)","v":0},16]
[null,null,null,null,null,null,null,null,null,null,null,null,"17. Commission ",null,null,null,0,17]
[]
[null,null,null,"Signature",null,null,"Email Address",null,null,null,"Date  (YYYY-MM-DD)",null,"17. Account Balance",null,null,null,null,17]
[null,null,null,null,null,null,null,null,null,null,null,null,"18. Total Tax Remitted",null,null,null,null,18]
[null,"Note: "]
[null,"v  Untaxed Inventory includes all Saskatchewan marked products stored at locations outside of Saskatchewan, on which Saskatchewan Tobacco Tax has not yet been paid."]
[]
[]
[null,null,null,null,null,null,null,null,null,null,null,null,null,null,null,null,"Penalty and interest are applied to returns filed after the due date."]
[null,null,null,null,null,null,null,null,null,null,null,null,null,null,null,null,"If No Tax is due, a \"Nil\" return must be filed."]

{"sheet":"TT-1 Imports & Non-tax Memo ","index":13,"n_rows":129,"n_cols":20,"rows_kept":129,"cut":false,"hidden":false,"merged":[[120,15,121,15],[3,14,3,15],[3,16,3,17],[2,16,2,17],[2,14,2,15],[113,0,113,2],[114,0,114,2],[115,0,115,2],[116,0,116,2],[108,0,108,2],[109,0,109,2],[110,0,110,2],[111,0,111,2],[112,0,112,2],[103,0,103,2],[104,0,104,2],[105,0,105,2],[106,0,106,2],[107,0,107,2],[98,0,98,2],[99,0,99,2],[100,0,100,2],[101,0,101,2],[102,0,102,2],[93,0,93,2],[94,0,94,2],[95,0,95,2],[96,0,96,2],[97,0,97,2],[88,0,88,2],[89,0,89,2],[90,0,90,2],[91,0,91,2],[92,0,92,2],[83,0,83,2],[84,0,84,2],[85,0,85,2],[86,0,86,2],[87,0,87,2],[78,0,78,2],[79,0,79,2],[80,0,80,2],[81,0,81,2],[82,0,82,2],[73,0,73,2],[74,0,74,2],[75,0,75,2],[76,0,76,2],[77,0,77,2],[55,0,55,2],[56,0,56,2],[57,0,57,2],[58,0,58,2],[72,0,72,2],[67,0,67,2],[63,0,63,19],[64,0,64,19],[65,15,66,15],[68,0,68,2],[65,19,66,19],[65,5,65,7],[65,8,65,10],[65,11,65,14],[65,16,66,16],[0,0,0,18],[120,0,121,4],[122,0,122,4],[65,18,66,18],[120,18,121,18],[8,18,9,18],[1,16,1,18],[5,0,5,18],[6,0,6,18],[31,0,31,2],[32,0,32,2],[33,0,33,2],[34,0,34,2],[25,0,25,2],[27,0,27,2],[28,0,28,2],[29,0,29,2],[40,0,40,2],[41,0,41,2],[42,0,42,2],[43,0,43,2],[44,0,44,2],[35,0,35,2],[36,0,36,2],[30,0,30,2],[50,0,50,2],[51,0,51,2],[52,0,52,2],[53,0,53,2],[54,0,54,2],[45,0,45,2],[37,0,37,2],[38,0,38,2],[39,0,39,2],[16,0,16,2],[62,0,62,19],[18,0,18,2],[19,0,19,2],[20,0,20,2],[123,0,123,4],[8,11,8,14],[120,11,120,14],[120,17,121,17],[120,16,121,16],[12,0,12,2],[69,0,69,2],[71,0,71,2],[70,0,70,2],[65,17,66,17],[8,16,9,16],[46,0,46,2],[47,0,47,2],[48,0,48,2],[49,0,49,2],[26,0,26,2],[21,0,21,2],[22,0,22,2],[8,17,9,17],[8,19,9,19],[23,0,23,2],[24,0,24,2],[17,0,17,2],[8,15,9,15],[125,1,125,10],[8,4,9,4],[8,3,9,3],[8,0,9,2],[60,0,60,4],[65,0,66,2],[65,3,66,3],[65,4,66,4],[8,8,8,10],[13,0,13,2],[10,0,10,2],[14,0,14,2],[59,0,59,2],[120,5,120,7],[120,8,120,10],[117,0,117,4],[8,5,8,7],[11,0,11,2],[15,0,15,2]]}
["TT-1 Imports/Non-tax Memo Purchases"]
[null,null,null,null,null,null,null,null,null,null,null,null,null,null,"Legal Name:",null,{"$f":"IF('Tobacco Tax Return'!E3=\"\",\"\",'Tobacco Tax Return'!E3)","v":""}]
[null,null,null,null,null,null,null,null,null,null,null,null,null,null,"Account ID",null,"Federal BN",null,"For Period Ending"]
[null,null,null,null,null,null,null,null,null,null,null,null,null,null,{"$f":"IF('Tobacco Tax Return'!M3=\"\",\"\",'Tobacco Tax Return'!M3)","v":""},null,{"$f":"IF('Tobacco Tax Return'!O3=\"\",\"\",'Tobacco Tax Return'!O3)","v":""},null,{"$f":"IF('Tobacco Tax Return'!M8=\"\",\"\",'Tobacco Tax Return'!M8)","v":""}]
[]
["Part A - IMPORTS/NON-TAX MEMO PURCHASES"]
["This schedule is used to report Tobacco purchased in Saskatchewan where the SK Tobacco Tax was NOT shown on the invoice and or memo’d (i.e.  purchases from non-tax memo suppliers) AND all importations of unmarked tobacco products into Saskatchewan from a location outside SK.\n"]
[]
["Supplier/Retailer",null,null,"Invoice #","Invoice Date\n(YYYY-MM-DD)","Jurisdicitonally Marked Product",null,null,"Unmarked Product",null,null,"Cigars",null,null,null,"Heated Tobacco Products (units)","Pipe Tobacco\n(grams)","Smokeless\nTobacco (grams)","SK Tax Paid \n$"]
[null,null,null,null,null,"Cigarettes\n(units)","Tobacco Sticks \n(units)","Cut Tobacco\n(grams)","Cigarettes\n(units)","Tobacco Sticks \n(units)","Cut Tobacco\n(grams)","Taxable Price Per Cigar *","(A)\nTax Per Cigar **","(B)\nQuantity","Total Tax\n(A) X (B)"]
[null,null,null,null,null,null,null,null,null,null,null,null,null,null,{"$f":"M11*N11","v":0}]
[null,null,null,null,null,null,null,null,null,null,null,null,null,null,{"$f":"M12*N12","v":0}]
[null,null,null,null,null,null,null,null,null,null,null,null,null,null,0]
[null,null,null,null,null,null,null,null,null,null,null,null,null,null,{"$f":"M14*N14","v":0}]
[null,null,null,null,null,null,null,null,null,null,null,null,null,null,{"$f":"M15*N15","v":0}]
[null,null,null,null,null,null,null,null,null,null,null,null,null,null,{"$f":"M16*N16","v":0}]
[null,null,null,null,null,null,null,null,null,null,null,null,null,null,0]
[null,null,null,null,null,null,null,null,null,null,null,null,null,null,0]
[null,null,null,null,null,null,null,null,null,null,null,null,null,null,0]
[null,null,null,null,null,null,null,null,null,null,null,null,null,null,0]
[null,null,null,null,null,null,null,null,null,null,null,null,null,null,0]
[null,null,null,null,null,null,null,null,null,null,null,null,null,null,0]
[null,null,null,null,null,null,null,null,null,null,null,null,null,null,0]
[null,null,null,null,null,null,null,null,null,null,null,null,null,null,0]
[null,null,null,null,null,null,null,null,null,null,null,null,null,null,0]
[null,null,null,null,null,null,null,null,null,null,null,null,null,null,0]
[null,null,null,null,null,null,null,null,null,null,null,null,null,null,0]
[null,null,null,null,null,null,null,null,null,null,null,null,null,null,0]
[null,null,null,null,null,null,null,null,null,null,null,null,null,null,0]
[null,null,null,null,null,null,null,null,null,null,null,null,null,null,0]
[null,null,null,null,null,null,null,null,null,null,null,null,null,null,0]
[null,null,null,null,null,null,null,null,null,null,null,null,null,null,0]
[null,null,null,null,null,null,null,null,null,null,null,null,null,null,0]
[null,null,null,null,null,null,null,null,null,null,null,null,null,null,0]
[null,null,null,null,null,null,null,null,null,null,null,null,null,null,0]
[null,null,null,null,null,null,null,null,null,null,null,null,null,null,0]
[null,null,null,null,null,null,null,null,null,null,null,null,null,null,0]
[null,null,null,null,null,null,null,null,null,null,null,null,null,null,0]
[null,null,null,null,null,null,null,null,null,null,null,null,null,null,0]
[null,null,null,null,null,null,null,null,null,null,null,null,null,null,0]
[null,null,null,null,null,null,null,null,null,null,null,null,null,null,0]
[null,null,null,null,null,null,null,null,null,null,null,null,null,null,0]
[null,null,null,null,null,null,null,null,null,null,null,null,null,null,0]
[null,null,null,null,null,null,null,null,null,null,null,null,null,null,0]
[null,null,null,null,null,null,null,null,null,null,null,null,null,null,0]
[null,null,null,null,null,null,null,null,null,null,null,null,null,null,0]
[null,null,null,null,null,null,null,null,null,null,null,null,null,null,0]
[null,null,null,null,null,null,null,null,null,null,null,null,null,null,0]
[null,null,null,null,null,null,null,null,null,null,null,null,null,null,0]
[null,null,null,null,null,null,null,null,null,null,null,null,null,null,0]
[null,null,null,null,null,null,null,null,null,null,null,null,null,null,0]
[null,null,null,null,null,null,null,null,null,null,null,null,null,null,0]
[null,null,null,null,null,null,null,null,null,null,null,null,null,null,0]
[null,null,null,null,null,null,null,null,null,null,null,null,null,null,0]
[null,null,null,null,null,null,null,null,null,null,null,null,null,null,0]
[null,null,null,null,null,null,null,null,null,null,null,null,null,null,0]
[null,null,null,null,null,null,null,null,null,null,null,null,null,null,0]
[null,null,null,null,null,null,null,null,null,null,null,null,null,null,0]
[null,null,null,null,null,null,null,null,null,null,null,null,null,null,0]
[null,null,null,null,null,null,null,null,null,null,null,null,null,null,0]
["(A) Total Imports/Non-tax memo purchases",null,null,null,null,{"$f":"SUM(F11:F60)","v":0},0,0,0,0,0,null,null,null,{"$f":"SUM(O11:O60)","v":0},{"$f":"SUM(P11:P60)","v":0},{"$f":"SUM(Q11:Q60)","v":0},{"$f":"SUM(R11:R60)","v":0},{"$f":"SUM(S11:S60)","v":0}]
[]
["Part B - Imports/Non-Tax Memo Purchase Adjustments"]
["Enter the non-tax memo adjustments in date order starting with the oldest invoice date.  Examples of allowable adjustments include products received in a current period but invoiced in a prior or subsequent period.  Incorrect billings and products returned to the supplier.  \nEach adjustment must be accompanied by an explanation.  Ensure that you retain all supporting documentation (e.g. original invoices and bills of lading) for audit purposes."]
[]
["Supplier/Retailer",null,null,"Invoice #","Invoice Date\n(YYYY-MM-DD)","Jurisdicitonally Marked Product",null,null,"Unmarked Product",null,null,"Cigars",null,null,null,"Heated Tobacco Products (units)","Pipe Tobacco\n(grams)","Smokeless\nTobacco (grams)","SK Tax Paid \n$","Adjustment\nReason"]
[null,null,null,null,null,"Cigarettes\n(units)","Tobacco Sticks \n(units)","Cut Tobacco\n(grams)","Cigarettes\n(units)","Tobacco Sticks \n(units)","Cut Tobacco\n(grams)","Taxable Price Per Cigar *","(A)\nTax Per Cigar **","(B)\nQuantity","Total Tax\n(A) X (B)"]
[null,null,null,null,null,null,null,null,null,null,null,null,null,null,{"$f":"+M68*N68","v":0}]
[null,null,null,null,null,null,null,null,null,null,null,null,null,null,0]
[null,null,null,null,null,null,null,null,null,null,null,null,null,null,0]
[null,null,null,null,null,null,null,null,null,null,null,null,null,null,0]
[null,null,null,null,null,null,null,null,null,null,null,null,null,null,0]
[null,null,null,null,null,null,null,null,null,null,null,null,null,null,0]
[null,null,null,null,null,null,null,null,null,null,null,null,null,null,0]
[null,null,null,null,null,null,null,null,null,null,null,null,null,null,0]
[null,null,null,null,null,null,null,null,null,null,null,null,null,null,0]
[null,null,null,null,null,null,null,null,null,null,null,null,null,null,0]
[null,null,null,null,null,null,null,null,null,null,null,null,null,null,0]
[null,null,null,null,null,null,null,null,null,null,null,null,null,null,0]
[null,null,null,null,null,null,null,null,null,null,null,null,null,null,0]
[null,null,null,null,null,null,null,null,null,null,null,null,null,null,0]
[null,null,null,null,null,null,null,null,null,null,null,null,null,null,0]
[null,null,null,null,null,null,null,null,null,null,null,null,null,null,0]
[null,null,null,null,null,null,null,null,null,null,null,null,null,null,0]
[null,null,null,null,null,null,null,null,null,null,null,null,null,null,0]
[null,null,null,null,null,null,null,null,null,null,null,null,null,null,0]
[null,null,null,null,null,null,null,null,null,null,null,null,null,null,0]
[null,null,null,null,null,null,null,null,null,null,null,null,null,null,0]
[null,null,null,null,null,null,null,null,null,null,null,null,null,null,0]
[null,null,null,null,null,null,null,null,null,null,null,null,null,null,0]
[null,null,null,null,null,null,null,null,null,null,null,null,null,null,0]
[null,null,null,null,null,null,null,null,null,null,null,null,null,null,0]
[null,null,null,null,null,null,null,null,null,null,null,null,null,null,0]
[null,null,null,null,null,null,null,null,null,null,null,null,null,null,0]
[null,null,null,null,null,null,null,null,null,null,null,null,null,null,0]
[null,null,null,null,null,null,null,null,null,null,null,null,null,null,0]
[null,null,null,null,null,null,null,null,null,null,null,null,null,null,0]
[null,null,null,null,null,null,null,null,null,null,null,null,null,null,0]
[null,null,null,null,null,null,null,null,null,null,null,null,null,null,0]
[null,null,null,null,null,null,null,null,null,null,null,null,null,null,0]
[null,null,null,null,null,null,null,null,null,null,null,null,null,null,0]
[null,null,null,null,null,null,null,null,null,null,null,null,null,null,0]
[null,null,null,null,null,null,null,null,null,null,null,null,null,null,0]
[null,null,null,null,null,null,null,null,null,null,null,null,null,null,0]
[null,null,null,null,null,null,null,null,null,null,null,null,null,null,0]
[null,null,null,null,null,null,null,null,null,null,null,null,null,null,0]
[null,null,null,null,null,null,null,null,null,null,null,null,null,null,0]
[null,null,null,null,null,null,null,null,null,null,null,null,null,null,0]
[null,null,null,null,null,null,null,null,null,null,null,null,null,null,0]
[null,null,null,null,null,null,null,null,null,null,null,null,null,null,0]
[null,null,null,null,null,null,null,null,null,null,null,null,null,null,0]
[null,null,null,null,null,null,null,null,null,null,null,null,null,null,0]
[null,null,null,null,null,null,null,null,null,null,null,null,null,null,0]
[null,null,null,null,null,null,null,null,null,null,null,null,null,null,0]
[null,null,null,null,null,null,null,null,null,null,null,null,null,null,0]
[null,null,null,null,null,null,null,null,null,null,null,null,null,null,0]
[null,null,null,null,null,null,null,null,null,null,null,null,null,null,0]
["(B) Total Imports / Non-tax memo adjustments ",null,null,null,null,{"$f":"SUM(F68:F117)","v":0},0,0,0,0,0,null,null,null,{"$f":"SUM(O68:O117)","v":0},{"$f":"SUM(P68:P117)","v":0},{"$f":"SUM(Q68:Q117)","v":0},{"$f":"SUM(R68:R117)","v":0},{"$f":"SUM(S68:S117)","v":0}]
[]
[]
[null,null,null,null,null,"Jurisdicitonally Marked Product",null,null,"Unmarked Product",null,null,"Cigars",null,null,null,"Heated Tobacco Products (units)","Pipe Tobacco\n(grams)","Smokeless\nTobacco (grams)","SK Tax Paid\n$"]
[null,null,null,null,null,"Cigarettes\n(units)","Tobacco Sticks \n(units)","Cut Tobacco\n(grams)","Cigarettes\n(units)","Tobacco Sticks \n(units)","Cut Tobacco\n(grams)","Taxable Price Per Cigar *","(A)\nTax Per Cigar **","(B)\nQuantity","Total Tax\n(A) X (B)"]
["Net Imports / Non-tax memo purchases (A-B)",null,null,null,null,{"$f":"+F61-F118","v":0},0,0,0,0,0,null,null,null,{"$f":"+O61-O118","v":0},{"$f":"+P61-P118","v":0},{"$f":"+Q61-Q118","v":0},{"$f":"+R61-R118","v":0},{"$f":"+S61-S118","v":0}]
["To Tobacco Tax Return Line 3",null,null,null,null,"column A","column B","column C","column D","column E","column F",null,null,null,"column G","column H","column I","column J","To TT-5"]
[]
["*","Taxable price for Canadian Manufactured Cigars = 1.3 x manufacturer's selling price before any volume discount.\nTaxable price for Imported Cigars = 1.3 x importer's selling price before any volume discount."]
["**","Cigars \"Taxable price 34 cents or less\" :    Tax amount = $0.35"]
[null,"Cigars \"Taxable price 35 cents to $5.00\":  Tax amount = Taxable Price per Cigar"]
[null,"Cigars \" Taxable price over $5.00\":              Tax amount = $5.00"]

{"sheet":"TT-2 Tax Memo Purchases","index":14,"n_rows":76,"n_cols":16,"rows_kept":76,"cut":false,"hidden":false,"merged":[[17,2,18,2],[17,1,18,1],[0,0,0,15],[10,15,12,15],[17,0,18,0],[12,0,12,2],[17,14,18,14],[17,15,18,15],[2,9,2,11],[3,9,3,11],[10,11,11,11],[10,12,11,12],[10,6,10,8],[10,14,11,14],[10,9,11,9],[1,11,1,15],[10,10,11,10],[17,10,18,10],[72,13,73,13],[17,3,17,5],[17,6,17,8],[17,9,18,9],[17,11,18,11],[17,12,18,12],[17,13,18,13],[72,3,72,5],[72,6,72,8],[72,9,73,9],[72,11,73,11],[72,12,73,12],[72,10,73,10],[75,0,75,2],[8,0,8,15],[9,0,9,15],[72,14,73,14],[2,12,2,13],[3,12,3,13],[2,14,2,15],[3,14,3,15],[5,0,5,15],[6,0,6,15],[15,0,15,15],[71,0,71,15],[14,0,14,14],[10,13,11,13],[10,3,10,5],[74,0,74,2]]}
["TT-2 Tax Memo Purchases"]
[null,null,null,null,null,null,null,null,null,"Legal Name:",null,{"$f":"IF('Tobacco Tax Return'!E3=\"\",\"\",'Tobacco Tax Return'!E3)","v":""}]
[null,null,null,null,null,null,null,null,null,"Account ID",null,null,"Federal BN",null,"For Period Ending"]
[null,null,null,null,null,null,null,null,null,{"$f":"IF('Tobacco Tax Return'!M3=\"\",\"\",'Tobacco Tax Return'!M3)","v":""},null,null,{"$f":"IF('Tobacco Tax Return'!O3=\"\",\"\",'Tobacco Tax Return'!O3)","v":""},null,{"$f":"IF('Tobacco Tax Return'!M8=\"\",\"\",'Tobacco Tax Return'!M8)","v":""}]
[]
["TAX MEMO PURCHASES"]
["This schedule is to be completed by tobacco tax collectors to report purchases of taxable tobacco products from tax memo suppliers and to report any necessary adjustments to purchases.  \nIf more space is required for adjustments, use additional schedules."]
[]
["Part A - Total Tax Memo Amounts"]
[]
[null,null,null,"Jurisdicitonally Marked Product",null,null,"Unmarked Product",null,null,"Cigars\n($ Tax Amount)","Heated Tobacco Products (unit)","Pipe Tobacco\n(grams)","Smokeless\nTobacco (grams)","Tax Memo Amount ($)","Tax Paid Amount ($)"]
[null,null,null,"Cigarettes\n(units)","Tobacco Sticks \n(units)","Cut Tobacco\n(grams)","Cigarettes\n(units)","Tobacco Sticks \n(units)","Cut Tobacco\n(grams)"]
["(A) Total From Tax Memo Report:"]
[]
["Part B - Adjustments"]
["Enter the tax memo adjustments in date order starting with the oldest invoice date.  Examples of allowable adjustments include products received in a current period but invoiced in a prior or subsequent period.  \nIncorrect billings and products returned to the supplier.  Each adjustment must be accompanied by an explanation.  \nEnsure that you retain all supporting documentation (e.g. original invoices and bills of lading) for audit purposes."]
[]
["Supplier\n(SK Account ID - 7 digit number)","Invoice #","Invoice Date\n(YYYY-MM-DD)","Jurisdicitonally Marked Product",null,null,"Unmarked Product",null,null,"Cigars\n($ Tax Amount)","Heated Tobacco Products (unit)","Pipe Tobacco\n(grams)","Smokeless\nTobacco (grams)","Tax Memo Amount ($)","Tax Paid Amount ($)","Adjustment\nReason\n(select from listing)"]
[null,null,null,"Cigarettes\n(units)","Tobacco Sticks \n(units)","Cut Tobacco\n(grams)","Cigarettes\n(units)","Tobacco Sticks \n(units)","Cut Tobacco\n(grams)"]
[]
[]
[]
[]
[]
[]
[]
[]
[]
[]
[]
[]
[]
[]
[]
[]
[]
[]
[]
[]
[]
[]
[]
[]
[]
[]
[]
[]
[]
[]
[]
[]
[]
[]
[]
[]
[]
[]
[]
[]
[]
[]
[]
[]
[]
[]
[]
[]
[]
[]
[null,null,"(B) Total Adjustments to Tax Memos",{"$f":"SUM(D20:D69)*-1","v":0},0,0,0,0,0,0,{"$f":"SUM(K20:K69)*-1","v":0},0,0,0,0]
[]
["Part C - Net Tax from Tax Memo Purchases"]
[null,null,null,"Jurisdicitonally Marked Product",null,null,"Unmarked Product",null,null,"Cigars\n($ Tax Amount)","Heated Tobacco Products (units)","Pipe Tobacco\n(grams)","Smokeless\nTobacco (grams)","Tax Memo Amount ($)","Tax Paid Amount ($)"]
[null,null,null,"Cigarettes\n(units)","Tobacco Sticks \n(units)","Cut Tobacco\n(grams)","Cigarettes\n(units)","Tobacco Sticks \n(units)","Cut Tobacco\n(grams)"]
["(C) Net Tax Memo Purchases (A-B)",null,null,{"$f":"+D13+D70","v":0},0,0,0,0,0,0,{"$f":"+K13+K70","v":0},0,0,0,{"$f":"+O13+O70","v":0}]
["To Tobacco Tax Return Line 4",null,null,"column A","column B","column C","column D","column E","column F","column G","column H","column I","column J",null,"To TT-5"]

{"sheet":"TT-3 Exports","index":15,"n_rows":69,"n_cols":19,"rows_kept":69,"cut":false,"hidden":false,"merged":[[8,15,9,15],[44,0,44,2],[45,0,45,2],[51,0,51,2],[46,0,46,2],[47,0,47,2],[48,0,48,2],[49,0,49,2],[50,0,50,2],[39,0,39,2],[40,0,40,2],[41,0,41,2],[42,0,42,2],[43,0,43,2],[34,0,34,2],[35,0,35,2],[36,0,36,2],[37,0,37,2],[38,0,38,2],[29,0,29,2],[30,0,30,2],[31,0,31,2],[32,0,32,2],[33,0,33,2],[0,0,0,18],[60,0,60,4],[1,13,1,18],[8,11,8,14],[8,4,9,4],[8,3,9,3],[8,0,9,2],[8,8,8,10],[55,0,55,2],[56,0,56,2],[16,0,16,2],[12,0,12,2],[13,0,13,2],[14,0,14,2],[15,0,15,2],[17,0,17,2],[61,0,61,4],[8,18,9,18],[5,0,5,18],[2,17,2,18],[3,17,3,18],[2,14,2,16],[7,0,7,18],[8,17,9,17],[8,16,9,16],[3,14,3,16],[2,12,2,13],[3,12,3,13],[8,5,8,7],[10,0,10,2],[11,0,11,2],[54,0,54,2],[59,0,59,2],[18,0,18,2],[52,0,52,2],[53,0,53,2],[57,0,57,2],[58,0,58,2],[19,0,19,2],[20,0,20,2],[21,0,21,2],[22,0,22,2],[23,0,23,2],[24,0,24,2],[25,0,25,2],[26,0,26,2],[27,0,27,2],[28,0,28,2]]}
["TT-3 Exports Out of Saskatchewan"]
[null,null,null,null,null,null,null,null,null,null,null,null,"Legal Name:",{"$f":"IF('Tobacco Tax Return'!E3=\"\",\"\",'Tobacco Tax Return'!E3)","v":""}]
[null,null,null,null,null,null,null,null,null,null,null,null,"Account ID",null,"Federal BN",null,null,"For Period Ending"]
[null,null,null,null,null,null,null,null,null,null,null,null,{"$f":"IF('Tobacco Tax Return'!M3=\"\",\"\",'Tobacco Tax Return'!M3)","v":""},null,{"$f":"IF('Tobacco Tax Return'!O3=\"\",\"\",'Tobacco Tax Return'!O3)","v":""},null,null,{"$f":"IF('Tobacco Tax Return'!M8=\"\",\"\",'Tobacco Tax Return'!M8)","v":""}]
[]
["Exports Out of Saskatchewan"]
[]
["This schedule is to be completed by tobacco tax collectors to report sales of Saskatchewan marked and all unmarked tobacco products out-of-province.  Ensure that you retain all supporting documentation for audit purposes.  Use additional schedules if more space is required. "]
["Purchasers Name, City and Province",null,null,"Invoice #","Invoice Date\n(YYYY-MM-DD)","Jurisdicitonally Marked Product",null,null,"Unmarked Product",null,null,"Cigars",null,null,null,"Heated Tobacco Products (units)","Pipe Tobacco\n(grams)","Smokeless\nTobacco (grams)","Tax Collected Amounts ($)"]
[null,null,null,null,null,"Cigarettes\n(units)","Tobacco Sticks \n(units)","Cut Tobacco\n(grams)","Cigarettes\n(units)","Tobacco Sticks \n(units)","Cut Tobacco\n(grams)","Taxable Price Per Cigar *","(A)\nTax Per Cigar **","(B)\nQuantity","Total Tax\n(A) X (B)"]
[null,null,null,null,null,null,null,null,null,null,null,null,null,null,{"$f":"M11*N11","v":0}]
[null,null,null,null,null,null,null,null,null,null,null,null,null,null,{"$f":"M12*N12","v":0}]
[null,null,null,null,null,null,null,null,null,null,null,null,null,null,0]
[null,null,null,null,null,null,null,null,null,null,null,null,null,null,{"$f":"M14*N14","v":0}]
[null,null,null,null,null,null,null,null,null,null,null,null,null,null,0]
[null,null,null,null,null,null,null,null,null,null,null,null,null,null,{"$f":"M16*N16","v":0}]
[null,null,null,null,null,null,null,null,null,null,null,null,null,null,0]
[null,null,null,null,null,null,null,null,null,null,null,null,null,null,0]
[null,null,null,null,null,null,null,null,null,null,null,null,null,null,0]
[null,null,null,null,null,null,null,null,null,null,null,null,null,null,0]
[null,null,null,null,null,null,null,null,null,null,null,null,null,null,0]
[null,null,null,null,null,null,null,null,null,null,null,null,null,null,0]
[null,null,null,null,null,null,null,null,null,null,null,null,null,null,0]
[null,null,null,null,null,null,null,null,null,null,null,null,null,null,0]
[null,null,null,null,null,null,null,null,null,null,null,null,null,null,0]
[null,null,null,null,null,null,null,null,null,null,null,null,null,null,0]
[null,null,null,null,null,null,null,null,null,null,null,null,null,null,0]
[null,null,null,null,null,null,null,null,null,null,null,null,null,null,0]
[null,null,null,null,null,null,null,null,null,null,null,null,null,null,0]
[null,null,null,null,null,null,null,null,null,null,null,null,null,null,0]
[null,null,null,null,null,null,null,null,null,null,null,null,null,null,0]
[null,null,null,null,null,null,null,null,null,null,null,null,null,null,0]
[null,null,null,null,null,null,null,null,null,null,null,null,null,null,0]
[null,null,null,null,null,null,null,null,null,null,null,null,null,null,0]
[null,null,null,null,null,null,null,null,null,null,null,null,null,null,0]
[null,null,null,null,null,null,null,null,null,null,null,null,null,null,0]
[null,null,null,null,null,null,null,null,null,null,null,null,null,null,0]
[null,null,null,null,null,null,null,null,null,null,null,null,null,null,0]
[null,null,null,null,null,null,null,null,null,null,null,null,null,null,0]
[null,null,null,null,null,null,null,null,null,null,null,null,null,null,0]
[null,null,null,null,null,null,null,null,null,null,null,null,null,null,0]
[null,null,null,null,null,null,null,null,null,null,null,null,null,null,0]
[null,null,null,null,null,null,null,null,null,null,null,null,null,null,0]
[null,null,null,null,null,null,null,null,null,null,null,null,null,null,0]
[null,null,null,null,null,null,null,null,null,null,null,null,null,null,0]
[null,null,null,null,null,null,null,null,null,null,null,null,null,null,0]
[null,null,null,null,null,null,null,null,null,null,null,null,null,null,0]
[null,null,null,null,null,null,null,null,null,null,null,null,null,null,0]
[null,null,null,null,null,null,null,null,null,null,null,null,null,null,0]
[null,null,null,null,null,null,null,null,null,null,null,null,null,null,0]
[null,null,null,null,null,null,null,null,null,null,null,null,null,null,0]
[null,null,null,null,null,null,null,null,null,null,null,null,null,null,0]
[null,null,null,null,null,null,null,null,null,null,null,null,null,null,0]
[null,null,null,null,null,null,null,null,null,null,null,null,null,null,0]
[null,null,null,null,null,null,null,null,null,null,null,null,null,null,0]
[null,null,null,null,null,null,null,null,null,null,null,null,null,null,0]
[null,null,null,null,null,null,null,null,null,null,null,null,null,null,0]
[null,null,null,null,null,null,null,null,null,null,null,null,null,null,0]
[null,null,null,null,null,null,null,null,null,null,null,null,null,null,0]
[null,null,null,null,null,null,null,null,null,null,null,null,null,null,0]
["Total Export Sales Out of Saskatchewan  ",null,null,null,null,{"$f":"SUM(F11:F60)","v":0},0,0,0,0,0,null,null,null,{"$f":"SUM(O11:O60)","v":0},{"$f":"SUM(P11:P60)","v":0},{"$f":"SUM(Q11:Q60)","v":0},{"$f":"SUM(R11:R60)","v":0},{"$f":"SUM(S11:S60)","v":0}]
["To Tobacco Tax Return Line 7",null,null,null,null,"column A","column B","column C","column D","column E","column F",null,null,null,"column G","column H","column I","column J","To TT-5"]
[]
["*","Taxable price for Canadian Manufactured Cigars = 1.3 x manufacture's selling price before any volume discount."]
[null,"Taxable price for Imported Cigars = 1.3 x importer's selling price before any volume discount."]
[]
["**","Cigars \"Taxable price 34 cents or less\" :    Tax amount = $0.35"]
[null,"Cigars \"Taxable price 35 cents to $5.00\":  Tax amount = Taxable Price per Cigar"]
[null,"Cigars \" Taxable price over $5.00\":              Tax amount = $5.00"]

{"sheet":"TT-4  Tax Memo Sales","index":16,"n_rows":11,"n_cols":17,"rows_kept":11,"cut":false,"hidden":false,"merged":[[0,0,0,15],[7,11,8,11],[1,11,1,15],[2,10,2,11],[2,12,2,13],[3,10,3,11],[3,12,3,13],[7,12,8,12],[5,0,5,16],[6,0,6,16],[10,0,10,4],[7,15,8,15],[7,16,8,16],[2,14,2,15],[3,14,3,15],[7,5,7,7],[7,8,7,10],[7,13,8,13],[7,14,8,14],[9,0,9,4]]}
["TT-4 Tax Memo Sales"]
[null,null,null,null,null,null,null,null,null,null,"Legal Name:",{"$f":"IF('Tobacco Tax Return'!E3=\"\",\"\",'Tobacco Tax Return'!E3)","v":""}]
[null,null,null,null,null,null,null,null,null,null,"Account ID",null,"Federal BN",null,"For Period Ending"]
[null,null,null,null,null,null,null,null,null,null,{"$f":"IF('Tobacco Tax Return'!M3=\"\",\"\",'Tobacco Tax Return'!M3)","v":""},null,{"$f":"IF('Tobacco Tax Return'!O3=\"\",\"\",'Tobacco Tax Return'!O3)","v":""},null,{"$f":"IF('Tobacco Tax Return'!M8=\"\",\"\",'Tobacco Tax Return'!M8)","v":""}]
[]
["Tax Memo Sales to Other Collectors"]
["This schedule is to be completed by tobacco tax collectors to report tax memo sales of Saskatchewan marked and all unmarked tobacco products to other collectors in Saskatchewan."]
[null,null,null,null,null,"Jurisdicitonally Marked Product",null,null,"Unmarked Product",null,null,"Cigars Total Tax Memo'd \n($)","Heated Tobacco Products (units)","Pipe Tobacco\n(grams)","Smokeless\nTobacco (grams)","Tax Memo Amount ($)","Tax Collected Amount ($)"]
[null,null,null,null,null,"Cigarettes\n(units)","Tobacco Sticks \n(units)","Cut Tobacco\n(grams)","Cigarettes\n(units)","Tobacco Sticks \n(units)","Cut Tobacco\n(grams)"]
["Total Tax Memo'd Sales to Other Collectors as Reported to SK Finance on Schedule  TT-TM"]
["To Tobacco Tax Return Line 8",null,null,null,null,"column A","column B","column C","column D","column E","column F","column G","column H","column I","column J",null,"To TT-5"]

{"sheet":"TT-5 Tax ($) Adjustments","index":17,"n_rows":72,"n_cols":15,"rows_kept":72,"cut":false,"hidden":false,"merged":[[7,14,8,14],[7,10,8,10],[0,0,0,13],[5,0,5,13],[67,0,67,2],[68,0,68,2],[7,2,8,2],[7,3,7,5],[66,0,66,2],[7,6,7,8],[7,9,8,9],[1,10,1,13],[2,9,2,10],[3,9,3,10],[2,11,2,12],[3,11,3,12],[62,0,62,14],[6,0,6,13],[71,0,71,12],[64,9,65,9],[64,6,64,8],[7,11,8,11],[7,12,8,12],[64,3,64,5],[64,11,65,11],[64,12,65,12],[63,0,63,14],[64,10,65,10],[69,0,69,2],[70,0,70,2],[7,0,8,0],[7,1,8,1],[7,13,8,13],[64,13,65,13]]}
["TT-5 Tax ($) Adjustments"]
[null,null,null,null,null,null,null,null,null,"Legal Name:",{"$f":"IF('Tobacco Tax Return'!E3=\"\",\"\",'Tobacco Tax Return'!E3)","v":""}]
[null,null,null,null,null,null,null,null,null,"Account ID",null,"Federal BN",null,"For Period Ending"]
[null,null,null,null,null,null,null,null,null,{"$f":"IF('Tobacco Tax Return'!M3=\"\",\"\",'Tobacco Tax Return'!M3)","v":""},null,{"$f":"IF('Tobacco Tax Return'!O3=\"\",\"\",'Tobacco Tax Return'!O3)","v":""},null,{"$f":"'Tobacco Tax Return'!O5","v":""}]
[]
["Part A - Dollar Adjustments"]
["Enter the dollar adjustments in date order starting with the oldest invoice date.  Details for the adjustment must be included."]
["Supplier","Invoice #","Invoice Date\n(YYYY-MM-DD)","Jurisdicitonally Marked Product",null,null,"Unmarked Product",null,null,"Cigars\n($)","Heated Tobacco Products ($)","Pipe Tobacco\n($)","Smokeless\nTobacco\n ($)","Total Adjustments ","Adjustment\nReason"]
[null,null,null,"Cigarettes\n($)","Tobacco Sticks \n($)","Cut Tobacco\n($)","Cigarettes\n($)","Tobacco Sticks \n($)","Cut Tobacco\n($)"]
[null,null,null,null,null,null,null,null,null,null,null,null,null,{"$f":"SUM(D10:M10)","v":0}]
[null,null,null,null,null,null,null,null,null,null,null,null,null,0]
[null,null,null,null,null,null,null,null,null,null,null,null,null,0]
[null,null,null,null,null,null,null,null,null,null,null,null,null,0]
[null,null,null,null,null,null,null,null,null,null,null,null,null,0]
[null,null,null,null,null,null,null,null,null,null,null,null,null,0]
[null,null,null,null,null,null,null,null,null,null,null,null,null,0]
[null,null,null,null,null,null,null,null,null,null,null,null,null,0]
[null,null,null,null,null,null,null,null,null,null,null,null,null,0]
[null,null,null,null,null,null,null,null,null,null,null,null,null,0]
[null,null,null,null,null,null,null,null,null,null,null,null,null,0]
[null,null,null,null,null,null,null,null,null,null,null,null,null,0]
[null,null,null,null,null,null,null,null,null,null,null,null,null,0]
[null,null,null,null,null,null,null,null,null,null,null,null,null,0]
[null,null,null,null,null,null,null,null,null,null,null,null,null,0]
[null,null,null,null,null,null,null,null,null,null,null,null,null,0]
[null,null,null,null,null,null,null,null,null,null,null,null,null,0]
[null,null,null,null,null,null,null,null,null,null,null,null,null,0]
[null,null,null,null,null,null,null,null,null,null,null,null,null,0]
[null,null,null,null,null,null,null,null,null,null,null,null,null,0]
[null,null,null,null,null,null,null,null,null,null,null,null,null,0]
[null,null,null,null,null,null,null,null,null,null,null,null,null,0]
[null,null,null,null,null,null,null,null,null,null,null,null,null,0]
[null,null,null,null,null,null,null,null,null,null,null,null,null,0]
[null,null,null,null,null,null,null,null,null,null,null,null,null,0]
[null,null,null,null,null,null,null,null,null,null,null,null,null,0]
[null,null,null,null,null,null,null,null,null,null,null,null,null,0]
[null,null,null,null,null,null,null,null,null,null,null,null,null,0]
[null,null,null,null,null,null,null,null,null,null,null,null,null,0]
[null,null,null,null,null,null,null,null,null,null,null,null,null,0]
[null,null,null,null,null,null,null,null,null,null,null,null,null,0]
[null,null,null,null,null,null,null,null,null,null,null,null,null,0]
[null,null,null,null,null,null,null,null,null,null,null,null,null,{"$f":"SUM(D42:M42)","v":0}]
[null,null,null,null,null,null,null,null,null,null,null,null,null,0]
[null,null,null,null,null,null,null,null,null,null,null,null,null,0]
[null,null,null,null,null,null,null,null,null,null,null,null,null,0]
[null,null,null,null,null,null,null,null,null,null,null,null,null,0]
[null,null,null,null,null,null,null,null,null,null,null,null,null,0]
[null,null,null,null,null,null,null,null,null,null,null,null,null,0]
[null,null,null,null,null,null,null,null,null,null,null,null,null,0]
[null,null,null,null,null,null,null,null,null,null,null,null,null,0]
[null,null,null,null,null,null,null,null,null,null,null,null,null,0]
[null,null,null,null,null,null,null,null,null,null,null,null,null,0]
[null,null,null,null,null,null,null,null,null,null,null,null,null,0]
[null,null,null,null,null,null,null,null,null,null,null,null,null,0]
[null,null,null,null,null,null,null,null,null,null,null,null,null,0]
[null,null,null,null,null,null,null,null,null,null,null,null,null,0]
[null,null,null,null,null,null,null,null,null,null,null,null,null,0]
[null,null,null,null,null,null,null,null,null,null,null,null,null,0]
[null,null,null,null,null,null,null,null,null,null,null,null,null,0]
[null,null,"Total Dollar Adjustments",{"$f":"SUM(D10:D59)","v":0},0,0,0,0,0,0,0,0,0,0]
[null,null," To Tobacco Tax Return Line 13:","column A","column B","column C","column D","column E","column F","column G","column H","column I","column J","column K"]
[]
["Part B - Tobacco Tax Paid or Collected"]
["These amounts are brought forward from schedules TT-1, TT-2, TT-3 and TT-4"]
[null,null,null,"Jurisdicitonally Marked Product",null,null,"Unmarked Product",null,null,"Cigars\n($)","Heated Tobacco Products ($)","Pipe Tobacco\n($)","Smokeless Tobacco \n($)","Total Tax Paid or Collected \n($)"]
[null,null,null,"Cigarettes\n($)","Tobacco Sticks \n($)","Cut Tobacco\n($)","Cigarettes\n($)","Tobacco Sticks \n($)","Cut Tobacco\n($)"]
["1. Tax Paid Amounts from TT-1 ",null,null,null,null,null,null,null,null,null,null,null,null,{"$f":"'TT-1 Imports & Non-tax Memo '!S123","v":0}]
["2. Tax Paid Amounts from TT-2 ",null,null,null,null,null,null,null,null,null,null,null,null,{"$f":"'TT-2 Tax Memo Purchases'!O75","v":0}]
["3. Tax Collected Amounts from TT-3 ",null,null,null,null,null,null,null,null,null,null,null,null,{"$f":"'TT-3 Exports'!S61","v":0}]
["4. Tax Collected Amounts from TT-4 ",null,null,null,null,null,null,null,null,null,null,null,null,{"$f":"'TT-4  Tax Memo Sales'!Q10","v":0}]
["Total Tax Paid or Collected (Line 1+2-3-4)",null,null,null,null,null,null,null,null,null,null,null,null,{"$f":"SUM(+N67+N68-N69-N70)","v":0}]
["To Tobacco Tax Return Line 15, Column J"]

{"sheet":"Instruction Guide","index":18,"n_rows":228,"n_cols":5,"rows_kept":228,"cut":false,"hidden":false,"merged":[[19,0,19,1],[11,0,11,1],[9,0,9,1],[5,0,5,1],[227,0,227,1],[40,0,40,1]]}
[null,null,null,"Note: Remove fax # from header"]
[null,null,null,"Version:","v0004"]
[null,null,null,"Last Updated:","2021-04-01"]
[]
[]
[]
[]
[]
[]
[]
[]
[]
[]
[]
[]
[]
[]
[]
[]
[]
[]
[]
[]
[]
[]
[]
[]
[]
[]
[]
[]
[]
[]
[]
[]
[]
[]
[]
[]
[]
[]
[]
[]
[]
[]
[]
[]
[]
[]
[]
[]
[]
[]
[]
[]
[]
[]
[]
[]
[]
[]
[]
[]
[]
[]
[]
[]
[]
[]
[]
[]
[]
[]
[]
[]
[]
[]
[]
[]
[]
[]
[]
[]
[]
[]
[]
[]
[]
[]
[]
[]
[]
[]
[]
[]
[]
[]
[]
[]
[]
[]
[]
[]
[]
[]
[]
[]
[]
[]
[]
[]
[]
[]
[]
[]
[]
[]
[]
[]
[]
[]
[]
[]
[]
[]
[]
[]
[]
[]
[]
[]
[]
[]
[]
[]
[]
[]
[]
[]
[]
[]
[]
[]
[]
[]
[]
[]
[]
[]
[]
[]
[]
[]
[]
[]
[]
[]
[]
[]
[]
[]
[]
[]
[]
[]
[]
[]
[]
[]
[]
[]
[]
[]
[]
[]
[]
[]
[]
[]
[]
[]
[]
[]
[]
[]
[]
[]
[]
[]
[]
[]
[]
[]
[]
[]
[]
[]
[]
[]
[]
[]
[]
[]
[]
[]
[]
[]
[]
[]
[]
[]
[]
[]
[]
[]
[]
[]
[]
[]
[]
[]
[]
[]
[]
[]
[]
[]
["Part Four - Upload File Instructions"]